BEGIN:VCALENDAR
VERSION:2.0
PRODID:-//forum vergabe - ECPv6.15.18//NONSGML v1.0//EN
CALSCALE:GREGORIAN
METHOD:PUBLISH
X-WR-CALNAME:forum vergabe
X-ORIGINAL-URL:https://forum-vergabe.de
X-WR-CALDESC:Veranstaltungen für forum vergabe
REFRESH-INTERVAL;VALUE=DURATION:PT1H
X-Robots-Tag:noindex
X-PUBLISHED-TTL:PT1H
BEGIN:VTIMEZONE
TZID:Europe/Berlin
BEGIN:DAYLIGHT
TZOFFSETFROM:+0100
TZOFFSETTO:+0200
TZNAME:CEST
DTSTART:20240331T010000
END:DAYLIGHT
BEGIN:STANDARD
TZOFFSETFROM:+0200
TZOFFSETTO:+0100
TZNAME:CET
DTSTART:20241027T010000
END:STANDARD
BEGIN:DAYLIGHT
TZOFFSETFROM:+0100
TZOFFSETTO:+0200
TZNAME:CEST
DTSTART:20250330T010000
END:DAYLIGHT
BEGIN:STANDARD
TZOFFSETFROM:+0200
TZOFFSETTO:+0100
TZNAME:CET
DTSTART:20251026T010000
END:STANDARD
BEGIN:DAYLIGHT
TZOFFSETFROM:+0100
TZOFFSETTO:+0200
TZNAME:CEST
DTSTART:20260329T010000
END:DAYLIGHT
BEGIN:STANDARD
TZOFFSETFROM:+0200
TZOFFSETTO:+0100
TZNAME:CET
DTSTART:20261025T010000
END:STANDARD
END:VTIMEZONE
BEGIN:VEVENT
DTSTART;TZID=Europe/Berlin:20251203T160000
DTEND;TZID=Europe/Berlin:20251203T190000
DTSTAMP:20260425T043241
CREATED:20251007T031858Z
LAST-MODIFIED:20251215T102329Z
UID:10000316-1764777600-1764788400@forum-vergabe.de
SUMMARY:Gesprächskreis Verteidigung und Sicherheit - Dezember 2025 (München)
DESCRIPTION:Einladung:\n\n\n\n-AUSGEBUCHT- \n\n\n\nSehr geehrte Damen und Herren\, \n\n\n\nWir möchten Sie herzlich zum nächsten Gesprächskreis Verteidigung und Sicherheit einladen\, am \n\n\n\n3. Dezember 2025 von 16:00-19:00 Uhr in MünchenOrt: Airbus Defence and Space GmbHWilliy-Messerschmidt-Straße 1\, 82024 Taufkirchen / München \n\n\n\n. \n\n\n\nBitte für den Einlass in das Gebäude unbedingt den Personal-Ausweis mitbringen! \n\n\n\nDieser Gesprächskreis wird geleitet von Rechtsanwalt Prof. Dr. Höfler (PWC Legal) und Rechtsanwalt Dr. Stein (BLOMSTEIN Rechtsanwälte). \n\n\n\n \n\n\n\nProgramm / Ablauf:\n\n\n\n16:00 Uhr – Begrüßung\, Grußwort und EinführungRechtsanwalt Dr. Roland M. Stein\, LL.M. Eur.\, BLOMSTEIN Part mbB \n\n\n\n16:30-19:00 Uhr –  IMPULSVORTRÄGE und DISKUSSION \n\n\n\nNeues vom EU-Rüstungsmarkt und Auswirkungen auf die IndustrieDr. Dominik EisenhutAirbus Defence and Space GmbH \n\n\n\n \n\n\n\nDie BWI als Generalunternehmerin der Bundeswehr – aus vergaberechtlicher SichtDr. Nana K. A. Baidoo\, LL.M. (Bristol)BWI GmbH \n\n\n\nBeschleunigung durch Beschaffungsbeschleunigungsgesetze?Rechtsanwältin Caroline AckermannLuther Rechtsanwaltsgesellschaft mbHDer neue NATO-Accelerator Ansatz (engl.)Matthew MaddisonDIANA – Defence Innovation Accelerator for the North Atlanticanschließend get together im “Alten Wirt” in Hohenbrunnhttps://alterwirt-hohenbrunn.de/ \n\n\n\n \n\n\n\nTeilnahme / Kosten:\n\n\n\nTeilnahmebeitrag: kostenfrei.Zielgruppe: Mitglieder des forum vergabe e. V. und am forum vergabe Interessierte \n\n\n\nWichtiger Hinweis: Wegen beschränkter Kapazitäten werden die Plätze in der Reihenfolge der Anmeldungen vergeben. Bitte informieren Sie uns rechtzeitig\, wenn Sie trotz Anmeldung die Veranstaltung nicht wahrnehmen können\, damit wir den Platz für die Warteliste verwenden können. \n\n\n\n \n\n\n\n\n\n \n\n\n\n\nPDF-Version:\n\n\n\n\ns. oben \n\n\n\nVeranstaltungsort:\n\n\n\n \n\n\n\nAirbus Defence and Space GmbHWilliy-Messerschmidt-Straße 1Gebäude 74C (Showroom)82024 Taufkirchen / München \n\n\n\n \n\n\n\n \n\n\n\nVeranstaltet von: \n\n\n\n \n\n\n\nGesprächskreis Vergaben im Bereich Verteidigung und SicherheitLeitung: Rechtsanwalt Prof. Dr. Heiko Höfler (PwC Legal) und Rechtsanwalt Dr. Roland M. Stein (BLOMSTEIN) \n\n\n\nAnsprechpartnerin: Frau Heike Stenzel (forum vergabe e.V.)
URL:https://forum-vergabe.de/veranstaltung/gespraechskreis-verteidigung-und-sicherheit-dezember-2025-muenchen/
CATEGORIES:Gesprächskreis des forum vergabe
ATTACH;FMTTYPE=image/png:https://forum-vergabe.de/wp-content/uploads/2023/01/00_GK-VerteidigungSicherheit-mLogo-und-Schriftzug-legal-e1707386288911.png
END:VEVENT
BEGIN:VEVENT
DTSTART;TZID=Europe/Berlin:20251209T090000
DTEND;TZID=Europe/Berlin:20251210T170000
DTSTAMP:20260425T043241
CREATED:20250526T122548Z
LAST-MODIFIED:20251215T102319Z
UID:10000299-1765270800-1765386000@forum-vergabe.de
SUMMARY:Basisschulung Vergaberecht - Dezember 2025 (Berlin)
DESCRIPTION:Hinweis:\n\n\n\nTeilnehmer*innen (max.): 12  \n\n\n\nAUSGEBUCHT: Warteliste verfügbar. Nach erfolgter Anmeldung werden Sie informiert\, sollte doch noch ein Platz frei werden. \n\n\n\nVeranstaltungsort: Geschäftsstelle forum vergabe e.V.\, Spichernstraße 15\, 10777 Berlin \n\n\n\n \n\n\n\n\nInhalt:\n\n\n\n\nWer nicht so häufig oder zum ersten Mal mit dem Vergaberecht zu tun hat\, dem stellen sich viele Fragen. Speziell für wenig erfahrene Anwender des Vergaberechts bieten wir eine einführende systematische und praxisgerechte Darstellung dessen\, was bei der Durchführung von Vergabeverfahren zu beachten ist.Die Schulung berücksichtigt das aktuelle Vergaberecht einschließlich der Unterschwellenvergabeordnung. Vorkenntnisse sind nicht erforderlich. \n\n\n\nIn zwei vollen Tagen beantworten wir in der Basisschulung alle Fragen zu der praktischen Handhabung von Vergaberecht und der Durchführung von Vergabeverfahren. Es werden alle wichtigen Bereiche des Vergaberechts dargestellt und die Fragen der Teilnehmer diskutiert. Praxisfälle dienen der Vertiefung. \n\n\n\nZur Vertiefung empfehlen wir die jährliche Veranstaltung “VergabeFIT Vergaberecht vertieft – aktuell – praxisgerecht“\, an der Teilnehmer*innen einer Basisschulung einmalig vergünstig teilnehmen können. Auch im Jahr 2026 wird diese Veranstaltung wieder angeboten. \n\n\n\nBeginn/Ende: Die Schulung beginnt am beiden Tagen jeweils um 09.00 Uhr und endet ebenfalls an beiden Tagen jeweils um 17.00 Uhr. Pausen: am Vor- und Nachmittag eine viertelstündige Pause sowie eine einstündige Mittagspause \n\n\n\n \n\n\n\n\n\n\n\n\nThemenübersicht:\n\n\n\n\n \n\n\n\n\ndie vergaberechtlichen Regelwerke und ihre Anwendungsbereiche\n\n\n\nZiel des Vergaberechts\n\n\n\nGrundbegriffe wie “Öffentlicher Auftrag”\n\n\n\nAbgrenzung der Vertragsarten\n\n\n\nSchätzung des Auftragswertes\n\n\n\nWahl des Vergabeverfahrens\n\n\n\nAnforderungen an die Leistungsbeschreibung\n\n\n\nDurchführung des Vergabeverfahrens\n\n\n\nAufstellung der Eignungskriterien und Eignungsprüfung\n\n\n\nAufstellung der Wertungskriterien und Angebotswertung\n\n\n\nBeendigung des Vergabeverfahrens\n\n\n\nRechtsschutz\n\n\n\n\n \n\n\n\n\nVorbereitung / zusätzliche Informationen:\n\n\n\n\n \n\n\n\n\nFreiwillig: Damit wir die Schulung besser auf Ihre persönlichen Erwartungen ausrichten können\, bitte wir Sie\, diesen Fragebogen auszufüllen.\n\n\n\nFür die Veranstaltung: Die benötigten Gesetztestexte finden Sie hier https://forum-vergabe.de/themen/rechtsvorschriften/#Aktuelle-Vorschriften\n\n\n\n\n\n\n\n\n\nVortragende:\n\n\n\n\n \n\n\n\n\n \n\n\n\nRechtsanwältin Jutta Pertenaïs  | Kanzlei Pertenaïs \n\n\n\nJutta Pertenaïs ist selbstständige Rechtsanwältin und Partnerin der Valora Consulting GmbH\, einer Technologie- und Managementberatung in Berlin. Ihre Schwerpunkte liegen im IT-Recht und Vergaberecht. Als Technik-Enthusiastin kennt sie das Vergaberecht aus Sicht von Anwaltschaft\, Bietern und Vergabestellen. Sie ist zertifizierte Datenschutzbeauftragte und Mediatorin. 2025 erschien ihr praxisorientierter Ratgeber Vergaberecht für Dummies bei Wiley-VCH. \n\n\n\n \n\n\n\n\n\nRechtsanwalt Dr. Benjamin Klein  | Eichler Kern Klein Rechtsanwälte Partnerschaftsgesellschaft mbB \n\n\n\nDr. Benjamin Klein ist seit fast 20 Jahren mit dem Vergaberecht befasst\, seit vierzehn Jahren als Rechtsanwalt. Er berät öffentliche Auftraggeber und Unternehmen umfassend zu allen vergaberechtlichen Fragestellungen im Bau- Liefer- und Dienstleistungssektor. Zu den besonderen Schwerpunkten seiner Tätigkeit gehört die umfassende Gestaltung von Vergabeverfahren für öffentliche Auftraggeber im IT-Bereich bei großen Digitalisierungsprojekten sowie die Beratung von Bietern\, insbesondere Start-Ups\, in diesem Bereich. Seine Tätigkeit umfasst auch die Vertretung von Mandanten vor vergaberechtlichen Nachprüfungsinstanzen und Gerichten. Zu seiner Expertise gehört auch die Beratung im öffentlichen Preisrecht.  \n\n\n\n\n\nProf. Dr. Mark von Wietersheim   |  forum vergabe e.V. \n\n\n\nProf. Dr. Mark von Wietersheim ist seit 2009 Geschäftsführer des forum vergabe e.V. tätig sowie seit 1996 in Berlin als Rechtsanwalt zugelassen.Er ist Honorarprofessor an der Hochschule Osnabrück und lehrt dort seit 2006 das private Baurecht sowie Bauvergaberecht.Prof. Dr. von Wietersheim ist Autor zahlreicher Bücher und Buchbeiträge\, u.a. ist er Herausgeber des Ingenstau/Korbion\, Kommentar zur VOB. \n\n\n\n\n \n\n\n\n \n\n\n\n \n\n\n\n\nÜbersicht der Termine / Veranstaltungsseiten:\n\n\n\n\n \n\n\n\n\n03.-04.09.2025 als Webinar \n\n\n\n21.-22.10.2025 Frankfurt am Main\, reine Präsenzveranstaltung\n\n\n\n18.-19.11.2025 als Webinar\n\n\n\n09.-10.12.2025 Berlin\, reine Präsenzveranstaltung (hier)\n\n\n\n24.-25.02.2026 als Webinar\n\n\n\n06.-07.05.2026 als Webinar \n\n\n\n09.-10.06.2026 Frankfurt am Main\, reine Präsenzveranstaltung\n\n\n\n\n \n\n\n\nTeilnahmebeiträge:\n\n\n\n(umsatzsteuerbefreit nach § 4 Nr. 22a UStG) \n\n\n\ninkl. Tagungsunterlageninkl. Verpflegunginkl. Fortbildungsnachweis zur Vorlage nach § 15 FAO \n\n\n\n€ 600 für Nicht-Mitglieder(1)€ 450 für Mitglieder des forum vergabe e.V. \n\n\n\n \n\n\n\n \n\n\n\n(1)Für Institutionen: Mit unserem kostenfreien Testservice nehmen Sie 3 Monate lang zu Mitgliederkonditionen an unseren Veranstaltungen teil und können alle Leistungen des forum vergabe e.V. nutzen. Die Testphase endet automatisch mit Ablauf der 3 Monate und bedarf keiner Kündigung. ( Testservice-Antrag) \n\n\n\nAUSGEBUCHT: Warteliste verfügbar. Nach erfolgter Anmeldung werden Sie informiert\, sollte doch noch ein Platz frei werden. \n\n\n\n\n\n \n\n\n\n\nPDF-Version:\n\n\n\n\n– \n\n\n\n\n\n\n\n\nVeranstaltungsort:\n\n\n\n\nGeschäftsstelle forum vergabe e.V. Spichernstraße 1510777 Berlin Deutschland \n\n\n\n \n\n\n\nVeranstaltet von:\n\n\n\nforum vergabe e.V.Geschäftsstelle – Frau Heike StenzelT: +49 (0) 30 23 60 80 60F: +49 (0) 30 23 60 80 621e: info@forum-vergabe.de
URL:https://forum-vergabe.de/veranstaltung/basisschulung-vergaberecht-dezember-2025-berlin/
CATEGORIES:Fort-/Weiterbildung,Schulung
ATTACH;FMTTYPE=image/png:https://forum-vergabe.de/wp-content/uploads/2023/09/00_Basisschulungen-legal-e1699010886452.png
END:VEVENT
BEGIN:VEVENT
DTSTART;TZID=Europe/Berlin:20251212T130000
DTEND;TZID=Europe/Berlin:20251212T150000
DTSTAMP:20260425T043241
CREATED:20250707T102850Z
LAST-MODIFIED:20251215T102307Z
UID:10000310-1765544400-1765551600@forum-vergabe.de
SUMMARY:Digitale Souveränität in der IT-Beschaffung richtig umsetzen sowie Open Source Software beschaffen mithilfe der neuen EVB-IT Open Source (Webinar)
DESCRIPTION:Inhalt:\n\n\n\n\n \n\n\n\nGrundlegende Erfolgsfaktoren und Zukunftsfelder der IT-Vergabe im Fokus \n\n\n\nEs handelt sich hierbei um Teil D dieser Veranstaltungsreihe\, in der verschiedene Aspekte und Besonderheiten der Beschaffung im IT-Bereich dargestellt werden. Diese Vergaben zeichnen sich oft durch eine besondere technische und wirtschaftliche Komplexität aus. \n\n\n\nWir freuen uns\, dass auch der vierte Teil dieser Veranstaltungsreihe von Herrn Dr. Moritz Philipp Koch\, IT.NRW – Information und Technik Nordrhein-Westfalen\, und Herrn Syndikusrechtsanwalt Robert Thiele\, Bundesministerium für Digitales und Staatsmodernisierung und Mitglied der AG EVB-IT des IT-Planungsrats wesentlich gestaltet wird. \n\n\n\nBei jedem Termin werden zusätzlich weitere Referent*innen ihre Expertise an die Anwesenden weitergeben.  \n\n\n\n \n\n\n\nThemenübersicht 12. Dezember 2025:\n\n\n\nFolgende Themen stehen im Fokus: \n\n\n\n \n\n\n\n\nWeitere Details folgen.\n\n\n\n\n \n\n\n\nEine Veranstaltungsreihe mit: \n\n\n\nWeitere Expert*innen folgen. \n\n\n\n\nCelina Klose | BWI GmbH \n\n\n\nWeitere Informationen zu Frau Klose folgen. \n\n\n\n\n \n\n\n\n\nSebastian Spinzig | Vorsitzender der Vergabekammer Westfalen \n\n\n\nSebastian Spinzig hat schon im Rahmen des Studiums und des Referendariats das Vergaberecht aus anwaltlicher Sicht und dem Blickwinkel einer Vergabestelle kennen gelernt. Seit Anfang 2015 ist er im Dienst des Landes Nordrhein-Westfalen und vom Jahr 2017 an als Vorsitzender der Vergabekammer Westfalen tätig. Daneben ist er Mitautor der. 2. Auflage des GWB Kommentar Müller-Wrede und wiederkehrend Vortragender bei vergaberechtlichen Veranstaltungen und Seminaren. \n\n\n\n\n\nDr. Moritz Philipp Koch | IT.NRW – Information und Technik Nordrhein-Westfalen \n\n\n\nDr. Moritz Philipp Koch ist Leiter des Bereichs Sourcing (Vergabe/Vertragsmanagement/Lieferantenmanagement u.a.) beim Landesbetrieb Information und Technik Nordrhein-Westfalen (IT.NRW). Er ist Mitglied der AG EVB-IT des Bundesministeriums des Innern und für Heimat und Lehrbeauftragter (insb. der Hochschule für Polizei und öffentliche Verwaltung NRW). Er leitet zahlreiche Seminare zum Vergaberecht und ist Autor diverser Veröffentlichungen\, insbesondere „Vergaberecht im Zeitalter der Digitalisierung“ (Berliner Wissenschaftsverlag\, 2022). \n\n\n\n\n\nSyndikusanwalt Robert Thiele | Bundesministerium für Digitales und Staatsmodernisierung; AG EVB-IT des IT-Planungsrats \n\n\n\nRobert Thiele\, ehemals Techniker Krankenkasse und Referent im Bundesministerium des Inneren\, ist seit Oktober 2025 Referent im Bundesministerium für Digitales und Staatsmodernisierung. Er befasst sich mit der Weiterentwicklung der EVB-IT und leitet eine Digitalisierungsprojekt. In der Techniker Krankenkasse berät er als Syndikusrechtsanwalt zum Vergabe- und Vertragsrecht und befasst sich mit der Digitalisierung von Einkaufsprozessen. Beim forum vergabe e.V. leitet er die Redaktion des Literaturbriefs und baute das Vergaberechtinformationssystems VERIS auf. Er ist Mitglied der EVB-IT Arbeitsgruppe und Autor im Beck’schen Online-Kommentar Vergaberecht. \n\n\n\n\n\n\n\n\n\nÜbersicht der Termine / Veranstaltungsseiten:\n\n\n\n\n \n\n\n\n\n12.09.2025\, 13:00-15:00 Uhr\, Teil 1 von 4: KI in immer mehr IT-Produkten: Was muss in der Beschaffung beachtet und geregelt werden? \n\n\n\n10.10.2025\, 13:00-15:00 Uhr\, Teil 2 von 4: Aktuelle Rechtsprechung und Gesetzgebung zur IT-Beschaffung \n\n\n\n21.11.2025\, 13:00-15:00 Uhr\, Teil 3 von 4: NIS2-Umsetzungsgesetz: Was muss in der IT-Beschaffung beachtet werden? Update IT-Sicherheit in der Beschaffung\n\n\n\n12.12.2025\, 13:00-15:00 Uhr\, Teil 4 von 4: Digitale Souveränität in der IT-Beschaffung richtig umsetzen sowie Open Source Software beschaffen mithilfe der neuen EVB-IT Open Source (Hier)\n\n\n\n\n\n\n\n\nTeilnahmebeiträge:\n\n\n\n(umsatzsteuerbefreit nach § 4 Nr. 22a UStG) \n\n\n\ninkl. Tagungsunterlageninkl. Fortbildungsnachweis zur Vorlage nach § 15 FAO \n\n\n\n \n\n\n\nMitglieder des forum vergabe e.V.Nichtmitglieder(1)pro Veranstaltung € 100 € 150  Gesamtpaket(4 Termine)€ 360€ 560\n\n\n\n(1) Für Institutionen: Mit unserem kostenfreien Testservice nehmen Sie 3 Monate lang zu Mitgliederkonditionen an unseren Veranstaltungen teil und können alle Leistungen des forum vergabe e.V. nutzen. Die Testphase endet automatisch mit Ablauf der 3 Monate und bedarf keiner Kündigung. ( Testservice-Antrag) \n\n\n\n \n\n\n\n\n\n \n\n\n\n\nPDF-Version:\n\n\n\n\n– \n\n\n\n\nVeranstaltungsort:\n\n\n\n\n\n\n \n\n\n\n \n\n\n\nVeranstaltet von:\n\n\n\nforum vergabe e.V.Geschäftsstelle – Frau Eléonore UnserT: +49 (0) 30 23 60 80 60F: +49 (0) 30 23 60 80 621e: info@forum-vergabe.de
URL:https://forum-vergabe.de/veranstaltung/digitale-souveraenitaet-in-der-it-beschaffung-richtig-umsetzen-sowie-open-source-software-beschaffen-mit-den-neuen-evb-it-open-source-webinar/
LOCATION:Online / Remote
CATEGORIES:Fort-/Weiterbildung,Schulung
ATTACH;FMTTYPE=image/png:https://forum-vergabe.de/wp-content/uploads/2025/07/Veranstaltungsbild-Brennpunt-e_4v4-20251212-e1756203217394.png
END:VEVENT
BEGIN:VEVENT
DTSTART;TZID=Europe/Berlin:20251217T160000
DTEND;TZID=Europe/Berlin:20251217T170000
DTSTAMP:20260425T043241
CREATED:20251128T100320Z
LAST-MODIFIED:20251217T143837Z
UID:10000327-1765987200-1765990800@forum-vergabe.de
SUMMARY:Gesprächskreis Digitale Transformation: "Marktplatz Deutschland" - EIN Vergabeportal für Wirtschaft und Verwaltung (online)
DESCRIPTION:Inhalt:\n\n\n\n\n \n\n\n\n„Marktplatz Deutschland“ – ein single-entry-Projekt des BMDS\, das Wirtschaft und Verwaltung des gesamten Landes in EINEM Vergabeportal zusammenbringt. \n\n\n\nAktuell ist die deutsche Vergabelandschaft stark fragmentiert durch zahlreiche Systeme mit verschiedenen Zugängen und Prozessen. \n\n\n\nIn der Verwaltung erschwert dies die Implementierung dringend benötigter strategischer Steuerungsmöglichkeiten und wirkt zudem unattraktiv auf Unternehmen / potenzielle Auftragnehmer. Der langwierige Beschaffungsprozess\, eine mangelnde Berücksichtigung von KMUs und Startups sowie zu hohe Transaktionskosten für Unternehmen führen zu einer unzureichenden Angebotsvielfalt für die Auftraggeber\, woraus resultiert\, dass Bund\, Länder und Kommunen nicht (immer) die beste / innovativste Lösung bekommen. \n\n\n\nBei diesem Termin trägt Robert Thiele\, Projektleiter „Marktplatz Deutschland“\, (Referat DS II 3 im BMDS (Digitalisierung des öffentlichen Einkaufs)\, Co-Vorsitzender der Arbeitsgruppe EVB-IT des IT-Planungsrates und Leiter des Gesprächskreises) gemeinsam mit Felix Zimmermann (Chief Procurement Officer / Referatsleiter DS II 2 im BMDS (Beschaffungsmarkt\, Steuerung IT-Einkauf)\, Vorstandsmitglied des forum vergabe und ebenfalls Leiter des Gesprächskreises) zur Vision\, zum aktuellen Stand in der Umsetzung sowie zu den geplanten zentralen Bausteinen und Schritten bis zum geplanten Roll-Out in 2027 vor. \n\n\n\nORT: Meetup per Zoom(Die Einwahldaten erhalten Sie in der offiziellen Anmeldebestätigung des forum vergabe e.V.) \n\n\n\n#gerneperdu #mitbildundton \n\n\n\nIn diesem Gesprächskreis wollen wir in einer offenen Atmosphäre miteinander ins Gespräch kommen. Es würde uns daher freuen\, wenn Sie möglichst durchgehend mit Bild teilnehmen. Zudem laden wir Sie herzlich dazu ein\, sich jederzeit mit Wortmeldungen aktiv an dem Austausch zu beteiligen.  \n\n\n\n\nVortragende:\n\n\n\n\n \n\n\n\n \n\n\n\n\n\nRobert Thiele Bundesministerium für Digitales und Staatsmodernisierung; AG EVB-IT des IT-Planungsrats(Leiter des Gesprächskreises)\n\n\n\n\n\nFelix Zimmermann   Bundesministerium für Digitales und Staatsmodernisierung; Vorstandsmitglied forum vergabe e.V.(Leiter des Gesprächskreises)\n\n\n\n\n\n \n\n\n\nTeilnahmebeiträge:\n\n\n\nBeitrag: Kostenfrei. \n\n\n\nAnmeldung / Teilnahme: Als Mitglied des forum vergabe e.V. erhalten Sie eine persönliche Einladung.  \n\n\n\nFortbildungsbescheinigung: Nein. – ANMELDUNG NICHT MEHR MÖGLICH – \n\n\n\n\n\n \n\n\n\n\nPDF-Version:\n\n\n\n\n forum vergabe e. V. – Gesprächskreis Digitale Transformation “Marktplatz Deutschland” – Stand 08.12.2025  \n\n\n\n–
URL:https://forum-vergabe.de/veranstaltung/gespraechskreis-digitale-transformation-marktplatz-deutschland-ein-vergabeportal-fuer-wirtschaft-und-verwaltung-online/
LOCATION:Online / Remote
CATEGORIES:Gesprächskreis des forum vergabe
ATTACH;FMTTYPE=image/png:https://forum-vergabe.de/wp-content/uploads/2025/11/Eventbild-20251217_GK-Ditra-Zuschnitt-e1765192630919.png
END:VEVENT
END:VCALENDAR