BEGIN:VCALENDAR
VERSION:2.0
PRODID:-//forum vergabe - ECPv6.15.18//NONSGML v1.0//EN
CALSCALE:GREGORIAN
METHOD:PUBLISH
X-WR-CALNAME:forum vergabe
X-ORIGINAL-URL:https://forum-vergabe.de
X-WR-CALDESC:Veranstaltungen für forum vergabe
REFRESH-INTERVAL;VALUE=DURATION:PT1H
X-Robots-Tag:noindex
X-PUBLISHED-TTL:PT1H
BEGIN:VTIMEZONE
TZID:Europe/Berlin
BEGIN:DAYLIGHT
TZOFFSETFROM:+0100
TZOFFSETTO:+0200
TZNAME:CEST
DTSTART:20240331T010000
END:DAYLIGHT
BEGIN:STANDARD
TZOFFSETFROM:+0200
TZOFFSETTO:+0100
TZNAME:CET
DTSTART:20241027T010000
END:STANDARD
BEGIN:DAYLIGHT
TZOFFSETFROM:+0100
TZOFFSETTO:+0200
TZNAME:CEST
DTSTART:20250330T010000
END:DAYLIGHT
BEGIN:STANDARD
TZOFFSETFROM:+0200
TZOFFSETTO:+0100
TZNAME:CET
DTSTART:20251026T010000
END:STANDARD
BEGIN:DAYLIGHT
TZOFFSETFROM:+0100
TZOFFSETTO:+0200
TZNAME:CEST
DTSTART:20260329T010000
END:DAYLIGHT
BEGIN:STANDARD
TZOFFSETFROM:+0200
TZOFFSETTO:+0100
TZNAME:CET
DTSTART:20261025T010000
END:STANDARD
END:VTIMEZONE
BEGIN:VEVENT
DTSTART;TZID=Europe/Berlin:20251104T100000
DTEND;TZID=Europe/Berlin:20251104T120000
DTSTAMP:20260425T030440
CREATED:20250611T104305Z
LAST-MODIFIED:20251215T101119Z
UID:10000302-1762250400-1762257600@forum-vergabe.de
SUMMARY:Produktneutralität im Vergabeverfahren (Webinar)
DESCRIPTION:Inhalt: \n\n\n\nDas Gebot der Produktneutralität ist ein Dauerbrenner in der Rechtsprechung. Grund hierfür dürfte sein\, dass die Voraussetzungen für erlaubte Produktvorgaben oft als weitreichend verstanden werden. Das Urteil des EuGH vom 16.01.2025 (C-424/23 -DYKA Plastics NV) schafft mit der Gleichstellung von Material- und Produktvorgaben neue Herausforderungen für die Praxis. Grund genug\, um einen aktuellen Überblick zu Anforderungen und Ausnahmen vom Grundsatz der Produktneutralität zu geben. \n\n\n\n \n\n\n\nThemenübersicht:\n\n\n\n \n\n\n\n\ns. Inhalt\n\n\n\n\n \n\n\n\nVortragende: \n\n\n\n \n\n\n\n\nRechtsanwalt Dr. Marc Röbke  | Eichler Kern Klein Rechtsanwälte Partnerschaftsgesellschaft mbB \n\n\n\nDr. Marc Röbke ist Partner bei Eichler Kern Klein und berät öffentliche Auftraggeber und Unternehmen vergaberechtlich bei der Vorbereitung und Durchführung von nationalen und europaweiten Vergabeverfahren. Sein Tätigkeitsspektrum umfasst darüber hinaus das Verwaltungs-\, Zuwendungs- und Beihilfenrecht einschließlich aller Bezüge zum Recht der Europäischen Union. Er verfügt über besondere Erfahrung in der Beratung von Mandanten aus dem Kultursektor\, IT-Beschaffungsvorhaben\, von Projekten des öffentlichen Nahverkehrs (ÖPNV/SPNV) sowie im Bereich der gesetzlichen Sozialversicherung\, und vertritt Mandanten regelmäßig in Nachprüfungsverfahren vor Vergabekammern und Oberlandesgerichten. \n\n\n\n\n \n\n\n\nTeilnahmebeiträge:\n\n\n\n(umsatzsteuerbefreit nach § 4 Nr. 22a UStG) \n\n\n\ninkl. Tagungsunterlageninkl. Fortbildungsnachweis zur Vorlage nach § 15 FAO€ 150 für Nichtmitglieder (1)€ 100 für Mitglieder des forum vergabe e.V. € 50 für Immatrikulierte (Nachweis erforderlich) \n\n\n\n(1) Für Institutionen: Mit unserem kostenfreien Testservice nehmen Sie 3 Monate lang zu Mitgliederkonditionen an unseren Veranstaltungen teil und können alle Leistungen des forum vergabe e.V. nutzen. Die Testphase endet automatisch mit Ablauf der 3 Monate und bedarf keiner Kündigung. ( Testservice-Antrag) \n\n\n\n \n\n\n\n \n\n\n\n \n\n\n\n\n\n \n\n\n\n\nPDF-Version:\n\n\n\n\n– \n\n\n\n \n\n\n\nVeranstaltungsort:\n\n\n\n\n\n \n\n\n\n \n\n\n\nVeranstaltet von:\n\n\n\n\n\nAnsprechpartnerin: Frau Eléonore Unser
URL:https://forum-vergabe.de/veranstaltung/produktneutralitaet-im-vergabeverfahren/
LOCATION:Online / Remote
CATEGORIES:Fort-/Weiterbildung
ATTACH;FMTTYPE=image/png:https://forum-vergabe.de/wp-content/uploads/2025/06/Veranstaltungsbild-20251104_Produktneutralitaet-e1756203101308.png
ORGANIZER;CN="forum vergabe e.V.":MAILTO:info@forum-vergabe.de
END:VEVENT
BEGIN:VEVENT
DTSTART;TZID=Europe/Berlin:20251118T090000
DTEND;TZID=Europe/Berlin:20251119T170000
DTSTAMP:20260425T030440
CREATED:20250526T120721Z
LAST-MODIFIED:20251215T101109Z
UID:10000297-1763456400-1763571600@forum-vergabe.de
SUMMARY:Basisschulung Vergaberecht - November 2025 (Webinar)
DESCRIPTION:Inhalt:\n\n\n\n\nWer nicht so häufig oder zum ersten Mal mit dem Vergaberecht zu tun hat\, dem stellen sich viele Fragen. Speziell für wenig erfahrene Anwender des Vergaberechts bieten wir eine einführende systematische und praxisgerechte Darstellung dessen\, was bei der Durchführung von Vergabeverfahren zu beachten ist.Die Schulung berücksichtigt das aktuelle Vergaberecht einschließlich der Unterschwellenvergabeordnung. Vorkenntnisse sind nicht erforderlich. \n\n\n\nIn zwei vollen Tagen beantworten wir in der Basisschulung alle Fragen zu der praktischen Handhabung von Vergaberecht und der Durchführung von Vergabeverfahren. Es werden alle wichtigen Bereiche des Vergaberechts dargestellt und die Fragen der Teilnehmer diskutiert. Praxisfälle dienen der Vertiefung. \n\n\n\nZur Vertiefung empfehlen wir die jährliche Veranstaltung “VergabeFIT Vergaberecht vertieft – aktuell – praxisgerecht“\, an der Teilnehmer*innen einer Basisschulung einmalig vergünstig teilnehmen können. Auch im Jahr 2026 wird diese Veranstaltung wieder angeboten. \n\n\n\nBeginn/Ende: Die Schulung beginnt am beiden Tagen jeweils um 09.00 Uhr und endet ebenfalls an beiden Tagen jeweils um 17.00 Uhr. Pausen: am Vor- und Nachmittag eine viertelstündige Pause sowie eine einstündige Mittagspause \n\n\n\n \n\n\n\n\n\n\n\n\nThemenübersicht:\n\n\n\n\n \n\n\n\n\ndie vergaberechtlichen Regelwerke und ihre Anwendungsbereiche\n\n\n\nZiel des Vergaberechts\n\n\n\nGrundbegriffe wie “Öffentlicher Auftrag”\n\n\n\nAbgrenzung der Vertragsarten\n\n\n\nSchätzung des Auftragswertes\n\n\n\nWahl des Vergabeverfahrens\n\n\n\nAnforderungen an die Leistungsbeschreibung\n\n\n\nDurchführung des Vergabeverfahrens\n\n\n\nAufstellung der Eignungskriterien und Eignungsprüfung\n\n\n\nAufstellung der Wertungskriterien und Angebotswertung\n\n\n\nBeendigung des Vergabeverfahrens\n\n\n\nRechtsschutz\n\n\n\n\n \n\n\n\n\nVorbereitung / zusätzliche Informationen:\n\n\n\n\n \n\n\n\n\nFreiwillig: Damit wir die Schulung besser auf Ihre persönlichen Erwartungen ausrichten können\, bitte wir Sie\, diesen Fragebogen auszufüllen.\n\n\n\nFür die Veranstaltung: Die benötigten Gesetztestexte finden Sie hier https://forum-vergabe.de/themen/rechtsvorschriften/#Aktuelle-Vorschriften\n\n\n\n\n\n\n\n\n\nVortragende:\n\n\n\n\n \n\n\n\n\nRechtsanwältin Charlotte Thönißen  | FPS Rechtsanwaltsgesellschaft mbH & Co. KG \n\n\n\nCharlotte Thönißen berät ihre Mandanten im Vergaberecht und europäischen Beihilferecht. Sie begleitet und berät Auftraggeber bei der Erstellung von Ausschreibungen sowie Bieter in sämtlichen Stadien des Vergabeverfahrens\, insbesondere in Nachprüfungsverfahren vor verschiedenen Vergabekammern und der anschließenden Beschwerdeinstanz. Außerdem führt Charlotte Thönißen Seminare und Workshops im Vergaberecht durch.  \n\n\n\n\n\nRechtsanwältin Dr. Franziska Klaß-Dingeldey\, MLE website | Luther Rechtsanwaltsgesellschaft mbH \n\n\n\nFrau Klaß-Dingeldey studierte Rechtswissenschaften an der Leibniz Universität Hannover (LUH). Das Referendariat absolvierte sie am OLG Celle u. A. mit Stationen im Nds. Innenministerium und bei der Deutschen Botschaft in der Schweiz.Frau Klaß-Dingeldey war als wissenschaftliche Mitarbeiterin an der LUH tätig und hat dort promoviert. Sie ist weiterhin als Lehrbeauftragte an der LUH tätig.2015 wurde sie als Rechtsanwältin zugelassen und ist seit 2019 Fachanwältin für Vergaberecht. \n\n\n\n\n\nProf. Dr. Mark von Wietersheim   |  forum vergabe e.V. \n\n\n\nProf. Dr. Mark von Wietersheim ist seit 2009 Geschäftsführer des forum vergabe e.V. sowie seit 1996 in Berlin als Rechtsanwalt zugelassen.Er ist Honorarprofessor an der Hochschule Osnabrück und lehrt dort seit 2006 das private Baurecht sowie Bauvergaberecht.Prof. Dr. von Wietersheim ist Autor zahlreicher Bücher und Buchbeiträge\, u.a. ist er Herausgeber des Ingenstau/Korbion\, Kommentar zur VOB. \n\n\n\n\n \n\n\n\n \n\n\n\n \n\n\n\n\nÜbersicht der Termine / Veranstaltungsseiten:\n\n\n\n\n \n\n\n\n\n03.-04.09.2025 als Webinar \n\n\n\n21.-22.10.2025 Frankfurt am Main\, reine Präsenzveranstaltung\n\n\n\n18.-19.11.2025 als Webinar (hier)\n\n\n\n09.-10.12.2025 Berlin\, reine Präsenzveranstaltung\n\n\n\n24.-25.02.2026 als Webinar\n\n\n\n06.-07.05.2026 als Webinar \n\n\n\n09.-10.06.2026 Frankfurt am Main\, reine Präsenzveranstaltung\n\n\n\n\n \n\n\n\nTeilnahmebeiträge:\n\n\n\n(umsatzsteuerbefreit nach § 4 Nr. 22a UStG) \n\n\n\ninkl. Tagungsunterlageninkl. Fortbildungsnachweis zur Vorlage nach § 15 FAO \n\n\n\n€ 500 für Nicht-Mitglieder(1)€ 350 für Mitglieder des forum vergabe e.V. \n\n\n\n \n\n\n\n \n\n\n\n(1)Für Institutionen: Mit unserem kostenfreien Testservice nehmen Sie 3 Monate lang zu Mitgliederkonditionen an unseren Veranstaltungen teil und können alle Leistungen des forum vergabe e.V. nutzen. Die Testphase endet automatisch mit Ablauf der 3 Monate und bedarf keiner Kündigung. ( Testservice-Antrag) \n\n\n\n\n\n \n\n\n\n\nPDF-Version:\n\n\n\n\n– \n\n\n\n \n\n\n\n\n\n\n\n\nVeranstaltungsort:\n\n\n\n\n\n\n \n\n\n\n \n\n\n\nVeranstaltet von:\n\n\n\nforum vergabe e.V.Geschäftsstelle – Frau Eléonore UnserT: +49 (0) 30 23 60 80 60F: +49 (0) 30 23 60 80 621e: info@forum-vergabe.de
URL:https://forum-vergabe.de/veranstaltung/basisschulung-vergaberecht-november-2025-webinar/
LOCATION:Online / Remote
CATEGORIES:Schulung
ATTACH;FMTTYPE=image/png:https://forum-vergabe.de/wp-content/uploads/2023/09/00_Basisschulungen-legal-e1699010886452.png
END:VEVENT
BEGIN:VEVENT
DTSTART;TZID=Europe/Berlin:20251120T100000
DTEND;TZID=Europe/Berlin:20251120T130000
DTSTAMP:20260425T030440
CREATED:20250527T115412Z
LAST-MODIFIED:20251215T101056Z
UID:10000300-1763632800-1763643600@forum-vergabe.de
SUMMARY:Treffen der Regionalgruppe Mecklenburg-Vorpommern - November 2025 (Rostock)
DESCRIPTION:Einladung:\n\n\n\n \n\n\n\nSehr geehrte Damen und Herren\,sehr geehrte Mitglieder des forum vergabe e.V.\, \n\n\n\nwir freuen uns\, Ihnen mitteilen zu können\, dass in diesem Jahr unser alljährliches Treffen der Regionalgruppe Mecklenburg-Vorpommern im forum vergabe e.V. erneut mit freundlicher Unterstützung der Hansestadt Rostock am \n\n\n\nDonnerstag\, 20. November 2025 | 10.00 Uhr bis 13.00 UhrOrt: Rathaus der Hansestadt Rostock\, Beratungsraum 2Neuer Markt 1\, 18055 Rostock \n\n\n\nstattfindet. \n\n\n\nWeitere Informationen zum Programm\, zur Teilnahme und zur Anmeldung finden Sie weiter unten hier auf dieser Seite. \n\n\n\nMit freundlichen Grüßen\,Michael HorstkotteFachanwalt für Vergaberecht  \n\n\n\nProgramm / Ablauf:\n\n\n\nFolgender Programmablauf ist vorgesehen: \n\n\n\n \n\n\n\n\n„Aktuelle Rechtsprechung des OLG Rostock“Dr. Jens Knop\, Vorsitzender Richter am OLG Rostock\, Vergabesenat\n\n\n\n\n \n\n\n\n\n„Welche Weichen werden schon in der Bekanntmachung gestellt?“Jörg Wiedemann\, Richter am OLG Naumburg\, Vergabesenat\n\n\n\n\n \n\n\n\n\n“KMU-freundliche Vergabe – Wie können Auftraggeber in M-V den Mittelstand besser einbinden?”Lars Wiedemann\, Geschäftsführer der Auftragsberatungsstelle M-V e.V.\n\n\n\n\n \n\n\n\n\n“Zulässige Abweichungen von technischen Spezifikationen bei Bauvergaben”Olaf Hünemörder\, Fachanwalt für Vergaberecht – Schütte Horstkotte & Partner Rechtsanwälte mbB\n\n\n\n\n \n\n\n\n\n“Aktuelle Entwicklungen im Vergaberecht”Prof. Dr. Mark von Wietersheim\, Rechtsanwalt\, Geschäftsführer forum vergabe e. V.\n\n\n\n\n \n\n\n\nTeilnahme / Kosten:\n\n\n\nTeilnahmebeitrag: Kostenlos.Zielgruppe: Mitglieder des forum vergabe e. V. und am forum vergabe Interessierte \n\n\n\nAnmeldung: Per E-Mail an hro@sh-partner.de oder mit dem Formblatt (unter “PDF-Version: Einladung und Anmeldung”) per Fax an 0 381 / 49 30 26 20.  \n\n\n\n\n\nVersion Stand (13.10.2025) \n\n\n\nFür weitere Informationen wenden Sie sich bitte an die Regionalgruppe M-V im forum vergabe e.V.\, c/o Schütte Horstkotte und Partner Rechtsanwälte mbB\, Neuer Markt 17\, 18055 Rostock Tel: 0381/4930260\, Fax: 0381/49302620\, E-Mail: hro@sh-partner.de \n\n\n\n \n\n\n\nVeranstaltungsort:\n\n\n\n \n\n\n\nRathaus der Hansestadt RostockBeratungsraum 2Neuer Markt 118055 Rostock \n\n\n\n \n\n\n\n \n\n\n\nVeranstaltet von: \n\n\n\n \n\n\n\nRegionalgruppe Mecklenburg-Vorpommern des forum vergabe e.V.Kontakt: T: +49 (0) 381 49 30 260   |   F: +49 (0) 381 49 30 26 20   |   e: hro@sh-partner.de
URL:https://forum-vergabe.de/veranstaltung/treffen-der-regionalgruppe-mecklenburg-vorpommern-november-2025-rostock/
CATEGORIES:Regionalgruppen-Treffen
ATTACH;FMTTYPE=image/png:https://forum-vergabe.de/wp-content/uploads/2023/08/00_RG-Mecklenburg-Vorpommern-Website-e1708088612675.png
END:VEVENT
BEGIN:VEVENT
DTSTART;TZID=Europe/Berlin:20251121T130000
DTEND;TZID=Europe/Berlin:20251121T150000
DTSTAMP:20260425T030440
CREATED:20250707T102626Z
LAST-MODIFIED:20251215T102352Z
UID:10000309-1763730000-1763737200@forum-vergabe.de
SUMMARY:NIS2-Umsetzungsgesetz: Was muss in der IT-Beschaffung beachtet werden? Update IT-Sicherheit in der Beschaffung (Webinar)
DESCRIPTION:Inhalt:\n\n\n\n\n \n\n\n\nGrundlegende Erfolgsfaktoren und Zukunftsfelder der IT-Vergabe im Fokus \n\n\n\nEs handelt sich hierbei um Teil D dieser Veranstaltungsreihe\, in der verschiedene Aspekte und Besonderheiten der Beschaffung im IT-Bereich dargestellt werden. Diese Vergaben zeichnen sich oft durch eine besondere technische und wirtschaftliche Komplexität aus. \n\n\n\nWir freuen uns\, dass auch der vierte Teil dieser Veranstaltungsreihe von Herrn Dr. Moritz Philipp Koch\, IT.NRW – Information und Technik Nordrhein-Westfalen\, und Herrn Syndikusrechtsanwalt Robert Thiele\, Bundesministerium für Digitales und Staatsmodernisierung und Mitglied der AG EVB-IT des IT-Planungsrats wesentlich gestaltet wird. \n\n\n\nBei jedem Termin werden zusätzlich weitere Referent*innen ihre Expertise an die Anwesenden weitergeben.  \n\n\n\n \n\n\n\nThemenübersicht 21. November 2025:\n\n\n\nFolgende Themen stehen im Fokus: \n\n\n\n \n\n\n\n\nWeitere Details folgen.\n\n\n\n\n \n\n\n\nEine Veranstaltungsreihe mit: \n\n\n\n \n\n\n\n\nElisabeth Bruhn | Statistisches Bundesamt \n\n\n\nElisabeth Bruhn ist als Referentin im Beschaffungsreferat des Statistischen Bundesamts tätig.Sie beschäftigt sich schwerpunktmäßig mit IT-Vergaben im Bereich der Registermodernisierung. \n\n\n\n\n \n\n\n\n\nPeter Janze | Janze & Janze GmbH \n\n\n\nWeitere Informationen zu Herrn Janze folgen. \n\n\n\n\n\nChristina Bungert | Ministerium des Innern des Landes NRW \n\n\n\nChristina Bungert ist seit Anfang 2025 im Ministerium des Inneren des Landes NRW als Referentin tätig und beschäftigt sich in dieser Rolle u. a. mit dem Thema Cyber Security. Bis Ende 2024 leitete sie das Lizenzmangement beim Landesbetrieb Information und Technik Nordrhein-Westfalen (IT.NRW). Vor dieser Tätigkeit hat sie als Syndikusanwältin/ Anwältin gearbeitet. Sie ist Mitglied der AG EVB-IT des Bundesministeriums des Innern und für Heimat und Lehrbeauftragte  der Hochschule für Polizei und öffentliche Verwaltung NRW. \n\n\n\n\n \n\n\n\n\nDr. Moritz Philipp Koch | IT.NRW – Information und Technik Nordrhein-Westfalen \n\n\n\nDr. Moritz Philipp Koch ist Leiter des Bereichs Sourcing (Vergabe/Vertragsmanagement/Lieferantenmanagement u.a.) beim Landesbetrieb Information und Technik Nordrhein-Westfalen (IT.NRW). Er ist Mitglied der AG EVB-IT des Bundesministeriums des Innern und für Heimat und Lehrbeauftragter (insb. der Hochschule für Polizei und öffentliche Verwaltung NRW). Er leitet zahlreiche Seminare zum Vergaberecht und ist Autor diverser Veröffentlichungen\, insbesondere „Vergaberecht im Zeitalter der Digitalisierung“ (Berliner Wissenschaftsverlag\, 2022). \n\n\n\n\n\nSyndikusanwalt Robert Thiele | Bundesministerium für Digitales und Staatsmodernisierung; AG EVB-IT des IT-Planungsrats \n\n\n\nRobert Thiele\, ehemals Techniker Krankenkasse und Referent im Bundesministerium des Inneren\, ist seit Oktober 2025 Referent im Bundesministerium für Digitales und Staatsmodernisierung.Er befasst sich mit der Weiterentwicklung der EVB-IT und leitet eine Digitalisierungsprojekt. In der Techniker Krankenkasse berät er als Syndikusrechtsanwalt zum Vergabe- und Vertragsrecht und befasst sich mit der Digitalisierung von Einkaufsprozessen. Beim forum vergabe e.V. leitet er die Redaktion des Literaturbriefs und baute das Vergaberechtinformationssystems VERIS auf. Er ist Mitglied der EVB-IT Arbeitsgruppe und Autor im Beck’schen Online-Kommentar Vergaberecht. \n\n\n\n\n\n\n\n\n\nÜbersicht der Termine / Veranstaltungsseiten:\n\n\n\n\n \n\n\n\n\n12.09.2025\, 13:00-15:00 Uhr\, Teil 1 von 4: KI in immer mehr IT-Produkten: Was muss in der Beschaffung beachtet und geregelt werden? \n\n\n\n10.10.2025\, 13:00-15:00 Uhr\, Teil 2 von 4: Aktuelle Rechtsprechung und Gesetzgebung zur IT-Beschaffung \n\n\n\n21.11.2025\, 13:00-15:00 Uhr\, Teil 3 von 4: NIS2-Umsetzungsgesetz: Was muss in der IT-Beschaffung beachtet werden? Update IT-Sicherheit in der Beschaffung (Hier)\n\n\n\n12.12.2025\, 13:00-15:00 Uhr\, Teil 4 von 4: Digitale Souveränität in der IT-Beschaffung richtig umsetzen sowie Open Source Software beschaffen mithilfe der neuen EVB-IT Open Source \n\n\n\n\n\n\n\n\nTeilnahmebeiträge:\n\n\n\n(umsatzsteuerbefreit nach § 4 Nr. 22a UStG) \n\n\n\ninkl. Tagungsunterlageninkl. Fortbildungsnachweis zur Vorlage nach § 15 FAO \n\n\n\n \n\n\n\nMitglieder des forum vergabe e.V.Nichtmitglieder(1)pro Veranstaltung € 100 € 150  Gesamtpaket(4 Termine)€ 360€ 560\n\n\n\n(1) Für Institutionen: Mit unserem kostenfreien Testservice nehmen Sie 3 Monate lang zu Mitgliederkonditionen an unseren Veranstaltungen teil und können alle Leistungen des forum vergabe e.V. nutzen. Die Testphase endet automatisch mit Ablauf der 3 Monate und bedarf keiner Kündigung. ( Testservice-Antrag) \n\n\n\n \n\n\n\n\n\n \n\n\n\n\nPDF-Version:\n\n\n\n\n– \n\n\n\n\nVeranstaltungsort:\n\n\n\n\n\n\n \n\n\n\n \n\n\n\nVeranstaltet von:\n\n\n\nforum vergabe e.V.Geschäftsstelle – Frau Eléonore UnserT: +49 (0) 30 23 60 80 60F: +49 (0) 30 23 60 80 621e: info@forum-vergabe.de
URL:https://forum-vergabe.de/veranstaltung/nis2-umsetzung-gesetz-was-muss-in-der-it-beschaffung-beachtet-werden-update-it-sicherheit-in-der-beschaffung-webinar/
LOCATION:Online / Remote
CATEGORIES:Fort-/Weiterbildung,Schulung
ATTACH;FMTTYPE=image/png:https://forum-vergabe.de/wp-content/uploads/2025/07/Veranstaltungsbild-Brennpunt-e_3v4-20251121-e1756203267703.png
END:VEVENT
BEGIN:VEVENT
DTSTART;TZID=Europe/Berlin:20251128T140000
DTEND;TZID=Europe/Berlin:20251128T180000
DTSTAMP:20260425T030440
CREATED:20250811T104525Z
LAST-MODIFIED:20251215T102338Z
UID:10000311-1764338400-1764352800@forum-vergabe.de
SUMMARY:Treffen der Regionalgruppe Bayern - November 2025 (München)
DESCRIPTION:Einladung:\n\n\n\nAUSGEBUCHT | WARTELISTE \n\n\n\n \n\n\n\nLiebe Mitglieder des forum vergabe e.V.\,liebe Gäste der Regionalgruppe Bayern\, sehr geehrte Damen und Herren\, \n\n\n\nsehr gerne laden wir Sie hiermit zum nächsten Treffen unserer Regionalgruppe ein und freuen uns\, wieder in den Räumen der Kanzlei GvW Graf von Westphalen zu Gast sein zu dürfen. \n\n\n\nFreitag\, den 28. November 2025 von 14:00 – 18:00 UhrOrt: GvW Graf von Westphalen\, Nymphenburger Straße 64\, 80335 München \n\n\n\n \n\n\n\nDetaillierte Informationen zum Programm und zur Anmeldung finden Sie hier auf der Seite und in der PDF.  \n\n\n\nAus organisatorischen Gründen möchten wir auch die Interessenten\, die sich auf das Save the Date gemeldet hatten\, um eine Anmeldung bitten. Dabei bitten wir\, die Anmeldungen auf drei Gäste pro Institution zu beschränken. Aufgrund der begrenzten Raumkapazität\, möchten wir darauf hinweisen\, dass wir Anmeldungen von Mitgliedern des forum vergabe e.V. vorrangig behandeln werden. Falls Sie wider Erwarten trotz Anmeldung nicht erscheinen können\, bitten wir darum\, uns kurz zu informieren\, damit andere Gäste dann nachrücken können.Wir möchten gerne hervorheben\, dass wir mit Blick auf die künftigen Treffen für alternative Raumangebote sehr dankbar wären.Wir freuen uns auf Ihr Kommen und möchten Sie bitten\, für die Aktualisierung unserer Adressdatei Ihre Kontaktdaten in Form einer Visitenkarte o.Ä. mitzubringen. \n\n\n\nMit besten Grüßen\, auch im Namen von Prof. Dr. Martin Burgi und Rechtsanwältin Dr. Ingrid Reichling!Uwe-Carsten VöllinkRechtsanwaltFachanwalt für Vergaberecht \n\n\n\n \n\n\n\nProgramm / Ablauf:\n\n\n\n \n\n\n\n14:00 Uhr Aktuelle Fälle der Vergabekammer Südbayern\, anschl. DiskussionRegierungsdirektor Matthias Steck und Regierungsdirektorin Sabine Müller \n\n\n\n 15:00 Uhr Aktuelle Entwicklungen im Vergabewesen in Brüssel\, Berlin und München\, anschl. DiskussionLtd. Ministerialrat Stefan GerbrachtBayerisches Staatsministerium für Wirtschaft\, Landesentwicklung und Energie \n\n\n\nPause \n\n\n\n16:30 Uhr Aktuelle Fälle der Vergabekammer Nordbayern\, anschl. DiskussionRegierungsdirektor Frank Baumgärtner \n\n\n\n17:15 Uhr Aktuelle Rechtsprechung des Vergabesenats des BayObLG\, anschl. DiskussionRichterin am Bayerischen Obersten Landesgericht Petra Willner \n\n\n\n18:00 Uhr Ende der Veranstaltung \n\n\n\n \n\n\n\nTeilnahme / Kosten:\n\n\n\nKosten: keine. \n\n\n\nZielgruppe: Mitglieder des forum vergabe e.V. und Interessierte. \n\n\n\nBeschränkungen: Räumliche Kapazität für max. 90 Gäste \n\n\n\nSehr gerne möchten wir dabei schon jetzt darauf hinweisen\, dass die Kapazität auf maximal 90 Gäste beschränkt sein wird und  darüberhinausgehende Anmeldungen leider nicht berücksichtigt werden können. \n\n\n\nAnmeldung: per E-Mail unter izel.koc@heussen-law.de \n\n\n\nAus organisatorischen Gründen möchten wir auch die Interessenten\, die sich auf das Save the Date gemeldet hatten\, um eine Anmeldung bitten. Wir bitten\, die Anmeldungen auf drei Gäste pro Institution zu beschränken. \n\n\n\n \n\n\n\n \n\n\n\n\n\nVersion Stand 13.10.2025 \n\n\n\n \n\n\n\nVeranstaltungsort:\n\n\n\n \n\n\n\nGvW Graf von Westphalen \n\n\n\nNymphenburger Straße 64 \n\n\n\n80335 München \n\n\n\n \n\n\n\n \n\n\n\nVeranstaltet von: \n\n\n\n \n\n\n\nRegionalgruppe Bayern des forum vergabe e.V.Kontakt: e: uwe-carsten.voellink@heussen-law.de
URL:https://forum-vergabe.de/veranstaltung/treffen-der-regionalgruppe-bayern-november-2025-muenchen/
CATEGORIES:Regionalgruppen-Treffen
ATTACH;FMTTYPE=image/png:https://forum-vergabe.de/wp-content/uploads/2024/06/00_RG-Bayern-Website-e1717481761855.png
END:VEVENT
END:VCALENDAR