BEGIN:VCALENDAR
VERSION:2.0
PRODID:-//forum vergabe - ECPv6.15.18//NONSGML v1.0//EN
CALSCALE:GREGORIAN
METHOD:PUBLISH
X-ORIGINAL-URL:https://forum-vergabe.de
X-WR-CALDESC:Veranstaltungen für forum vergabe
REFRESH-INTERVAL;VALUE=DURATION:PT1H
X-Robots-Tag:noindex
X-PUBLISHED-TTL:PT1H
BEGIN:VTIMEZONE
TZID:Europe/Berlin
BEGIN:DAYLIGHT
TZOFFSETFROM:+0100
TZOFFSETTO:+0200
TZNAME:CEST
DTSTART:20240331T010000
END:DAYLIGHT
BEGIN:STANDARD
TZOFFSETFROM:+0200
TZOFFSETTO:+0100
TZNAME:CET
DTSTART:20241027T010000
END:STANDARD
BEGIN:DAYLIGHT
TZOFFSETFROM:+0100
TZOFFSETTO:+0200
TZNAME:CEST
DTSTART:20250330T010000
END:DAYLIGHT
BEGIN:STANDARD
TZOFFSETFROM:+0200
TZOFFSETTO:+0100
TZNAME:CET
DTSTART:20251026T010000
END:STANDARD
BEGIN:DAYLIGHT
TZOFFSETFROM:+0100
TZOFFSETTO:+0200
TZNAME:CEST
DTSTART:20260329T010000
END:DAYLIGHT
BEGIN:STANDARD
TZOFFSETFROM:+0200
TZOFFSETTO:+0100
TZNAME:CET
DTSTART:20261025T010000
END:STANDARD
END:VTIMEZONE
BEGIN:VEVENT
DTSTART;TZID=Europe/Berlin:20250903T090000
DTEND;TZID=Europe/Berlin:20250904T170000
DTSTAMP:20260425T000221
CREATED:20250526T115630Z
LAST-MODIFIED:20251215T101402Z
UID:10000296-1756890000-1757005200@forum-vergabe.de
SUMMARY:Basisschulung Vergaberecht - September 2025 (Webinar)
DESCRIPTION:Inhalt:\n\n\n\n\nWer nicht so häufig oder zum ersten Mal mit dem Vergaberecht zu tun hat\, dem stellen sich viele Fragen. Speziell für wenig erfahrene Anwender des Vergaberechts bieten wir eine einführende systematische und praxisgerechte Darstellung dessen\, was bei der Durchführung von Vergabeverfahren zu beachten ist.Die Schulung berücksichtigt das aktuelle Vergaberecht einschließlich der Unterschwellenvergabeordnung. Vorkenntnisse sind nicht erforderlich. \n\n\n\nIn zwei vollen Tagen beantworten wir in der Basisschulung alle Fragen zu der praktischen Handhabung von Vergaberecht und der Durchführung von Vergabeverfahren. Es werden alle wichtigen Bereiche des Vergaberechts dargestellt und die Fragen der Teilnehmer diskutiert. Praxisfälle dienen der Vertiefung. \n\n\n\nZur Vertiefung empfehlen wir die jährliche Veranstaltung “VergabeFIT Vergaberecht vertieft – aktuell – praxisgerecht“\, an der Teilnehmer*innen einer Basisschulung einmalig vergünstig teilnehmen können. Auch im Jahr 2026 wird diese Veranstaltung wieder angeboten. \n\n\n\nBeginn/Ende: Die Schulung beginnt am beiden Tagen jeweils um 09.00 Uhr und endet ebenfalls an beiden Tagen jeweils um 17.00 Uhr. Pausen: am Vor- und Nachmittag eine viertelstündige Pause sowie eine einstündige Mittagspause \n\n\n\n \n\n\n\n\n\n\n\n\nThemenübersicht:\n\n\n\n\n \n\n\n\n\ndie vergaberechtlichen Regelwerke und ihre Anwendungsbereiche\n\n\n\nZiel des Vergaberechts\n\n\n\nGrundbegriffe wie “Öffentlicher Auftrag”\n\n\n\nAbgrenzung der Vertragsarten\n\n\n\nSchätzung des Auftragswertes\n\n\n\nWahl des Vergabeverfahrens\n\n\n\nAnforderungen an die Leistungsbeschreibung\n\n\n\nDurchführung des Vergabeverfahrens\n\n\n\nAufstellung der Eignungskriterien und Eignungsprüfung\n\n\n\nAufstellung der Wertungskriterien und Angebotswertung\n\n\n\nBeendigung des Vergabeverfahrens\n\n\n\nRechtsschutz\n\n\n\n\n \n\n\n\n\nVorbereitung / zusätzliche Informationen:\n\n\n\n\n \n\n\n\n\nFreiwillig: Damit wir die Schulung besser auf Ihre persönlichen Erwartungen ausrichten können\, bitte wir Sie\, diesen Fragebogen auszufüllen.\n\n\n\nFür die Veranstaltung: Die benötigten Gesetztestexte finden Sie hier https://forum-vergabe.de/themen/rechtsvorschriften/#Aktuelle-Vorschriften\n\n\n\n\n\n\n\n\n\nVortragende:\n\n\n\n\n \n\n\n\n\nRechtsanwalt Dr. Christian Teuber | Baker Tilly Rechtsanwaltsgesellschaft mbH; Mitglied im Vorstand der Regionalgruppe Nordrhein-Westfalen des forum vergabe e.V. \n\n\n\nHerr Dr. Teuber ist seit 2008 Rechtsanwalt und zudem Fachanwalt für Vergaberecht. Er verantwortet als (Senior-)Partner der Baker Tilly Rechtsanwaltsgesellschaft mbH standortübergreifend die Leitung des Bereichs Vergaberecht bei Baker Tilly Deutschland. Herr Dr. Teuber hat die Entwicklung des Vergaberechts in gut 25 Jahren wissenschaftlicher und anwaltlicher Berufstätigkeit kontinuierlich begleitet. Der Beratungsschwerpunkt von Herrn Dr. Teuber liegt in der Konzeption\, der Steuerung und der Durchführung öffentlicher Ausschreibungen. Darüber hinaus ist Herr Dr. Teuber auf die Begleitung von Mandanten in vergaberechtlichen Nachprüfungsverfahren spezialisiert. Herr Dr. Teuber ist Mitglied der Leitung der Regionalgruppe NRW des forum vergabe e. V. und Referenz auf verschiedensten vergaberechtlichen Fachveranstaltungen\, u. a. im Fachanwaltslehrgang Vergaberecht. \n\n\n\n\n\nRechtsanwältin Dr. Christiane Freytag website | Gleiss Lutz Hootz Hirsch Part mbB Rechtsanwälte\, Steuerberater \n\n\n\nRechtsanwältin Dr. Christiane Freytag ist im Öffentlichen Wirtschaftsrecht\, insbesondere im Vergaberecht\, tätig. Sie begleitet Auftraggeber bei der Gestaltung und Durchführung komplexer Vergabeverfahren ebenso wie Unternehmen als Bieter\, insbesondere im Bereich vergaberechtlicher Compliance und in Vergabenachprüfungsverfahren. Außerdem berät sie bei der Strukturierung öffentlich-öffentlicher Partnerschaften und bei PPPs. Daneben berät sie Mandanten regelmäßig auch im Umwelt- und Wirtschaftsverwaltungsrecht. \n\n\n\nChristiane Freytag absolvierte ihr Studium in Tübingen und Aix-en-Provence (Maîtrise en Droit 1995). Seit 2003 ist sie bei Gleiss Lutz tätig. Sie veröffentlicht regelmäßig zum Vergaberecht\, u.a. durch Beiträge im Beck‘schen Handbuch Vergaberecht (3. Aufl. 2021 sowie 4. Aufl. 2024) und im Beck’schen Handbuch IT-Vergabe (1. Aufl. 2022). Im Juni 2022 wurde sie vom Handelsblatt in Kooperation mit dem US-Verlag Best Lawyers als ‚Anwalt des Jahres’ im Bereich Öffentliches Recht Baden-Württemberg ausgezeichnet. \n\n\n\n\n\nProf. Dr. Mark von Wietersheim   |  forum vergabe e.V. \n\n\n\nProf. Dr. Mark von Wietersheim ist seit 2009 Geschäftsführer des forum vergabe e.V. sowie seit 1996 in Berlin als Rechtsanwalt zugelassen.Er ist Honorarprofessor an der Hochschule Osnabrück und lehrt dort seit 2006 das private Baurecht sowie Bauvergaberecht.Prof. Dr. von Wietersheim ist Autor zahlreicher Bücher und Buchbeiträge\, u.a. ist er Herausgeber des Ingenstau/Korbion\, Kommentar zur VOB. \n\n\n\n\n \n\n\n\n \n\n\n\n \n\n\n\n\nÜbersicht der Termine / Veranstaltungsseiten:\n\n\n\n\n \n\n\n\n\n03.-04.09.2025 als Webinar (hier)\n\n\n\n21.-22.10.2025 Frankfurt am Main\, reine Präsenzveranstalung\n\n\n\n18.-19.11.2025 als Webinar\n\n\n\n09.-10.12.2025 Berlin\, reine Präsenzveranstalung\n\n\n\n\n \n\n\n\nTeilnahmebeiträge:\n\n\n\n(umsatzsteuerbefreit nach § 4 Nr. 22a UStG) \n\n\n\ninkl. Tagungsunterlageninkl. Fortbildungsnachweis zur Vorlage nach § 15 FAO \n\n\n\n€ 500 für Nicht-Mitglieder(1)€ 350 für Mitglieder des forum vergabe e.V. \n\n\n\n \n\n\n\n \n\n\n\n(1)Für Institutionen: Mit unserem kostenfreien Testservice nehmen Sie 3 Monate lang zu Mitgliederkonditionen an unseren Veranstaltungen teil und können alle Leistungen des forum vergabe e.V. nutzen. Die Testphase endet automatisch mit Ablauf der 3 Monate und bedarf keiner Kündigung. ( Testservice-Antrag) \n\n\n\n\n\n \n\n\n\n\nPDF-Version:\n\n\n\n\n– \n\n\n\n\n\n\n\n\nVeranstaltungsort:\n\n\n\n\n\n\n \n\n\n\n \n\n\n\nVeranstaltet von:\n\n\n\nforum vergabe e.V.Geschäftsstelle – Frau Eléonore UnserT: +49 (0) 30 23 60 80 60F: +49 (0) 30 23 60 80 621e: info@forum-vergabe.de
URL:https://forum-vergabe.de/veranstaltung/basisschulung-vergaberecht-september-2025-webinar/
LOCATION:Online / Remote
CATEGORIES:Schulung
ATTACH;FMTTYPE=image/png:https://forum-vergabe.de/wp-content/uploads/2023/09/00_Basisschulungen-legal-e1699010886452.png
END:VEVENT
BEGIN:VEVENT
DTSTART;TZID=Europe/Berlin:20250912T130000
DTEND;TZID=Europe/Berlin:20250912T150000
DTSTAMP:20260425T000221
CREATED:20250707T101954Z
LAST-MODIFIED:20251215T101348Z
UID:10000307-1757682000-1757689200@forum-vergabe.de
SUMMARY:KI in immer mehr IT-Produkten: Was muss in der Beschaffung beachtet und geregelt werden? (Webinar)
DESCRIPTION:Inhalt:\n\n\n\n\n \n\n\n\nGrundlegende Erfolgsfaktoren und Zukunftsfelder der IT-Vergabe im Fokus \n\n\n\nEs handelt sich hierbei um Teil D dieser Veranstaltungsreihe\, in der verschiedene Aspekte und Besonderheiten der Beschaffung im IT-Bereich dargestellt werden. Diese Vergaben zeichnen sich oft durch eine besondere technische und wirtschaftliche Komplexität aus. \n\n\n\nWir freuen uns\, dass auch der vierte Teil dieser Veranstaltungsreihe von Herrn Dr. Moritz Philipp Koch\, IT.NRW – Information und Technik Nordrhein-Westfalen\, und Herrn Syndikusrechtsanwalt Robert Thiele\, Techniker Krankenkasse und Mitglied der AG EVB-IT des IT-Planungsrats wesentlich gestaltet wird. \n\n\n\nBei jedem Termin werden zusätzlich weitere Referent*innen ihre Expertise an die Anwesenden weitergeben.  \n\n\n\n \n\n\n\nThemenübersicht 12. September 2025:\n\n\n\nFolgende Themen stehen im Fokus: \n\n\n\n \n\n\n\n\nWeitere Details folgen.\n\n\n\n\n \n\n\n\nEine Veranstaltungsreihe mit: \n\n\n\n \n\n\n\n\nNadja Kwaß-Benkow  | Materna Information & Communications SE \n\n\n\nNadja Kwaß-Benkow ist seit 2006 bei Materna Informations & Comunications SE tätig\, und seit 2018 in ihrer Rolle als Director Digital Government. Seit 1997 befasst sie sich beruflich mit Vertrieb und hat mehr als 20 Jahre mit dem Schwerpunkt öffentliche Verwaltung. \n\n\n\n\n\nJohannes Thiedig | GovRadar GmbH \n\n\n\nJohannes Thiedig ist Senior Product Manager bei der GovRar GmbH\, einem Produkthersteller\, der sich auf die KI-unterstützte Digitalisierung der öffentlichen Beschaffung spezialisiert hat. Als Produkt- und Projektmanager konzipiert und entwickelt er seit 2018 digitale Lösungen für Kunden der öffentlichen Verwaltung. \n\n\n\n\n\nDr. Moritz Philipp Koch | IT.NRW – Information und Technik Nordrhein-Westfalen \n\n\n\nDr. Moritz Philipp Koch ist Leiter des Bereichs Sourcing (Vergabe/Vertragsmanagement/Lieferantenmanagement u.a.) beim Landesbetrieb Information und Technik Nordrhein-Westfalen (IT.NRW). Er ist Mitglied der AG EVB-IT des Bundesministeriums des Innern und für Heimat und Lehrbeauftragter (insb. der Hochschule für Polizei und öffentliche Verwaltung NRW). Er leitet zahlreiche Seminare zum Vergaberecht und ist Autor diverser Veröffentlichungen\, insbesondere „Vergaberecht im Zeitalter der Digitalisierung“ (Berliner Wissenschaftsverlag\, 2022). \n\n\n\n\n\nSyndikusanwalt Robert Thiele   |   Techniker Krankenkasse und Mitglied der AG EVB-IT des IT-Planungsrats \n\n\n\nRobert Thiele ist zur Zeit Referent im Bundesministerium des Inneren. Er befasst sich mit der Weiterentwicklung der EVB-IT und leitet eine Digitalisierungsprojekt. In der Techniker Krankenkasse berät er als Syndikusrechtsanwalt zum Vergabe- und Vertragsrecht und befasst sich mit der Digitalisierung von Einkaufsprozessen. Beim forum vergabe e.V. leitet er die Redaktion des Literaturbriefs und baute das Vergaberechtinformationssystems VERIS auf. Er ist Mitglied der EVB-IT Arbeitsgruppe und Autor im Beck’schen Online-Kommentar Vergaberecht. \n\n\n\n\n\n\n\n\n\nÜbersicht der Termine / Veranstaltungsseiten:\n\n\n\n\n \n\n\n\n\n12.09.2025\, 13:00-15:00 Uhr\, Teil 1 von 4: KI in immer mehr IT-Produkten: Was muss in der Beschaffung beachtet und geregelt werden? (Hier)\n\n\n\n10.10.2025\, 13:00-15:00 Uhr\, Teil 2 von 4: Aktuelle Rechtsprechung und Gesetzgebung zur IT-Beschaffung\n\n\n\n21.11.2025\, 13:00-15:00 Uhr\, Teil 3 von 4: NIS2-Umsetzungsgesetz: Was muss in der IT-Beschaffung beachtet werden? Update IT-Sicherheit in der Beschaffung\n\n\n\n12.12.2025\, 13:00-15:00 Uhr\, Teil 4 von 4: Digitale Souveränität in der IT-Beschaffung richtig umsetzen sowie Open Source Software beschaffen mithilfe der neuen EVB-IT Open Source \n\n\n\n\n\n\n\n\nTeilnahmebeiträge:\n\n\n\n(umsatzsteuerbefreit nach § 4 Nr. 22a UStG) \n\n\n\ninkl. Tagungsunterlageninkl. Fortbildungsnachweis zur Vorlage nach § 15 FAO \n\n\n\n \n\n\n\nMitglieder des forum vergabe e.V.Nichtmitglieder(1)pro Veranstaltung € 100 € 150  Gesamtpaket(4 Termine)€ 360€ 560\n\n\n\n(1) Für Institutionen: Mit unserem kostenfreien Testservice nehmen Sie 3 Monate lang zu Mitgliederkonditionen an unseren Veranstaltungen teil und können alle Leistungen des forum vergabe e.V. nutzen. Die Testphase endet automatisch mit Ablauf der 3 Monate und bedarf keiner Kündigung. ( Testservice-Antrag) \n\n\n\n \n\n\n\n\n\n \n\n\n\n\nPDF-Version:\n\n\n\n\n– \n\n\n\n\nVeranstaltungsort:\n\n\n\n\n\n\n \n\n\n\n \n\n\n\nVeranstaltet von:\n\n\n\nforum vergabe e.V.Geschäftsstelle – Frau Eléonore UnserT: +49 (0) 30 23 60 80 60F: +49 (0) 30 23 60 80 621e: info@forum-vergabe.de
URL:https://forum-vergabe.de/veranstaltung/ki-in-immer-mehr-it-produkten-was-muss-in-der-beschaffung-beachtet-und-geregelt-werden-webinar/
LOCATION:Online / Remote
CATEGORIES:Fort-/Weiterbildung,Schulung
ATTACH;FMTTYPE=image/png:https://forum-vergabe.de/wp-content/uploads/2025/07/Veranstaltungsbild-Brennpunt-e_1v4-20250912-e1756203203687.png
END:VEVENT
BEGIN:VEVENT
DTSTART;TZID=Europe/Berlin:20250917T000000
DTEND;TZID=Europe/Berlin:20250919T235959
DTSTAMP:20260425T000221
CREATED:20250314T151328Z
LAST-MODIFIED:20251215T101337Z
UID:10000291-1758067200-1758326399@forum-vergabe.de
SUMMARY:23. forum vergabe Gespräche - 2025 (Fulda)
DESCRIPTION:17.-19. September 2025 in Fulda\n\n\n\n \n\n\n\nÜberblick:\n\n\n\n \n\n\n\nTAGUNGSUNTERLAGEN – Downloadbereich: www.vergabe-gespraeche.deAuf dieser passwortgeschützten Seite können Sie die verfügbaren Präsentationen unter dem jeweiligen Programmpunkt finden. Für den Zugriff und den Download auf diese Dateien loggen Sie sich bitte mit dem Passwort dieser Veranstaltung ein.Auch die Fotogalerie werden wir Ihnen dort zur Verfügung stellen. Wir informieren Sie\, sobald diese fertiggestellt ist.Das Passwort sollte allen Teilnehnehmenden bereits vorliegen (E-Mail von Heike Stenzel). Bitte überprüfen Sie ggf. Ihren SPAM-/Junk-Ordner oder fragen Sie bei uns nach. \n\n\n\n \n\n\n\n\nThemenübersicht\n\n\n\nProgramm und Ablauf \n\n\n\nSponsoren\n\n\n\nTeilnahme\, Kosten und Anmeldung\n\n\n\nVeranstaltungsort und Übernachtung\n\n\n\nPDF-Version: –  \n\n\n\n\n\n\n\n\n \n\n\n\n \n\n\n\nSponsoring\nBei Fragen zum Sponsoring der 24. forum vergabe Gespräche vom 21.-23. April 2027 steht Ihnen Frau Heike Stenzel gerne zur Verfügung. Das Sponsoring für die jetzige Veranstaltung ist abgeschlossen – hier finden Sie die Sponsoren dieser Veranstaltung (Stand 19.08.2025). \n\n\n\nIn Umsetzung unseres gemeinnützigen Auftrages versuchen wir\, den Teilnahmebeitrag für die forum vergabe Gespräche so moderat wie möglich zu halten. Als Unterstützung der forum vergabe Gespräche und seiner Arbeit ist forum vergabe e. V. daher auf die Unterstützung durch Sponsoren angewiesen. Nur bei den forum vergabe Gesprächen bieten wir die Möglichkeit\, sich als Sponsor zu beteiligen. Je nach Höhe der Unterstützung weisen wir auf die Sponsoren in der Einladung\, der Online-Seite der forum vergabe Gespräche und vor Ort in Programmen und auf Bannern hin.  \n\n\n\n \n\n\n\n\n \n\n\n\nAuswahl erfolgt: Ihre These auf den forum vergabe Gesprächen 2025 zur Weiterentwicklung des Vergaberechts\nWir bedanken uns bei allen Bewerber*innen für die Einreichung ihrer These. Die Auswahl des Wissenschaftlichen Beirates des forum vergabe e. V. finden Sie weiter unten im Programm für den Freitag\, 19. September 2025. \n\n\n\nBis zum 08.08.2025 hatten wir dazu aufgerufen\, sich mit einem Beitrag zu folgendem Thema zu bewerben:  \n\n\n\nReformen des Vergaberechts werden gerade auf allen Ebenen diskutiert. Die Bundesländer erhöhen teils erheblich die Auftragswertgrenzen. Die Vergaberechtstransformation wird sicher nicht ohne Nachfolge-Vorhaben bleiben. Auf europäischer Ebene ist der Reformprozess angestoßen.Wie soll sich Ihrer Meinung nach das Vergaberecht weiterentwickeln\, um diesen Herausforderungen gerecht zu werden? \n\n\n\n \n\n\n\n \n\n\n\n \n\n\n\n\n \n\n\n\n \n\n\n\n\nThemenübersicht:\n\n\n\n\nDie 23. forum vergabe Gespräche werden am 17.09.2025 von der Key-Speakerin Frau Anita Lührs\, Bundesministerium des Innern\, mit dem Thema „Moderne Beschaffung gemeinsam gestalten – nachhaltig\, bürokratiearm\, digital“ eröffnet. Ein Fundament für den folgenden Sektempfang\, bei dem alle Teilnehmenden sofort die Möglichkeit haben\, sich kennenzulernen und thematisch auszutauschen.   \n\n\n\nAm zweiten Tag liegt – nach dem Grußwort des Stadtrats Stefan Grauel\, Fulda\,  – der Fokus der 23. forum vergabe Gespräche auf der Vergaberechtsreform in Deutschland. \n\n\n\nThema der einleitenden Podiumsdiskussion sind die Vergaberechtsbeschleunigung\, niedrigere Wertgrenzen – die Debatte und die Regelungsvorhaben laufen. Teilnehmende dieser Podiumsdiskussion sind Herr Dr. Gunnar Zillmann\, Bundeswirtschaftsministerium\, Herr Niels Lau\, BDI\, und Herr Bernd Düsterdiek\, DStGB. Die Moderation übernehmen Frau Hildegard Reppelmund\, DIHK\, und Frau Annette Schmidt\, Wirtschaftsministerium NRW. \n\n\n\nAuch der Wissenschaftliche Beirat des forum vergabe e. V. widmet sich diesen Reformen. Von den Mitgliedern dieses Beirates werden unter der Moderation des Vorsitzenden Herrn Prof. Dr. Martin Burgi\, Ludwig-Maximilians-Universität (München)\, die „Vergaberechtsreformen im Spiegel der Wissenschaft“ von Frau Prof. Dr. Claudia Fuchs\, LL.M.\, Wirtschaftsuniversität Wien\, Herrn Prof. Dr. Matthias Knauff\, LL.M. Eur.\, Friedrich-Schiller-Universität Jena\, und Herrn Prof. Martin Trybus\, LL.M. Ph.D\, Universität Birmingham\, vorgestellt und diskutiert. \n\n\n\nWeiter geht es mit den zwei Auswahl-Workshops:Im Workshop 1 „Rechtsschutz im Oberschwellenbereich – Optimierung in Praxis und Gesetzgebung“ setzen sich Frau Dr. Gundula Fehns-Böer\, OLG Frankfurt am Main\, Herr Klaus Neitzke\, VK Westfalen\, und Herr Rechtsanwalt Prof. Dr. Marius Raabe\, WEISSLEDER EWER mit dem Thema auseinander\, moderiert durch Herrn Rechtsanwalt Dr. Jakob Steiff\, LL.M.\, CMS. Das Thema des zweiten Workshops ist „Strategische Unabhängigkeit und Stärkung der Beschaffungsmärkte“\, moderiert von Herrn Rechtsanwalt Dr. Roland Stein\, BLOMSTEIN. Für die Diskussion stehen Frau Simone Terbrack\, Bundeswirtschaftsministerium\, und Frau Sonja Scharnhorst\, Innenministerium NRW\, sowie Herr Heiko Schütze\, HENSOLDT Sensors GmbH\, bereit. \n\n\n\nDie Verleihung des IPA 2025 (International Public Procurement Award) an Herrn Dr. Moritz Schuchert\, BLOMSTEIN\, laudiert durch Herrn Prof. Dr. Christoph Krönke\, Universität Bayreuth\, und das anschließende festliche Abendessen runden diesen Tag ab. \n\n\n\nDer Freitag beginnt mit den ausgewählten Thesen zum Thema “Wie soll sich Ihrer Meinung nach das Vergaberecht weiterentwickeln\, um diesen Herausforderungen gerecht zu werden?”. Wir freuen uns auf die Vorträge von Frau Rechtsanwältin Hanna Sophie Kurtz\, BLOMSTEIN\, Herrn Philipp Auth\, Bayerisches Staatsministerium für Digitales\, Frau Heike Kleine\, Unite Network SE\, und Herrn Rechtsanwalt Dr. Andreas Ziegler\, KUNZ. Herr Prof. Dr. Mark von Wietersheim\, forum vergabe e. V.\, moderiert. \n\n\n\nIm anschließenden Podium sind die „Aktuelle[n] Entwicklungen im Unterschwellenvergaberecht – Stand und Bewertung“ Gegenstand der Diskussion. An dieser Runde nehmen Herr Stefan Gerbracht\, Bayerisches Wirtschaftsministerium\, Herr Franz-Josef Schweikert\, Wirtschaftsministerium RP\, und Herr Dr. Sebastian Schneider\, Institut für Mittelstandsforschung\, teil. Herr Andreas Rönnau\, Handwerkskammer Hamburg und Stv. Sprecher der Ständigen Konferenz der Auftragsberatungsstellen übernimmt die Moderation. \n\n\n\nDem abschließenden Thema „Elektronische Marktplätze und Konsolidierung der Vergabeplattformen – neue Impulse für die Beschaffung oder alter Wein in neuen Schläuchen?“ widmen sich Herr Felix Zimmermann\, Bundesministerium des Innern\, und Herr Prof. Dr. Michael Eßig\, Universität der Bundeswehr. Die Diskussion wird moderiert von Herrn Rechtsanwalt Ralf Stötzel\, LL.M.\, GÖHMANN. \n\n\n\n—Weitere Information: Die Mitgliederversammlung findet am 17.09.2025 von 17:00 – 18:00 Uhr statt. \n\n\n\nnach oben \n\n\n\n \n\n\n\nProgramm / Ablauf:\n\n\n\n \n\n\n\nMITTWOCH\, 17. September 2025\n\n\n\n \n\n\n\n17:00 – 18:00 Uhr \n\n\n\nMitgliederversammlung des forum vergabe e. V.\n\n\n\nIm Anmeldeformular können Sie sich zur Versammlung anmelden. Die ordnungsgemäße Einladung inklusive Tagesordnung erfolgt 14 Tage vorab an die Mitglieder des forum vergabe e. V.. \n\n\n\n \n\n\n\n19:00 – 19:30 Uhr  \n\n\n\nKeynote: “Moderne Beschaffung gemeinsam gestalten – nachhaltig\, bürokratiearm\, digital”\n\n\n\nAnita Lührs  |  Bundesministerium des Innern \n\n\n\n \n\n\n\n19:30 – 23:00 Uhr \n\n\n\nSektempfang\n\n\n\n \n\n\n\nDONNERSTAG\, 18. September 2025\n\n\n\n \n\n\n\n09:00 – 09:30 Uhr \n\n\n\n \n\n\n\nGrußwort\n\n\n\nStadtrat Stefan Grauel  |  Vertreter der Stadt Fulda \n\n\n\n \n\n\n\n09:30 – 13:00 Uhr \n\n\n\nPodiumsdiskussion: Vergaberechtsreform auf nationaler Ebene\n\n\n\nModeration: \n\n\n\n\nAnnette Schmidt | Ministerium für Wirtschaft\, Industrie\, Klimaschutz und Energie des Landes Nordrhein-Westfalen\n\n\n\nHildegard Reppelmund  |  DIHK Deutsche Industrie- und Handelskammer\n\n\n\n\nTeilnehmende: \n\n\n\n\nDr. Gunnar Zillmann  |  Bundesministerium für Wirtschaft und Energie\n\n\n\nBernd Düsterdiek   |  Deutscher Städte- und Gemeindebund\n\n\n\n\n\nNiels Lau   |  BDI Bundesverband der Deutschen Industrie e. V.\n\n\n\n\n \n\n\n\n14:15 – 15:45 Uhr \n\n\n\nÖffentliche Tagung des Wissenschaftlichen Beirates des forum vergabe e. V.: Die Vergaberechtsreform im Spiegel der Wissenschaft\n\n\n\nModeration:  \n\n\n\n\nProf. Dr. Martin Burgi  |  Ludwig-Maximilians-Universität\, München\n\n\n\n\nTeilnehmende aus dem Wissenschaftlichen Beirat: \n\n\n\n\nProf. Dr. Claudia Fuchs\, LL.M.  |  Wirtschaftsuniversität Wien\n\n\n\nProf. Dr. Matthias Knauff\, LL.M. Eur.   |  Friedrich-Schiller-Universität Jena\n\n\n\nProf. Martin Trybus\, LL.M. Ph.D   |  Universität Birmingham\n\n\n\n\n \n\n\n\nWeitere Mitglieder des Wissenschaftlichen Beirates\n\nProf. Dr. Ferdinand Wollenschläger  |  Universität Augsburg\n\n\n\n\n\nProf. Dr. Oliver Dörr\, LL.M.   |  Universität Osnabrück\n\n\n\nProf. Dr. Michael Eßig   |  Universität der Bundeswehr\, München\n\n\n\nProf. Dr. Michael Kling  |  Phillipps-Universität Marburg\n\n\n\nProf. Dr. Thorsten Siegel  |  Freie Universität Berlin\n\n\n\n\n\n \n\n\n\n16:15 – 17:45 Uhr \n\n\n\n \n\n\n\n\n\nWorkshop 1:Rechtsschutz im Oberschwellenbereich –Optimierung in Praxis und Gesetzgebung\n\n\n\nModeration: \n\n\n\n\nRechtsanwalt Dr. Jakob Steiff\, LL.M.   |  CMS Hasche Sigle Partnerschaft von Rechtsanwälten und Steuerberatern mbB\n\n\n\n\nTeilnehmende: \n\n\n\n\nRechtsanwalt Prof. Dr. Marius Raabe   |  WEISSLEDER EWER Rechtsanwälte Partnerschaft mbB\n\n\n\nKlaus Neitzke  |  Vorsitzender der Vergabekammer Westfalen\n\n\n\nDr. Gundula Fehns-Böer   |  Oberlandesgericht Frankfurt am Main\n\n\n\n\n\n\nWorkshop 2:Strategische Unabhängigkeit und Stärkung der Beschaffungsmärkte\n\n\n\nModeration: \n\n\n\n\nRechtsanwalt Dr. Roland Stein   |  BLOMSTEIN Partnerschaft von Rechtsanwälten mbB\n\n\n\n\nTeilnehmende:  \n\n\n\n\nSimone Terbrack   |  Bundesministerium für Wirtschaft und Energie\n\n\n\nSonja Scharnhorst  |  Ministerium des Innern des Landes Nordrhein-Westfalen\n\n\n\nHeiko Schütze   |  HENSOLDT Sensors GmbH\n\n\n\n\n\n\n19:00 – 20:00 Uhr \n\n\n\n \n\n\n\nVerleihung des International Public Procurement Award (IPA) 2025\n\n\n\nLaudatio:  \n\n\n\n\nProf. Dr. Christoph Krönke   |  Universität Bayreuth\n\n\n\n\nPreisträger:  \n\n\n\n\nDr. Moritz Schuchert   |  BLOMSTEIN Partnerschaft von Rechtsanwälten mbB\n\n\n\n\n \n\n\n\n \n\n\n\n20:00 – 23:00 Uhr \n\n\n\nFestliches Abendessen\n\n\n\n \n\n\n\nFREITAG\, 19. September 2025\n\n\n\n \n\n\n\n09:15 – 10:00 Uhr  \n\n\n\nThesen: “Wie soll sich Ihrer Meinung nach das Vergaberecht weiterentwickeln\, um den Herausforderungen der aktuellen Vergaberechtsreformen gerecht zu werden?“\n\n\n\nModeration:  \n\n\n\n\nProf. Dr. Mark von Wietersheim   |  forum vergabe e.V.\n\n\n\n\nTeilnehmende: \n\n\n\n\nRechtsanwältin Hanna Sophie Kurtz   |   BLOMSTEIN Partnerschaft von Rechtsanwälten mbB\n\n\n\nPhilipp Auth  | Bayerisches Staatsministerium für Digitales\n\n\n\nHeike Kleine   |  Unite Network SE\n\n\n\nRechtsanwalt Dr. Andreas Ziegler  | KUNZ Rechtsanwälte Partnerschaftsgesellschaft mbB\n\n\n\n\n \n\n\n\n10:00 – 11:00 Uhr  \n\n\n\nPodiumsdiskussion: Aktuelle Entwicklungen im Unterschwellenvergaberecht – Stand und Bewertung\n\n\n\nModeration:  \n\n\n\n\nAndreas Rönnau  | Handwerkskammer Hamburg / Stv. Sprecher der Ständigen Konferenz der Auftragsberatungsstellen\n\n\n\n\nTeilnehmende:  \n\n\n\n\nFranz-Josef Schweikert  |  Ministerium für Wirtschaft\, Verkehr\, Landwirtschaft und Weinbau Rheinland-Pfalz\n\n\n\nStefan Gerbracht  |  Bayerisches Staatsministerium für Wirtschaft\, Landesentwicklung und Energie\n\n\n\nDr. Sebastian Schneider   |  Institut für Mittelstandsforschung Bonn\n\n\n\n\n \n\n\n\n11:30 – 12:30 Uhr  \n\n\n\nPodiumsdiskussion: Elektronische Marktplätze und Konsolidierung der Vergabeplattformen – neue Impulse für die Beschaffung oder alter Wein in neuen Schläuchen?\n\n\n\nModeration: \n\n\n\n\nRechtsanwalt Ralf Stötzel\, LL.M.  | GÖHMANN Rechtsanwälte Abogados Advokat Steuerberater Partnerschaft mbB\n\n\n\n\nTeilnehmende:  \n\n\n\n\nFelix Zimmermann  | Bundesministerium des Innern\n\n\n\n\n\nProf. Dr. Michael Eßig  | Universität der Bundeswehr München\n\n\n\n\n \n\n\n\n12:30 Uhr \n\n\n\nEnde der forum vergabe Gespräche 2025\n\n\n\n \n\n\n\n \n\n\n\nnach oben \n\n\n\n \n\n\n\nGesponsert durch:\n\n\n\n \n\n\n\n\n\n\n \n\n\n\n\n\n\n\n\n\n\n\n\n\n \n\n\n\n\n\n\n\n \n\n\n\n\n\n\n\n \n\n\n\n\n\n\n\n \n\n\n\n\n\n\n\n \n\n\n\n\n\n\n\n \n\n\n\n\n\n\nUnser Dank gilt auch den weiteren Sponsoren der forum vergabe Gespräche 2025: \n\n\n\nHFK Rechtsanwälte PartG mbB * avocado rechtsanwälte * BLOMSTEIN Partnerschaft von Rechtsanwälten mbB * DAGEFÖRDE – Öffentliches Wirtschaftsrecht Rechtsanwaltsgesellschaft mbH * Dentons Europa (Germany) GmbH & Co. KG * EICHLER KERN KLEIN Rechtsanwälte PartG mbB * Gleiss Lutz Hootz Hirsch Part mbB * GÖRG Partnerschaft von Rechtsanwälten mbB * GvW Graf von Westphalen Rechtsanwälte Steuerberater Partnerschaft mbB * HAVER & MAILÄNDER Rechtsanwälte Partnerschaft mbB * HLP.Heiermann Losch GbR * KPMG Law Rechtsanwaltsgesellschaft mbH * Langwieser Rechtsanwälte Partnerschaft mbB * LUTZ ABEL Rechtsanwälte PartG mbB * Otting Zinger Rechtsanwälte PartG mbB * PricewaterhouseCoopers GmbH Wirtschaftsprüfungsgesellschaft * Unite Network SE * Heuking Kühn Lüer Wojtek Partnerschaft mbB von Rechtsanwälten und Steuerberatern \n\n\n\n \n\n\n\nnach oben \n\n\n\n \n\n\n\nTeilnahme / Kosten / Anmeldung:\n\n\n\n(umsatzsteuerbefreit nach § 4 Nr. 22a UStG) \n\n\n\ninkl. Tagungsunterlageninkl. Verpflegung (Empfang der Teilnehmer am Vorabend\, das Mittag- und Abendessen während der Veranstaltung\, die Tagungsgetränke)inkl. Fortbildungsnachweis zur Vorlage nach § 15 FAO \n\n\n\n€ 660 für Nicht-Mitglieder (1)€ 550 für Mitglieder des forum vergabe e.V. \n\n\n\n \n\n\n\n \n\n\n\n \n\n\n\n\n\n(1) Für Institutionen: Mit unserem kostenfreien Testservice nehmen Sie 3 Monate lang zu Mitgliederkonditionen an unseren Veranstaltungen teil und können alle Leistungen des forum vergabe e.V. nutzen. Die Testphase endet automatisch mit Ablauf der 3 Monate und bedarf keiner Kündigung. ( Testservice-Antrag) \n\n\n\nnach oben \n\n\n\n \n\n\n\nVeranstaltungsort und Übernachtung\n\n\n\nMaritim Hotel am Schlossgarten FuldaBarocke OrangeriePauluspromenade 236037 FuldaT: +49 (0) 661 28 20> zur Website des Hotels \n\n\n\nÜbernachtung – Abrufkontingente unter dem Stichwort “forum vergabe e. V.“ \n\n\n\n \n\n\n\n\nIm Tagungshotel – am 14.08.2025 abgelaufen \n\n\n\nIn weiteren Hotels – am 15.08.2025 abgelaufen\n\n\n\n\n \n\n\n\nnach oben \n\n\n\n \n\n\n\nVeranstaltet von:\n\n\n\nforum vergabe e. V.Geschäftsstelle – Frau Heike StenzelT: +49 (0) 30 23 60 80 60F: +49 (0) 30 23 60 80 621e: info@forum-vergabe.de
URL:https://forum-vergabe.de/veranstaltung/23-forum-vergabe-gespraeche-2025-fulda/
LOCATION:Barocke Orangerie Maritim Hotel am Schlossgarten Fulda\, Pauluspromenade 2\, Fulda\, 36037
CATEGORIES:Fort-/Weiterbildung,Tagung/Kongress,Vergaberechtliche Rechtsprechung
ATTACH;FMTTYPE=image/png:https://forum-vergabe.de/wp-content/uploads/2025/03/00_forum-vergabe-Gespraeche-Cover-mit-Nr.23-fv-e1765195933333.png
END:VEVENT
END:VCALENDAR