BEGIN:VCALENDAR
VERSION:2.0
PRODID:-//forum vergabe - ECPv6.15.18//NONSGML v1.0//EN
CALSCALE:GREGORIAN
METHOD:PUBLISH
X-ORIGINAL-URL:https://forum-vergabe.de
X-WR-CALDESC:Veranstaltungen für forum vergabe
REFRESH-INTERVAL;VALUE=DURATION:PT1H
X-Robots-Tag:noindex
X-PUBLISHED-TTL:PT1H
BEGIN:VTIMEZONE
TZID:Europe/Berlin
BEGIN:DAYLIGHT
TZOFFSETFROM:+0100
TZOFFSETTO:+0200
TZNAME:CEST
DTSTART:20240331T010000
END:DAYLIGHT
BEGIN:STANDARD
TZOFFSETFROM:+0200
TZOFFSETTO:+0100
TZNAME:CET
DTSTART:20241027T010000
END:STANDARD
BEGIN:DAYLIGHT
TZOFFSETFROM:+0100
TZOFFSETTO:+0200
TZNAME:CEST
DTSTART:20250330T010000
END:DAYLIGHT
BEGIN:STANDARD
TZOFFSETFROM:+0200
TZOFFSETTO:+0100
TZNAME:CET
DTSTART:20251026T010000
END:STANDARD
BEGIN:DAYLIGHT
TZOFFSETFROM:+0100
TZOFFSETTO:+0200
TZNAME:CEST
DTSTART:20260329T010000
END:DAYLIGHT
BEGIN:STANDARD
TZOFFSETFROM:+0200
TZOFFSETTO:+0100
TZNAME:CET
DTSTART:20261025T010000
END:STANDARD
END:VTIMEZONE
BEGIN:VEVENT
DTSTART;TZID=Europe/Berlin:20250828T100000
DTEND;TZID=Europe/Berlin:20250828T113000
DTSTAMP:20260424T224325
CREATED:20250408T081852Z
LAST-MODIFIED:20251215T101413Z
UID:10000293-1756375200-1756380600@forum-vergabe.de
SUMMARY:Das Zuwendungsvergaberecht (Webinar)
DESCRIPTION:Inhalt: \n\n\n\nEin kurzer Überblick über das „Minenfeld“ für Förderprojekte öffentlicher/privater Zuwendungsempfänger\n\n\n\nFörderprojekte öffentlicher/privater Zuwendungsempfänger sind weiterhin bundesweit an der Tagesordnung\, nicht zuletzt aufgrund der sich hierzulande vollziehenden Transformation (Verkehrswende\, Energiewende\, Infrastrukturen\, etc.). Hier gilt es\, das besondere Zuwendungsvergaberecht des Fördermittelgebers zu beachten\, um – z. T. empfindliche – Mittelkürzungen für das Projekt tunlichst zu vermeiden. \n\n\n\n \n\n\n\nThemenübersicht:\n\n\n\n \n\n\n\n\n–\n\n\n\n\n \n\n\n\nVortragende: \n\n\n\n \n\n\n\n\nRechtsanwalt Dr. Martin Jansen  | Kapellmann und Partner Rechtsanwälte mbB \n\n\n\nDr. Martin Jansen ist Rechtsanwalt und Fachanwalt für Vergaberecht. Er ist als Partner am Berliner Standort der Kanzlei Kapellmann und Partner Rechtsanwälte mbB und von dort aus bundesweit tätig. Er berät sowohl Auftraggeber als auch Unternehmen schwerpunktmäßig im Vergaberecht\, daneben insbesondere im Bau- und Architektenrecht\, wozu auch die gerichtliche Vertretung im Nachprüfungsverfahren bzw. Zivilrechtsstreitigkeiten gehört. Ein weiterer Fokus liegt auf der Beratung von Fördermittelempfängern im „Zuwendungsvergaberecht“\, wozu auch die Abwehr drohender Rückforderungen bis hin zu den Verwaltungsgerichten gehört. Herr Dr. Jansen ist Mitautor verschiedener Kommentare und Autor diverser weiterer Fachpublikationen. Zudem ist er Lehrbeauftragter für Vergaberecht an der Akademie der Hochschule Biberach sowie regelmäßig als Dozent für diverse Bildungsträger und als Referent auf Fachveranstaltungen tätig. \n\n\n\n\n \n\n\n\nTeilnahmebeiträge:\n\n\n\n(umsatzsteuerbefreit nach § 4 Nr. 22a UStG) \n\n\n\ninkl. Tagungsunterlageninkl. Fortbildungsnachweis zur Vorlage nach § 15 FAO€ 150 für Nichtmitglieder (1)€ 100 für Mitglieder des forum vergabe e.V. € 50 für Immatrikulierte (Nachweis erforderlich) \n\n\n\n(1) Für Institutionen: Mit unserem kostenfreien Testservice nehmen Sie 3 Monate lang zu Mitgliederkonditionen an unseren Veranstaltungen teil und können alle Leistungen des forum vergabe e.V. nutzen. Die Testphase endet automatisch mit Ablauf der 3 Monate und bedarf keiner Kündigung. ( Testservice-Antrag) \n\n\n\n \n\n\n\n \n\n\n\n \n\n\n\n\n\n \n\n\n\n\nPDF-Version:\n\n\n\n\n– \n\n\n\n \n\n\n\nVeranstaltungsort:\n\n\n\n\n\n \n\n\n\n \n\n\n\nVeranstaltet von:\n\n\n\n\n\nAnsprechpartnerin: Frau Eléonore Unser
URL:https://forum-vergabe.de/veranstaltung/das-zuwendungsvergaberecht-webinar/
LOCATION:Online / Remote
CATEGORIES:Fort-/Weiterbildung
ATTACH;FMTTYPE=image/png:https://forum-vergabe.de/wp-content/uploads/2025/04/Veranstaltungsbild-20250828_Zuwendungsvergaberecht-e1765195916146.png
ORGANIZER;CN="forum vergabe e.V.":MAILTO:info@forum-vergabe.de
END:VEVENT
END:VCALENDAR