BEGIN:VCALENDAR
VERSION:2.0
PRODID:-//forum vergabe - ECPv6.15.18//NONSGML v1.0//EN
CALSCALE:GREGORIAN
METHOD:PUBLISH
X-ORIGINAL-URL:https://forum-vergabe.de
X-WR-CALDESC:Veranstaltungen für forum vergabe
REFRESH-INTERVAL;VALUE=DURATION:PT1H
X-Robots-Tag:noindex
X-PUBLISHED-TTL:PT1H
BEGIN:VTIMEZONE
TZID:Europe/Berlin
BEGIN:DAYLIGHT
TZOFFSETFROM:+0100
TZOFFSETTO:+0200
TZNAME:CEST
DTSTART:20240331T010000
END:DAYLIGHT
BEGIN:STANDARD
TZOFFSETFROM:+0200
TZOFFSETTO:+0100
TZNAME:CET
DTSTART:20241027T010000
END:STANDARD
BEGIN:DAYLIGHT
TZOFFSETFROM:+0100
TZOFFSETTO:+0200
TZNAME:CEST
DTSTART:20250330T010000
END:DAYLIGHT
BEGIN:STANDARD
TZOFFSETFROM:+0200
TZOFFSETTO:+0100
TZNAME:CET
DTSTART:20251026T010000
END:STANDARD
BEGIN:DAYLIGHT
TZOFFSETFROM:+0100
TZOFFSETTO:+0200
TZNAME:CEST
DTSTART:20260329T010000
END:DAYLIGHT
BEGIN:STANDARD
TZOFFSETFROM:+0200
TZOFFSETTO:+0100
TZNAME:CET
DTSTART:20261025T010000
END:STANDARD
END:VTIMEZONE
BEGIN:VEVENT
DTSTART;TZID=Europe/Berlin:20250401T180000
DTEND;TZID=Europe/Berlin:20250401T200000
DTSTAMP:20260422T073640
CREATED:20250122T073159Z
LAST-MODIFIED:20251215T100909Z
UID:10000289-1743530400-1743537600@forum-vergabe.de
SUMMARY:Treffen der Regionalgruppe Südwest - April 2025
DESCRIPTION:Einladung:\n\n\n\n \n\n\n\nSehr geehrte Damen und Herren\, liebe Mitglieder\, \n\n\n\ngerne möchten wir Sie zu unserer 55. Sitzung der Regionalgruppe Südwest forum vergabe e.V. einladen\, am \n\n\n\nDienstag\, 01.04.2025\, um 18:00 UhrOrt: CMS Hasche Sigle\, Neue Mainzer Str. 2 – 4\, 60311 Frankfurt/M. \n\n\n\nDie inhaltlichen Schwerpunkte der Sitzung finden Sie im nächsten Abschnitt auf dieser Seite und in der PDF weiter unten.  \n\n\n\nBitte melden Sie sich bis spätestens 20. März 2025 mit beiliegendem Formular \n\n\n\nWir hoffen\, dass möglichst viele Mitglieder der Regionalgruppe Südwest unserer Einladung folgen werden und verbleiben mit freundlichen Grüßen \n\n\n\nRechtsanwalt Dr. Kai-Uwe Schneevogl (GÖRG Part. von Rechtsanwälten mbB)Dr. Andreas Ziegler (Kunz Rechtsanwälte) \n\n\n\n \n\n\n\nProgramm / Ablauf:\n\n\n\nTOP 1: Begrüßung durch die Leitung der RegionalgruppeDr. Kai-Uwe Schneevogl\, GÖRG Partnerschaft von Rechtsanwälten mbB\, FrankfurtDr. Andreas Ziegler\, KUNZ Rechtsanwälte\, Main \n\n\n\nTOP 2: \n\n\n\nAktueller Überblick über den Stand des Vergaberechts mit anschließender AusspracheProf. Dr. Mark von Wietersheim\, forum vergabe e.V.\, Geschäftsführer\, Berlin \n\n\n\nTOP 3: \n\n\n\nArchitektenwettbewerbe im Bermudadreieck zwischen Wettbewerbsrichtlinien\, Vergaberecht und Kommunalpolitik – ein Bericht aus der PraxisDr. Jakob Steiff\, CMS Hasche Sigle Partnerschaft von Rechtsanwälten und Steuerberatern mbB\, Frankfurt/M. \n\n\n\nTOP 4: \n\n\n\nPreisprüfung nach § 60 VgV – ein ÜberblickDr. Andreas Ziegler\, KUNZ Rechtsanwälte\, Mainz \n\n\n\n \n\n\n\nTeilnahme / Kosten:\n\n\n\nKostenfrei – Bitte melden Sie sich bis spätestens 20. März 2025 mit beiliegendem Formular an. \n\n\n\n \n\n\n\n \n\n\n\n\n\nVersion Stand 21.03.2025 \n\n\n\n \n\n\n\nVeranstaltungsort:\n\n\n\nCMS Hasche SigleNeue Mainzer Str. 2-460311 Frankfurt am Main \n\n\n\nVeranstaltet von: \n\n\n\n \n\n\n\nRegionalgruppe Südwest des forum vergabe e.V.Kontakt: Dr. Kai-Uwe Schneevogl (GÖRG Partnerschaft von Rechtsanwälten mbB)   |   e: kschneevogl@goerg.de
URL:https://forum-vergabe.de/veranstaltung/treffen-der-regionalgruppe-suedwest-april-2025/
CATEGORIES:Regionalgruppen-Treffen
ATTACH;FMTTYPE=image/png:https://forum-vergabe.de/wp-content/uploads/2023/11/00_RG-Suedwest-Website-e1708087919151.png
END:VEVENT
BEGIN:VEVENT
DTSTART;TZID=Europe/Berlin:20250410T090000
DTEND;TZID=Europe/Berlin:20250411T170000
DTSTAMP:20260422T073640
CREATED:20241118T142205Z
LAST-MODIFIED:20251215T100901Z
UID:10000275-1744275600-1744390800@forum-vergabe.de
SUMMARY:Basisschulung Vergaberecht - April 2025 (Berlin)
DESCRIPTION:Hinweis:\n\n\n\nTeilnehmer*innen (max.): 12  \n\n\n\n \n\n\n\nVeranstaltungsort: Geschäftsstelle forum vergabe e.V.\, Spichernstraße 15\, 10777 Berlin \n\n\n\n \n\n\n\n\nInhalt:\n\n\n\n\nWer nicht so häufig oder zum ersten Mal mit dem Vergaberecht zu tun hat\, dem stellen sich viele Fragen. Speziell für wenig erfahrene Anwender des Vergaberechts bieten wir eine einführende systematische und praxisgerechte Darstellung dessen\, was bei der Durchführung von Vergabeverfahren zu beachten ist.Die Schulung berücksichtigt das aktuelle Vergaberecht einschließlich der Unterschwellenvergabeordnung. Vorkenntnisse sind nicht erforderlich. \n\n\n\nIn zwei vollen Tagen beantworten wir in der Basisschulung alle Fragen zu der praktischen Handhabung von Vergaberecht und der Durchführung von Vergabeverfahren. Es werden alle wichtigen Bereiche des Vergaberechts dargestellt und die Fragen der Teilnehmer diskutiert. Praxisfälle dienen der Vertiefung. \n\n\n\nZur Vertiefung empfehlen wir die jährliche Veranstaltung “VergabeFIT Vergaberecht vertieft – aktuell – praxisgerecht“\, an der Teilnehmer*innen einer Basisschulung einmalig vergünstig teilnehmen können. \n\n\n\nBeginn/Ende: Die Schulung beginnt am beiden Tagen jeweils um 09.00 Uhr und endet ebenfalls an beiden Tagen jeweils um 17.00 Uhr. Pausen: am Vor- und Nachmittag eine viertelstündige Pause sowie eine einstündige Mittagspause \n\n\n\n \n\n\n\n\n\n\n\n\nThemenübersicht:\n\n\n\n\n \n\n\n\n\ndie vergaberechtlichen Regelwerke und ihre Anwendungsbereiche\n\n\n\nZiel des Vergaberechts\n\n\n\nGrundbegriffe wie “Öffentlicher Auftrag”\n\n\n\nAbgrenzung der Vertragsarten\n\n\n\nSchätzung des Auftragswertes\n\n\n\nWahl des Vergabeverfahrens\n\n\n\nAnforderungen an die Leistungsbeschreibung\n\n\n\nDurchführung des Vergabeverfahrens\n\n\n\nAufstellung der Eignungskriterien und Eignungsprüfung\n\n\n\nAufstellung der Wertungskriterien und Angebotswertung\n\n\n\nBeendigung des Vergabeverfahrens\n\n\n\nRechtsschutz\n\n\n\n\n \n\n\n\n\nVorbereitung / zusätzliche Informationen:\n\n\n\n\n \n\n\n\n\nFreiwillig: Damit wir die Schulung besser auf Ihre persönlichen Erwartungen ausrichten können\, bitte wir Sie\, diesen Fragebogen auszufüllen.\n\n\n\nFür die Veranstaltung: Die benötigten Gesetztestexte finden Sie hier https://forum-vergabe.de/themen/rechtsvorschriften/#Aktuelle-Vorschriften\n\n\n\n\n\n\n\n\n\nVortragende:\n\n\n\n\n \n\n\n\n\n \n\n\n\nRechtsanwältin Dr. Julia Herdy  | Kapellmann und Partner RAe mbB \n\n\n\nFrau Dr. Herdy berät zu allen Fragen des Vergaberechts sowie zur Gestaltung der jeweils zugehörigen Verträge. Zu den Mandanten gehören Auftraggeber wie Auftragnehmer\, die sie in europaweiten und nationalen Vergabeverfahren von Bau-\, Liefer- und Dienstleistungen (nach VgV\, SektVO\, VOB/A\, UVgO) begleitet und vor den Gerichten sowie Vergabekammern vertritt. Daneben ist Frau Dr. Herdy als Referentin von (Inhouse-) Schulungen und als Autorin vergaberechtlicher Buchbeiträge tätig. \n\n\n\n \n\n\n\n\n\nRechtsanwalt Dr. Benedikt Overbuschmann  | ZIRNGIBL Rechtsanwälte Partnerschaft mbB \n\n\n\nHerr Dr. Overbuschmann ist bereits seit über 20 Jahren als Rechtsanwalt tätig. Er ist spezialisiert auf die vergaberechtliche Beratung von Bietern und öffentlichen Auftraggebern. Er berät diese bei der Vorbereitung und Durchführung von Vergabeverfahren. Ebenso vertritt er seine Mandanten in Vergabenachprüfungsverfahren vor den Vergabekammern und Vergabesenaten. Daneben hält er  Seminare zum Vergaberecht und beteiligt sich an der wissenschaftlichen Diskussion mit der Veröffentlichung von Aufsätzen und der Mitarbeit in Kommentaren. Herr Dr. Overbuschmann ist zudem Lehrbeauftragter für Vergaberecht an der Technischen Universität Berlin. \n\n\n\n\n\nProf. Dr. Mark von Wietersheim   |  forum vergabe e.V. \n\n\n\nProf. Dr. Mark von Wietersheim ist seit 2009 Geschäftsführer des forum vergabe e.V. tätig sowie seit 1996 in Berlin als Rechtsanwalt zugelassen.Er ist Honorarprofessor an der Hochschule Osnabrück und lehrt dort seit 2006 das private Baurecht sowie Bauvergaberecht.Prof. Dr. von Wietersheim ist Autor zahlreicher Bücher und Buchbeiträge\, u.a. ist er Herausgeber des Ingenstau/Korbion\, Kommentar zur VOB. \n\n\n\n\n \n\n\n\n \n\n\n\n \n\n\n\n\nÜbersicht der Termine / Veranstaltungsseiten:\n\n\n\n\n \n\n\n\n\n19.-20.03.2025 als Webinar\n\n\n\n10.-11.04.2025 Berlin\, reine Präsenzveranstalung (hier)\n\n\n\n13.-14.05.2025 als Webinar\n\n\n\n18.-19.06.2025 als Webinar\n\n\n\n\n \n\n\n\nTeilnahmebeiträge:\n\n\n\n(umsatzsteuerbefreit nach § 4 Nr. 22a UStG) \n\n\n\ninkl. Tagungsunterlageninkl. Verpflegunginkl. Fortbildungsnachweis zur Vorlage nach § 15 FAO \n\n\n\n€ 600 für Nicht-Mitglieder(1)€ 450 für Mitglieder des forum vergabe e.V. \n\n\n\n \n\n\n\n \n\n\n\n(1)Für Institutionen: Mit unserem kostenfreien Testservice nehmen Sie 3 Monate lang zu Mitgliederkonditionen an unseren Veranstaltungen teil und können alle Leistungen des forum vergabe e.V. nutzen. Die Testphase endet automatisch mit Ablauf der 3 Monate und bedarf keiner Kündigung. ( Testservice-Antrag) \n\n\n\n \n\n\n\n\n\n \n\n\n\n\nPDF-Version:\n\n\n\n\n– \n\n\n\n \n\n\n\n\n\n\n\n\nVeranstaltungsort:\n\n\n\n\nGeschäftsstelle forum vergabe e.V. Spichernstraße 1510777 Berlin Deutschland \n\n\n\n \n\n\n\nVeranstaltet von:\n\n\n\nforum vergabe e.V.Geschäftsstelle – Frau Heike StenzelT: +49 (0) 30 23 60 80 60F: +49 (0) 30 23 60 80 621e: info@forum-vergabe.de
URL:https://forum-vergabe.de/veranstaltung/basisschulung-vergaberecht-april-2025-berlin/
CATEGORIES:Schulung
ATTACH;FMTTYPE=image/png:https://forum-vergabe.de/wp-content/uploads/2023/09/00_Basisschulungen-legal-e1699010886452.png
END:VEVENT
BEGIN:VEVENT
DTSTART;TZID=Europe/Berlin:20250411T090000
DTEND;TZID=Europe/Berlin:20250411T110000
DTSTAMP:20260422T073640
CREATED:20241216T115327Z
LAST-MODIFIED:20251215T100848Z
UID:10000283-1744362000-1744369200@forum-vergabe.de
SUMMARY:Wertungsmethoden und Zuschlagskriterien bei IT-Ausschreibungen (Webinar)
DESCRIPTION:Inhalt:\n\n\n\n\n\n\n\n\nGrundlegende Erfolgsfaktoren und Zukunftsfelder der IT-Vergabe im Fokus \n\n\n\nEs handelt sich hierbei um Teil D dieser Veranstaltungsreihe\, in der verschiedene Aspekte und Besonderheiten der Beschaffung im IT-Bereich dargestellt werden. Diese Vergaben zeichnen sich oft durch eine besondere technische und wirtschaftliche Komplexität aus. \n\n\n\nWir freuen uns\, dass auch der vierte Teil dieser Veranstaltungsreihe von Herrn Dr. Moritz Philipp Koch\, IT.NRW – Information und Technik Nordrhein-Westfalen\, und Herrn Syndikusrechtsanwalt Robert Thiele\, Techniker Krankenkasse und Mitglied der AG EVB-IT des IT-Planungsrats wesentlich gestaltet wird. \n\n\n\nBei jedem Termin werden zusätzlich weitere Referent*innen ihre Expertise an die Anwesenden weitergeben.  \n\n\n\n \n\n\n\nThemenübersicht 11. April 2025:\n\n\n\nFolgende Themen stehen im Fokus: \n\n\n\n \n\n\n\n\nAktuelle Rechtsprechung zu Wertungsmethoden und Zuschlagskriterien bei IT-Ausschreibungen \n\n\n\nWelche Wertungsmethoden bewähren sich für IT-Ausschreibungen 2025?\n\n\n\nRolle der UfAB- Preis / Leistung / weitere Aspekte: Zuschlagskritierien effizient aufstellen\n\n\n\n\n \n\n\n\nEine Veranstaltungsreihe mit: \n\n\n\n \n\n\n\n\nMonika Henkelmann | Informationstechnikzentrum Bund – ITZBund \n\n\n\nFrau Monika Henkelmann ist stellvertretende Referatsleiterin des Referats “Beschaffung\, Vertrags- und Lizenzmanagement\, Justiziariat” beim Informationstechnikzentrum Bund. Nach Tätigkeiten als Rechtsanwältin und Syndikusanwältin mit dem Schwerpunkt Vergaberecht ist sie seit 2014 auf öffentlicher Auftraggeberseite auf Bundesebene (Bundesanstalt für Finanzmarktstabilisierung\, Bundesanstalt für Finanzdienstleistungsaufsicht\, Informationstechnikzentrum Bund) tätig. Beim Informationstechnikzentrum Bund verantwortet sie den Bereich der förmlichen Vergabeverfahren. Ihr Schwerpunkt ist die vergabe- und vertragsrechtliche Beratung und Koordination großvoluminöser Vergabeverfahren insbesondere im Bereich der IT-Vergabe. Sie ist Mitglied der AG EVB-IT Verträge  des Bundesministeriums des Innern\, für Bau und Heimat. \n\n\n\n\n \n\n\n\n\nJana Janze | Janze & Janze GmbH \n\n\n\nAls Expertin für Verwaltungsinnovation sowie für Organisations- und Strategieentwicklung begleitet Jana Janze seit über fünfzehn Jahren die digitale Transformation in Ministerien\, Ländern\, Kommunen und weiteren behördlichen Einrichtungen – sowohl in Deutschland als auch weltweit. Sie baut Innovationslabore und Digitalisierungseinheiten auf und fördert so den Austausch von Ideen. Als CEO des Start-ups „GovMarket“ hat sie die Beschaffung von GovTech-Produkten vereinfacht. Im Jahr 2024 gründete sie die Janze & Janze GmbH\, um die Verknüpfung von Menschen und IT zu fördern – mit Expertise und Leidenschaft für den Wandel in der öffentlichen Verwaltung. \n\n\n\n\n\nDr. Moritz Philipp Koch | IT.NRW – Information und Technik Nordrhein-Westfalen \n\n\n\nDr. Moritz Philipp Koch ist Leiter des Bereichs Sourcing (Vergabe/Vertragsmanagement/Lieferantenmanagement u.a.) beim Landesbetrieb Information und Technik Nordrhein-Westfalen (IT.NRW). Er ist Mitglied der AG EVB-IT des Bundesministeriums des Innern und für Heimat und Lehrbeauftragter (insb. der Hochschule für Polizei und öffentliche Verwaltung NRW). Er leitet zahlreiche Seminare zum Vergaberecht und ist Autor diverser Veröffentlichungen\, insbesondere „Vergaberecht im Zeitalter der Digitalisierung“ (Berliner Wissenschaftsverlag\, 2022). \n\n\n\n\n\nSyndikusanwalt Robert Thiele   |   Techniker Krankenkasse und Mitglied der AG EVB-IT des IT-Planungsrats \n\n\n\nRobert Thiele ist zur Zeit Referent im Bundesministerium des Inneren. Er befasst sich mit der Weiterentwicklung der EVB-IT und leitet eine Digitalisierungsprojekt. In der Techniker Krankenkasse berät er als Syndikusrechtsanwalt zum Vergabe- und Vertragsrecht und befasst sich mit der Digitalisierung von Einkaufsprozessen. Beim forum vergabe e.V. leitet er die Redaktion des Literaturbriefs und baute das Vergaberechtinformationssystems VERIS auf. Er ist Mitglied der EVB-IT Arbeitsgruppe und Autor im Beck’schen Online-Kommentar Vergaberecht. \n\n\n\n\n\n\n\n\n\nÜbersicht der Termine / Veranstaltungsseiten:\n\n\n\n\n \n\n\n\n\n21.02.2025\, 13:00-15:00 Uhr\, Teil 1 von 5: Umgang mit Bieter-AGB und EULAS in IT-Ausschreibungen\n\n\n\n21.03.2025\, 13:00-15:00 Uhr\, Teil 2 von 5: IT-Sicherheitsgesetze in der Ausschreibung von IT-Leistungen – Vergabestellen und IT-Bereiche\n\n\n\n11.04.2025\, 09:00-11:00 Uhr\, Teil 3 von 5: Wertungsmethoden und Zuschlagskriterien bei IT-Ausschreibungen (Hier)\n\n\n\n09.05.2025\, 13:00-15:00 Uhr\, Teil 4 von 5: Rechtsprechung und Gesetzgebung zur IT-Vergabe im ersten Halbjahr 2025\n\n\n\n13.06.2025\, 13:00-15:00 Uhr\, Teil 5 von 5: Vertragsanpassungen bei IT-Vergaben (§ 132 GWB und mehr!)\n\n\n\n\n\n\n\n\nTeilnahmebeiträge:\n\n\n\n(umsatzsteuerbefreit nach § 4 Nr. 22a UStG) \n\n\n\ninkl. Tagungsunterlageninkl. Fortbildungsnachweis zur Vorlage nach § 15 FAO \n\n\n\n \n\n\n\nMitglieder des forum vergabe e.V.Nichtmitglieder(1)pro Veranstaltung € 100 € 150  Gesamtpaket(5 Termine)€ 450€ 700\n\n\n\n(1) Für Institutionen: Mit unserem kostenfreien Testservice nehmen Sie 3 Monate lang zu Mitgliederkonditionen an unseren Veranstaltungen teil und können alle Leistungen des forum vergabe e.V. nutzen. Die Testphase endet automatisch mit Ablauf der 3 Monate und bedarf keiner Kündigung. ( Testservice-Antrag) \n\n\n\n \n\n\n\n\n\n \n\n\n\n\nPDF-Version:\n\n\n\n\n– \n\n\n\n\n\n\n\n\nVeranstaltungsort:\n\n\n\n\n\n\n \n\n\n\n \n\n\n\nVeranstaltet von:\n\n\n\nforum vergabe e.V.Geschäftsstelle – Frau Eléonore UnserT: +49 (0) 30 23 60 80 60F: +49 (0) 30 23 60 80 621e: info@forum-vergabe.de
URL:https://forum-vergabe.de/veranstaltung/wertungsmethoden-und-zuschlagskriterien-bei-it-ausschreibungen-webinar/
LOCATION:Online / Remote
CATEGORIES:Fort-/Weiterbildung,Schulung
ATTACH;FMTTYPE=image/png:https://forum-vergabe.de/wp-content/uploads/2024/12/00_Reihe_Brennpunkt-Teil-D_Termin-3-von-5-Web-e1734356578186.png
END:VEVENT
BEGIN:VEVENT
DTSTART;TZID=Europe/Berlin:20250423T100000
DTEND;TZID=Europe/Berlin:20250423T140000
DTSTAMP:20260422T073640
CREATED:20250311T065652Z
LAST-MODIFIED:20251215T100837Z
UID:10000290-1745402400-1745416800@forum-vergabe.de
SUMMARY:Treffen der Regionalgruppe Niedersachsen - April 2025 (Hannover)
DESCRIPTION:Einladung:\n\n\n\nSehr geehrte Damen und Herren\,  \n\n\n\nwir laden Sie herzlich zu dem nächsten Treffen der Regionalgruppe Niedersachsen ein: \n\n\n\nMittwoch\, 23.04.2025\, ab 10:00 UhrLandesbetrieb Logistik Zentrum Niedersachsen LZN\, Hannover \n\n\n\nWeitere Informationen zum Programm finden Sie weiter unten auf dieser Seite. Über Ihr Interesse freuen wir uns sehr und verbleibenMit freundlichen Grüßen\, Dr. Alexandra Losch(HLP. Heiermann Losch Rechtsanwälte)Frank Hintze\, Nadine Schrader(Logistik Zentrum Niedersachsen)Dr. Nina Eidam(Niedersächsisches Ministerium für Wirtschaft\, Verkehr\, Bauen und Digitalisierung Referat 16 – Öffentliches Auftragswesen\, Preisrecht\, Vergabekammer)Prof. Dr. Oliver Dörr(Universität Osnabrück) \n\n\n\n \n\n\n\nProgramm / Ablauf:\n\n\n\nHerr Möllmann\, Landeshauptstadt Hannover\, wird einen kurzen Impuls zum Thema „Sicherstellung der wirtschaftlichen Vergabe bei Direktvergaben“ geben. Im Anschluss wird Frau Dr. Nina Eidam\, Niedersächsisches Ministerium für Wirtschaft\, Verkehr\, Bauen und Digitalisierung die Diskussion thematisch unterstützen. \n\n\n\n \n\n\n\nTeilnahme / Kosten:\n\n\n\n \n\n\n\nAnmeldung: Bitte senden Sie uns Ihr ausgefülltes Anmeldeformular (PDF hier unten) an regionalgruppe.niedersachsen@hlp-rae.de \n\n\n\nFormular folgt. \n\n\n\n \n\n\n\n\n\nVersion Stand 07.04.2025 \n\n\n\n \n\n\n\nVeranstaltungsort:\n\n\n\n \n\n\n\nLandesbetrieb Logistik Zentrum Niedersachsen LZNPodbielskistraße 166 30177 Hannover \n\n\n\n \n\n\n\n \n\n\n\n \n\n\n\nVeranstaltet von: \n\n\n\n \n\n\n\nRegionalgruppe Niedersachsen des forum vergabe e.V.Kontakt: e: regionalgruppe.niedersachsen@hlp-rae.de
URL:https://forum-vergabe.de/veranstaltung/treffen-der-regionalgruppe-niedersachsen-april-2025-hannover/
CATEGORIES:Regionalgruppen-Treffen
ATTACH;FMTTYPE=image/png:https://forum-vergabe.de/wp-content/uploads/2024/01/00_RG-Niedersachsen-Website-e1708086943484.png
END:VEVENT
END:VCALENDAR