BEGIN:VCALENDAR
VERSION:2.0
PRODID:-//forum vergabe - ECPv6.15.18//NONSGML v1.0//EN
CALSCALE:GREGORIAN
METHOD:PUBLISH
X-WR-CALNAME:forum vergabe
X-ORIGINAL-URL:https://forum-vergabe.de
X-WR-CALDESC:Veranstaltungen für forum vergabe
REFRESH-INTERVAL;VALUE=DURATION:PT1H
X-Robots-Tag:noindex
X-PUBLISHED-TTL:PT1H
BEGIN:VTIMEZONE
TZID:Europe/Berlin
BEGIN:DAYLIGHT
TZOFFSETFROM:+0100
TZOFFSETTO:+0200
TZNAME:CEST
DTSTART:20230326T010000
END:DAYLIGHT
BEGIN:STANDARD
TZOFFSETFROM:+0200
TZOFFSETTO:+0100
TZNAME:CET
DTSTART:20231029T010000
END:STANDARD
BEGIN:DAYLIGHT
TZOFFSETFROM:+0100
TZOFFSETTO:+0200
TZNAME:CEST
DTSTART:20240331T010000
END:DAYLIGHT
BEGIN:STANDARD
TZOFFSETFROM:+0200
TZOFFSETTO:+0100
TZNAME:CET
DTSTART:20241027T010000
END:STANDARD
BEGIN:DAYLIGHT
TZOFFSETFROM:+0100
TZOFFSETTO:+0200
TZNAME:CEST
DTSTART:20250330T010000
END:DAYLIGHT
BEGIN:STANDARD
TZOFFSETFROM:+0200
TZOFFSETTO:+0100
TZNAME:CET
DTSTART:20251026T010000
END:STANDARD
END:VTIMEZONE
BEGIN:VEVENT
DTSTART;TZID=Europe/Berlin:20241204T100000
DTEND;TZID=Europe/Berlin:20241204T120000
DTSTAMP:20260421T232251
CREATED:20240603T113925Z
LAST-MODIFIED:20251215T102508Z
UID:10000251-1733306400-1733313600@forum-vergabe.de
SUMMARY:Die Aufteilung in Lose - eine Tour d'Horizon (Webinar)
DESCRIPTION:Inhalt: \n\n\n\n \n\n\n\nSeit jeher gilt im deutschen Vergaberecht das Gebot\, öffentliche Aufträge in Fach- und Teillose zu unterteilen. Die Vergabepraxis stellt dies regelmäßig vor Herausforderungen. Rechtsanwalt Frederic Delcuvé wird die aktuelle Rechtsprechung darstellen sowie insbesondere die folgenden Fragestellungen beleuchten und mit den Teilnehmerinnen und Teilnehmern diskutieren. \n\n\n\n \n\n\n\nThemenübersicht:\n\n\n\n \n\n\n\n\nWas sind mittelständische Interessen und wie sind diese zu berücksichtigen?\n\n\n\nLosweise Aufteilung – muss das sein? Und wozu dient das eigentlich?\n\n\n\nFach- und Teillose – was ist das überhaupt?\n\n\n\nAnzahl und Zuschnitt – wie ist zu unterteilen?\n\n\n\nWelche geschriebenen und welche ungeschriebenen Ausnahmen gibt es?\n\n\n\nWann und was ist zu dokumentieren?\n\n\n\nIn Lose aufgeteilt\, und dann? Fragestellungen zum Vergabefahren (u.a. Loslimitierung\, Eignungskriterien)\n\n\n\n\nDie Teilnehmerinnen und Teilnehmer sind ausdrücklich herzlichst eingeladen\, sich mit Fragestellungen und Hinweisen am Webinar zu beteiligen. \n\n\n\n \n\n\n\nVortragende: \n\n\n\n \n\n\n\n\nRechtsanwalt Frederic Delcuvé  | Becker Büttner Held Rechtsanwälte Steuerberater Unternehmensberater PartGmbB \n\n\n\nFrederic Delcuvé ist Rechtsanwalt und Fachanwalt für Vergaberecht bei Becker Büttner Held. In dieser Funktion berät er Auftraggeber und Unternehmen in allen Fragestellungen des europäischen und deutschen Vergaberechts. Er publiziert und referiert regelmäßig zu vergaberechtlichen Themen und ist insbesondere Autor im Standardkommentar Müller-Wrede: GWB-Vergaberecht/WRegG (2. Auflage). \n\n\n\n\n \n\n\n\nTeilnahmebeiträge:\n\n\n\n(umsatzsteuerbefreit nach § 4 Nr. 22a UStG) \n\n\n\ninkl. Tagungsunterlageninkl. Fortbildungsnachweis zur Vorlage nach § 15 FAO€ 150 für Nichtmitglieder (1)€ 100 für Mitglieder des forum vergabe e.V. € 50 für Immatrikulierte (Nachweis erforderlich) \n\n\n\n(1) Für Institutionen: Mit unserem kostenfreien Testservice nehmen Sie 3 Monate lang zu Mitgliederkonditionen an unseren Veranstaltungen teil und können alle Leistungen des forum vergabe e.V. nutzen. Die Testphase endet automatisch mit Ablauf der 3 Monate und bedarf keiner Kündigung. ( Testservice-Antrag) \n\n\n\n \n\n\n\n \n\n\n\n \n\n\n\n\n\n \n\n\n\n\nPDF-Version:\n\n\n\n\n– \n\n\n\n \n\n\n\nVeranstaltungsort:\n\n\n\n\n\n \n\n\n\n \n\n\n\nVeranstaltet von:\n\n\n\n\n\nAnsprechpartnerin: Frau Eléonore Unser
URL:https://forum-vergabe.de/veranstaltung/die-aufteilung-in-lose-eine-tour-dhorizon-webinar-2/
LOCATION:Online / Remote
CATEGORIES:Fort-/Weiterbildung
ATTACH;FMTTYPE=image/png:https://forum-vergabe.de/wp-content/uploads/2024/05/Veranstaltungsbild_20241204-e1717414756984.png
ORGANIZER;CN="forum vergabe e.V.":MAILTO:info@forum-vergabe.de
END:VEVENT
BEGIN:VEVENT
DTSTART;TZID=Europe/Berlin:20241212T090000
DTEND;TZID=Europe/Berlin:20241212T110000
DTSTAMP:20260421T232251
CREATED:20240823T080604Z
LAST-MODIFIED:20251215T102522Z
UID:10000263-1733994000-1734001200@forum-vergabe.de
SUMMARY:Update Cloud Vergabe (Webinar)
DESCRIPTION:Inhalt:\n\n\n\n\n \n\n\n\nGrundlegende Erfolgsfaktoren und Zukunftsfelder der IT-Vergabe im Fokus \n\n\n\nEs handelt sich hierbei um Teil C dieser Veranstaltungsreihe\, in der verschiedene Aspekte und Besonderheiten der Beschaffung im IT-Bereich dargestellt werden. Diese Vergaben zeichnen sich oft durch eine besondere technische und wirtschaftliche Komplexität aus. \n\n\n\nWir freuen uns\, dass auch der dritte Teil dieser Veranstaltungsreihe von Herrn Dr. Moritz Philipp Koch\, IT.NRW – Information und Technik Nordrhein-Westfalen\, und Herrn Syndikusrechtsanwalt Robert Thiele\, Techniker Krankenkasse und Mitglied der AG EVB-IT des IT-Planungsrats wesentlich gestaltet wird.    \n\n\n\nBei jedem Termin werden zusätzlich weitere Referent*innen ihre Expertise an die Anwesenden weitergeben.  \n\n\n\n \n\n\n\nThemenübersicht 12. Dezember 2024:\n\n\n\nFolgende Themen stehen im Fokus: \n\n\n\n \n\n\n\n\nNeues zu Datenschutz und IT-Sicherheit\n\n\n\nAktuelles C5\n\n\n\nDigitale Souveränität & IT-Sicherheit: Neue gesetzliche Anforderungen\n\n\n\n\n \n\n\n\nEine Veranstaltungsreihe mit: \n\n\n\n\nChristina Bungert | IT.NRW – Information und Technik Nordrhein-Westfalen \n\n\n\nChristina Bungert leitet das Lizenzmangement beim Landesbetrieb Information und Technik Nordrhein-Westfalen (IT.NRW). Vor dieser Tätigkeit hat sie als Syndikusanwältin/ Anwältin gearbeitet. Sie ist Mitglied der AG EVB-IT des Bundesministeriums des Innern und für Heimat und Lehrbeauftragte  der Hochschule für Polizei und öffentliche Verwaltung NRW. \n\n\n\n\n \n\n\n\n\nGabriela Siegmund-Koch | IT.NRW – Information und Technik Nordrhein-Westfalen \n\n\n\nGabriela Siegmund-Koch ist Leiterin fürs Lieferanten- und Partnermanagement bei Information und Technik NRW. Zudem ist sie Mitglied der Arbeitsgruppe EVB-IT und Dozentin bei der Hochschule für Polizei und Verwaltung NRW. \n\n\n\n\n \n\n\n\n\nDr. Moritz Philipp Koch | IT.NRW – Information und Technik Nordrhein-Westfalen \n\n\n\nDr. Moritz Philipp Koch ist Leiter des Bereichs Sourcing (Vergabe/Vertragsmanagement/Lieferantenmanagement u.a.) beim Landesbetrieb Information und Technik Nordrhein-Westfalen (IT.NRW). Er ist Mitglied der AG EVB-IT des Bundesministeriums des Innern und für Heimat und Lehrbeauftragter (insb. der Hochschule für Polizei und öffentliche Verwaltung NRW). Er leitet zahlreiche Seminare zum Vergaberecht und ist Autor diverser Veröffentlichungen\, insbesondere „Vergaberecht im Zeitalter der Digitalisierung“ (Berliner Wissenschaftsverlag\, 2022). \n\n\n\n\n\nSyndikusanwalt Robert Thiele   |   Techniker Krankenkasse und Mitglied der AG EVB-IT des IT-Planungsrats \n\n\n\nRobert Thiele ist zur Zeit Referent im Bundesministerium des Inneren. Er befasst sich mit der Weiterentwicklung der EVB-IT und leitet eine Digitalisierungsprojekt. In der Techniker Krankenkasse berät er als Syndikusrechtsanwalt zum Vergabe- und Vertragsrecht und befasst sich mit der Digitalisierung von Einkaufsprozessen. Beim forum vergabe e.V. leitet er die Redaktion des Literaturbriefs und baute das Vergaberechtinformationssystems VERIS auf. Er ist Mitglied der EVB-IT Arbeitsgruppe und Autor im Beck’schen Online-Kommentar Vergaberecht. \n\n\n\n\n\n\n\n\n\nÜbersicht der Termine / Veranstaltungsseiten:\n\n\n\n\n \n\n\n\n\n07.10.2024\, 9.00-11.00 Uhr\, Teil 1 von 4: Grenzen der produktscharfe IT-Ausschreibungen / Zulässigkeit von Alleinstellungen im IT-Bereich ausschreiben\n\n\n\n25.10.2024\, 9.00-11.00 Uhr\, Teil 2 von 4: Die neue EVB-IT Rahmenvereinbarung richtig anwenden\n\n\n\n15.11.2024\, 9.00-11.00 Uhr\, Teil 3 von 4: Breaking News: IT-Vergabe in der aktuellen Rechtsprechung und Gesetzgebung\n\n\n\n12.12.2024\, 9.00-11.00 Uhr\, Teil 4 von 4: Update Cloud Vergabe (hier)\n\n\n\n\n\n\n\n\nTeilnahmebeiträge:\n\n\n\n(umsatzsteuerbefreit nach § 4 Nr. 22a UStG) \n\n\n\ninkl. Tagungsunterlageninkl. Fortbildungsnachweis zur Vorlage nach § 15 FAO \n\n\n\n \n\n\n\nMitglieder des forum vergabe e.V.Nichtmitglieder(1)pro Veranstaltung € 100 € 150  Gesamtpaket(4 Termine)€ 360€ 560\n\n\n\n(1) Für Institutionen: Mit unserem kostenfreien Testservice nehmen Sie 3 Monate lang zu Mitgliederkonditionen an unseren Veranstaltungen teil und können alle Leistungen des forum vergabe e.V. nutzen. Die Testphase endet automatisch mit Ablauf der 3 Monate und bedarf keiner Kündigung. ( Testservice-Antrag) \n\n\n\n \n\n\n\n\n\n \n\n\n\n\nPDF-Version:\n\n\n\n\n– \n\n\n\n\n\n\n\n\nVeranstaltungsort:\n\n\n\n\n\n\n \n\n\n\n \n\n\n\nVeranstaltet von:\n\n\n\nforum vergabe e.V.Geschäftsstelle – Frau Eléonore UnserT: +49 (0) 30 23 60 80 60F: +49 (0) 30 23 60 80 621e: info@forum-vergabe.de
URL:https://forum-vergabe.de/veranstaltung/update-cloud-vergabe/
LOCATION:Online / Remote
CATEGORIES:Fort-/Weiterbildung,Schulung
ATTACH;FMTTYPE=image/png:https://forum-vergabe.de/wp-content/uploads/2024/08/00_Reihe_Brennpunkt-Teil-C_Termin-4-von-4-Web_neu-e1765196346562.png
END:VEVENT
END:VCALENDAR