BEGIN:VCALENDAR
VERSION:2.0
PRODID:-//forum vergabe - ECPv6.15.18//NONSGML v1.0//EN
CALSCALE:GREGORIAN
METHOD:PUBLISH
X-WR-CALNAME:forum vergabe
X-ORIGINAL-URL:https://forum-vergabe.de
X-WR-CALDESC:Veranstaltungen für forum vergabe
REFRESH-INTERVAL;VALUE=DURATION:PT1H
X-Robots-Tag:noindex
X-PUBLISHED-TTL:PT1H
BEGIN:VTIMEZONE
TZID:Europe/Berlin
BEGIN:DAYLIGHT
TZOFFSETFROM:+0100
TZOFFSETTO:+0200
TZNAME:CEST
DTSTART:20230326T010000
END:DAYLIGHT
BEGIN:STANDARD
TZOFFSETFROM:+0200
TZOFFSETTO:+0100
TZNAME:CET
DTSTART:20231029T010000
END:STANDARD
BEGIN:DAYLIGHT
TZOFFSETFROM:+0100
TZOFFSETTO:+0200
TZNAME:CEST
DTSTART:20240331T010000
END:DAYLIGHT
BEGIN:STANDARD
TZOFFSETFROM:+0200
TZOFFSETTO:+0100
TZNAME:CET
DTSTART:20241027T010000
END:STANDARD
BEGIN:DAYLIGHT
TZOFFSETFROM:+0100
TZOFFSETTO:+0200
TZNAME:CEST
DTSTART:20250330T010000
END:DAYLIGHT
BEGIN:STANDARD
TZOFFSETFROM:+0200
TZOFFSETTO:+0100
TZNAME:CET
DTSTART:20251026T010000
END:STANDARD
END:VTIMEZONE
BEGIN:VEVENT
DTSTART;TZID=Europe/Berlin:20240719T090000
DTEND;TZID=Europe/Berlin:20240719T110000
DTSTAMP:20260421T232100
CREATED:20240221T120735Z
LAST-MODIFIED:20251215T102038Z
UID:10000236-1721379600-1721386800@forum-vergabe.de
SUMMARY:Barrierefreiheit bei IT-Beschaffungen rechtzeitig und erfolgreich berücksichtigen
DESCRIPTION:Inhalt:\n\n\n\n\n \n\n\n\nGrundlegende Erfolgsfaktoren und Zukunftsfelder der IT-Vergabe im Fokus \n\n\n\nEs handelt sich hierbei um Teil B der vorangegangen fünfteiligen Veranstaltungsreihe\, in der verschiedene Aspekte und Besonderheiten der Beschaffung im IT-Bereich dargestellt werden. Diese Vergaben zeichnen sich oft durch eine besondere technische und wirtschaftliche Komplexität aus. \n\n\n\nAuch der zweite Teil der Veranstaltungsreihe wird maßgeblich von Herrn Dr. Moritz Philipp Koch\, IT.NRW – Information und Technik Nordrhein-Westfalen\, und Herrn Syndikusrechtsanwalt Robert Thiele\, Techniker Krankenkasse und Mitglied der AG EVB-IT des IT-Planungsrats gestaltet.  \n\n\n\nBei jedem Termin werden zusätzlich weitere Referent*innen ihre Expertise an die Anwesenden weitergeben.  \n\n\n\n \n\n\n\nThemenübersicht 19. Juli 2024:\n\n\n\nFolgende Themen stehen im Fokus: \n\n\n\n \n\n\n\n\nBarrierefreiheit in IT-Vergaben – Ein Praxisbericht!\n\n\n\nWelche Anforderungen an die Barrierefreiheit sind zu beachten?\n\n\n\nAnforderungen im Vergabeverfahren und in der Praxis umsetzen\n\n\n\n\n \n\n\n\nEine Veranstaltungsreihe mit: \n\n\n\n \n\n\n\n\nMarc Haunschild | Marc Haunschild Accessibility Consulting \n\n\n\nMarc Haunschild verfügt über 20 Jahre Erfahrung als Entwickler\, Redner und Autor (heise\, HERDT). Als freiberuflicher Accessibility Consultant berät er Kunden aus Wirtschaft und Öffentlichem Dienst\, von der Schule bis zum Bundesministerium\, vom selbstständigen Entwickler bis zum europaweit tätigen Software-Systemhaus. Marc Haunschild ist W3C-Zertifizierter Accessibility Specialist und autorisierte und qualifizierte Prüfstelle im renommierten BIK-BITV-Prüfverbund. \n\n\n\nZusammen mit seinen Kolleginnen bei der gehirngerecht digital GmbH bietet er eine breite Palette an Dienstleistungen rund um die digitale Barrierefreiheit an. \n\n\n\n\n\nDr. Moritz Philipp Koch   |   IT.NRW – Information und Technik Nordrhein-Westfalen \n\n\n\nDr. Moritz Philipp Koch ist Leiter des Bereichs Sourcing (Vergabe/Vertragsmanagement/Lieferantenmanagement u.a.) beim Landesbetrieb Information und Technik Nordrhein-Westfalen (IT.NRW). Er ist Mitglied der AG EVB-IT des Bundesministeriums des Innern und für Heimat und Lehrbeauftragter (insb. der Hochschule für Polizei und öffentliche Verwaltung NRW). Er leitet zahlreiche Seminare zum Vergaberecht und ist Autor diverser Veröffentlichungen\, insbesondere „Vergaberecht im Zeitalter der Digitalisierung“ (Berliner Wissenschaftsverlag\, 2022). \n\n\n\n\n\nSyndikusanwalt Robert Thiele   |   Techniker Krankenkasse und Mitglied der AG EVB-IT des IT-Planungsrats \n\n\n\nRobert Thiele ist zur Zeit Referent im Bundesministerium des Inneren. Er befasst sich mit der Weiterentwicklung der EVB-IT und leitet eine Digitalisierungsprojekt. In der Techniker Krankenkasse berät er als Syndikusrechtsanwalt zum Vergabe- und Vertragsrecht und befasst sich mit der Digitalisierung von Einkaufsprozessen. Beim forum vergabe e.V. leitet er die Redaktion des Literaturbriefs und baute das Vergaberechtinformationssystems VERIS auf. Er ist Mitglied der EVB-IT Arbeitsgruppe und Autor im Beck’schen Online-Kommentar Vergaberecht. \n\n\n\n\n\n\n\n\n\nÜbersicht der Termine / Veranstaltungsseiten:\n\n\n\n\n \n\n\n\n\nB 1/4 am 26.04.2024\, 9.00-11.00 Uhr: Agile Leistungserbringung richtig ausschreiben \n\n\n\nB 2/4 am 24.05.2024\, 9.00-11.00 Uhr: Software-Beschaffungen im Fokus \n\n\n\nB 3/4 am 21.06.2024\, 9.00-11.00 Uhr: IT-Dienstleistungen erfolgreich beschaffen\n\n\n\nB 4/4 am 19.07.2024\, 9.00-11.00 Uhr: Barrierefreiheit bei IT-Beschaffungen (hier)\n\n\n\n\n\n\n\n\nTeilnahmebeiträge:\n\n\n\n(umsatzsteuerbefreit nach § 4 Nr. 22a UStG) \n\n\n\ninkl. Tagungsunterlageninkl. Fortbildungsnachweis zur Vorlage nach § 15 FAO \n\n\n\n \n\n\n\nMitglieder des forum vergabe e.V.Nichtmitglieder(1)pro Veranstaltung € 100 € 150  Gesamtpaket(4 Termine)€ 360€ 560\n\n\n\n(1) Für Institutionen: Mit unserem kostenfreien Testservice nehmen Sie 3 Monate lang zu Mitgliederkonditionen an unseren Veranstaltungen teil und können alle Leistungen des forum vergabe e.V. nutzen. Die Testphase endet automatisch mit Ablauf der 3 Monate und bedarf keiner Kündigung. ( Testservice-Antrag) \n\n\n\n \n\n\n\n\n\n \n\n\n\n\nPDF-Version:\n\n\n\n\n– \n\n\n\n\n\n\n\n\nVeranstaltungsort:\n\n\n\n\n\n\n \n\n\n\n \n\n\n\nVeranstaltet von:\n\n\n\nforum vergabe e.V.Geschäftsstelle – Frau Eléonore UnserT: +49 (0) 30 23 60 80 60F: +49 (0) 30 23 60 80 621e: info@forum-vergabe.de
URL:https://forum-vergabe.de/veranstaltung/barrierefreiheit-bei-it-beschaffungen-rechtzeitig-und-erfolgreich-beruecksichtigen/
LOCATION:Online / Remote
CATEGORIES:Fort-/Weiterbildung,Schulung
ATTACH;FMTTYPE=image/png:https://forum-vergabe.de/wp-content/uploads/2024/02/00_Reihe_Brennpunkt-Teil-B-e1708512191112.png
END:VEVENT
END:VCALENDAR