BEGIN:VCALENDAR
VERSION:2.0
PRODID:-//forum vergabe - ECPv6.15.18//NONSGML v1.0//EN
CALSCALE:GREGORIAN
METHOD:PUBLISH
X-ORIGINAL-URL:https://forum-vergabe.de
X-WR-CALDESC:Veranstaltungen für forum vergabe
REFRESH-INTERVAL;VALUE=DURATION:PT1H
X-Robots-Tag:noindex
X-PUBLISHED-TTL:PT1H
BEGIN:VTIMEZONE
TZID:Europe/Berlin
BEGIN:DAYLIGHT
TZOFFSETFROM:+0100
TZOFFSETTO:+0200
TZNAME:CEST
DTSTART:20230326T010000
END:DAYLIGHT
BEGIN:STANDARD
TZOFFSETFROM:+0200
TZOFFSETTO:+0100
TZNAME:CET
DTSTART:20231029T010000
END:STANDARD
BEGIN:DAYLIGHT
TZOFFSETFROM:+0100
TZOFFSETTO:+0200
TZNAME:CEST
DTSTART:20240331T010000
END:DAYLIGHT
BEGIN:STANDARD
TZOFFSETFROM:+0200
TZOFFSETTO:+0100
TZNAME:CET
DTSTART:20241027T010000
END:STANDARD
BEGIN:DAYLIGHT
TZOFFSETFROM:+0100
TZOFFSETTO:+0200
TZNAME:CEST
DTSTART:20250330T010000
END:DAYLIGHT
BEGIN:STANDARD
TZOFFSETFROM:+0200
TZOFFSETTO:+0100
TZNAME:CET
DTSTART:20251026T010000
END:STANDARD
END:VTIMEZONE
BEGIN:VEVENT
DTSTART;TZID=Europe/Berlin:20240612T000000
DTEND;TZID=Europe/Berlin:20240614T235959
DTSTAMP:20260422T041932
CREATED:20230705T043706Z
LAST-MODIFIED:20251215T102154Z
UID:10000188-1718150400-1718409599@forum-vergabe.de
SUMMARY:VergabeFIT 2024 (Düsseldorf)
DESCRIPTION:Vergaberecht vertieft – aktuell – praxisgerecht\n\n\n\n \n\n\n\nUNTERLAGEN ZUR TAGUNG: Die Informationen zur passwortgeschützten Landingpage wurden allen Teilnehmenden an die in der Anmeldung genannten Emailadresse zugesendet (Montag\, 10.06. ca. 15 Uhr). Bitte überprüfen Sie ggf. Ihren Spam-/Junk-Ordner. Auch vor Ort werden der QR-Code zur obengenannten Landingpage sowie die WLAN-Zugangsdaten aushängen. \n\n\n\nDie Anwendung des Vergaberechts steht bei VergabeFIT im Mittelpunkt. Fragen der Praxis\, aktuelle Entwicklungen und wichtige Entscheidungen zur richtigen und zur optimierten Handhabung der vergaberechtlichen Vorschriften werden hier dargestellt und diskutiert. \n\n\n\nTeilnehmer der Basisschulungen können einmalig vergünstigt an der Veranstaltung VergabeFIT 2024 teilnehmen. \n\n\n\nsave the date 2025: VergabeFIT 2025 findet in Potsdam statt. Weitere Informationen werden wir zum gegebenen Zeitpunkt veröffentlichen.  \n\n\n\n \n\n\n\n\nReferent*innen 2024:\n\n\n\n\nRechtsanwalt Dr. Christian TeuberBaker Tilly Holding GmbH Wirtschaftsprüfungsgesellschaft Steuerberatungsges.\, Dortmund\n\n\n\nClaas StodollickHauptamtlicher Beisitzer der Vergabekammer Westfalen\, Münster\n\n\n\nRechtsanwalt Dr. Michael SitsenOrth Kluth Rechtsanwälte PartGmbB\, Düsseldorf\n\n\n\nRechtsanwalt Henrik TrockelWR Legal Weßling Rinnert Neven Arndt Biemann Partnerschaft von Rechtsanwälten mbB\, Düsseldorf\n\n\n\nRechtsanwalt Johannes BaumannHeuking Kühn Lüer Wojtek Part mbB\, Düsseldorf\n\n\n\nDr. Marc PaukaBWI GmbH\, Bonn\n\n\n\nNorbert PortzDeutscher Städte- und Gemeindebund a.D.\n\n\n\nDr. Piotr WittmannLandesrechnungshof Nordrhein-Westfalen\, Düsseldorf\n\n\n\nRechtsanwältin Dr. Rebecca Schäfferavocado Rechtsanwälte\, Köln\n\n\n\nDr. Christine MaimannVorsitzende Richterin am OLG Düsseldorf\n\n\n\nRechtsanwältin Dr. Katharina WeinerBaker McKenzie Rechtsanwaltsgesellschaft mbH\, Düsseldorf\n\n\n\nHans-Werner Behrens1. VK des Bundes beim Bundeskartellamt\, Bonn\n\n\n\nRechtsanwältin Dr. Annette RosenkötterFPS Fritz Wicke Seelig PartG mbB\, Frankfurt am Main\n\n\n\nProf. Dr. Mark von Wietersheimforum vergabe e.V.\, Berlin\n\n\n\n\n\n \n\n\n\n \n\n\n\n \n\n\n\nThemen 2024:\n\n\n\n\nAktuelle Entwicklungen im Vergaberecht\n\n\n\nNachhaltigkeitskriterien und ihre Berücksichtigung\n\n\n\nAngebotswertung\n\n\n\nLieferkettensorgfaltspflichtengesetz im Vergaberecht\n\n\n\nFormale Ausschlussgründe des § 57 VgV\n\n\n\nWirklich allein auf weiter Flur? – Zulässigkeit der Vergabe an nur einen einzigen Marktteilnehmer?\n\n\n\nBeschaffung optimieren durch Markterkundung\n\n\n\nRahmenvereinbarungen als Mittel effektiver Beschaffungen\n\n\n\nBeschaffungsbedarf und Produktvorgabe\n\n\n\nAufklärung von Angeboten\n\n\n\nFunktionale Leistungsbeschreibungen\n\n\n\nDokumentation von Vergabeverfahren\n\n\n\nÄnderung von Bestandsverträgen mit und ohne neue Ausschreibung\n\n\n\nReferenzen als Eignungsnachweis\n\n\n\n\n \n\n\n\n\nTeilnahme / Kosten:\n\n\n\n\n \n\n\n\n \n\n\n\nMitgliederNichtmitgliederTag 1 (12.06.2024 / 10.30 – 17.00 Uhr)270\,00 €320\,00 €Rahmenprogramm *)(Am Abend des 12.06.2024)Tag 2 (13.06.2024 / 09.00 – 17.00 Uhr)270\,00 €320\,00 €Tag 3 (14.06.2023 / 09.00 – 13.00 Uhr)170\,00 €200\,00 €Gesamte VeranstaltungSonderkondition für Teilnehmer der Basisschulungen 2023 und 2024Bei Buchung der gesamten Veranstaltung entfällt der Teilnahmebeitrag für Tag 3650\,00 €480\,00 €760\,00 €560\,00 €\n\n\n\nDie Veranstaltung kann tageweise oder als Gesamtpaket gebucht werden. Im Preis enthalten sind umfangreiche Seminarunterlagen\, Mittagessen\, Pausenverpflegung\, Getränke und eine Teilnahmebescheinigung.*) Für die Teilnehmer am ersten Tag bzw. an der gesamten Veranstaltung ist das Rahmenprogramm im Preis inbegriffen.  \n\n\n\n \n\n\n\n \n\n\n\n\n\n \n\n\n\n \n\n\n\n \n\n\n\nFür Institutionen: Mit unserem kostenfreien Testservice nehmen Sie 3 Monate lang zu Mitgliederkonditionen an unseren Veranstaltungen teil und können alle Leistungen des forum vergabe e.V. nutzen. Die Testphase endet automatisch mit Ablauf der 3 Monate und bedarf keiner Kündigung. ( Testservice-Antrag) \n\n\n\n \n\n\n\n \n\n\n\n \n\n\n\n\nVeranstaltungsort:\n\n\n\n\n \n\n\n\n \n\n\n\nMeliá DüsseldorfInselstraße 2 40479 Düsseldorf \n\n\n\n \n\n\n\nZentrale Zimmerreservierung: +49 211 52 29 95 75   |   reservations.melia.duesseldorf@melia.com \n\n\n\nAbrufkontigent bis zum 17.05.2024: Für Zimmer zur Einzelnutzung zum Preis von 155\,00 € (inkl. Frühstück)Stichwort: “VergabeFIT“Die Zimmer stehen am Anreisetag ab 15.00 Uhr und am Abreisetag bis 12.00 Uhr zur Verfügung. \n\n\n\nAnreise: \n\n\n\n\nMit dem Pkw: Das Hotel hat eine Tiefgarage – die Parkgebühr beträgt für 1 Stunde 2\,50 € und für 24 Stunden 25\,00 €.\n\n\n\nMit den Öffentlichen: Vom Hauptbahnhof Düsseldorf gelangen Sie mit den U-Bahnlinien U78 und U79 in 5 Minuten zum U-Bahnhof Nordstraße. Der Kaiserstraße in Richtung Sternstraße folgend gelangen Sie in 5 Minuten (350 m Fußweg) zum Hotel.\n\n\n\n\n \n\n\n\n \n\n\n\n \n\n\n\nVeranstaltet von:\n\n\n\nforum vergabe e.V.Geschäftsstelle – Frau Heike StenzelT: +49 (0) 30 23 60 80 60F: +49 (0) 30 23 60 80 621e: info@forum-vergabe.de
URL:https://forum-vergabe.de/veranstaltung/vergabefit-2024-duesseldorf/
CATEGORIES:Tagung/Kongress
ATTACH;FMTTYPE=image/png:https://forum-vergabe.de/wp-content/uploads/2024/02/00_VergabeFIT-_-wordcloud-fv-e1708084500885.png
END:VEVENT
BEGIN:VEVENT
DTSTART;TZID=Europe/Berlin:20240613T100000
DTEND;TZID=Europe/Berlin:20240613T130000
DTSTAMP:20260422T041932
CREATED:20240508T075458Z
LAST-MODIFIED:20251215T102113Z
UID:10000244-1718272800-1718283600@forum-vergabe.de
SUMMARY:Treffen der Regionalgruppe Südost - Juni 2024 (Leipzig)
DESCRIPTION:Einladung:\n\n\n\n \n\n\n\n \n\n\n\nLiebe Mitglieder des forum vergabe e.V.\,liebe Gäste der Regionalgruppe Südost\,sehr geehrte Damen und Herren\, \n\n\n\nhiermit laden wir Sie herzlich ein zum nächsten Treffen der Regionalgruppe Südost des forum vergabe e. V. am \n\n\n\nDonnerstag\, 13. Juni 2024\, um 10-13 Uhrabante Rechtsanwälte Kins Lohmann PartG mbB\, Lessingstraße 2\, 04109 Leipzig \n\n\n\nWir freuen uns auf die Veranstaltung mit Ihnen!Freundliche Grüße\, Dr. Christoph Kins Rechtsanwalt und Fachanwalt für Vergaberecht \n\n\n\n \n\n\n\n \n\n\n\nProgramm / Ablauf:\n\n\n\nWir freuen uns auf die Unterstützung von Tobias Birk (wissenschaftlicher Mitarbeiter mit akademischem Abschluss am Lehrstuhl für öffentliches Recht\, insbesondere öffentliches Wirtschaftsrecht der Rechtswissenschaftlichen Fakultät an der Friedrich-Schiller-Universität Jena) bei dem Vortrag zum Thema „Landesrechtliche Tariftreueregelungen und Probleme in der Praxis“. \n\n\n\n \n\n\n\nTeilnahme / Kosten:\n\n\n\nDie Teilnahme ist kostenlos.  \n\n\n\nGerne können Sie auch andere am Vergabewesen Interessierte\, Kolleginnen und Kollegen auf den oben genannten Termin aufmerksam machen. Zwar stehen die Regionalgruppentreffen grundsätzlich nur Mitgliedern des forum vergabe offen\, jedoch können auch an einem eventuellen Beitritt Interessierte gerne teilnehmen und sind daher herzlich willkommen.  \n\n\n\nWir bitten um eine vorherige Anmeldung. Bitte nutzen sie dafür das Anmeldeformular hier unten: \n\n\n\n \n\n\n\n\n\n \n\n\n\n \n\n\n\nVeranstaltungsort:\n\n\n\nabante Rechtsanwälte Kins Lohmann PartG mbBLessingstraße 204109 Leipzig \n\n\n\n \n\n\n\n \n\n\n\nVeranstaltet von: \n\n\n\n \n\n\n\nRegionalgruppe Südost des forum vergabe e.V.Kontakt: Dr. Christoph Kins (abante Rechtsanwälte Kins Lohmann PartG mbB)  |  T: +49 341 238 203 00  | e: kins@abante.de
URL:https://forum-vergabe.de/veranstaltung/treffen-der-regionalgruppe-suedost-juni-2024-leipzig/
CATEGORIES:Regionalgruppen-Treffen
ATTACH;FMTTYPE=image/png:https://forum-vergabe.de/wp-content/uploads/2022/07/00_RG-Suedost-Website-e1708090336143.png
END:VEVENT
BEGIN:VEVENT
DTSTART;TZID=Europe/Berlin:20240618T160000
DTEND;TZID=Europe/Berlin:20240618T183000
DTSTAMP:20260422T041932
CREATED:20240424T061335Z
LAST-MODIFIED:20251215T102105Z
UID:10000241-1718726400-1718735400@forum-vergabe.de
SUMMARY:Treffen der Regionalgruppe Schleswig-Holstein - Juni 2024 (Lübeck)
DESCRIPTION:Einladung:\n\n\n\n \n\n\n\nLiebe Mitglieder des forum vergabe e.V.\, \n\n\n\nliebe Gäste der Regionalgruppe Schleswig-Holstein\, \n\n\n\nsehr geehrte Damen und Herren\, \n\n\n\n \n\n\n\nhiermit darf ich Sie ganz herzlich zur nächsten Veranstaltung der Regionalgruppe Schleswig-Holstein des FORUM VERGABE e.V. einladen. Die Veranstaltung findet am \n\n\n\nDienstag\, den 18. Juni um 16:00-18:30 Uhrirmler.rechtsanwälte\, Mengstraße 38\, 23552 Lübeck \n\n\n\nWir wollen uns an diesem Tag mit dem „neuen Vergaberecht in Schleswig-Holstein“\, das dankenswerter Weise von der Geschäftsführerin der ABST Schleswig-Holstein Frau Tauber vorgestellt wird\, sowie aktuellen Entscheidungen im Vergaberecht befassen. \n\n\n\n \n\n\n\nProgramm / Ablauf:\n\n\n\n16:00 Uhr – Begrüßung  \n\n\n\n16:15 Uhr – „Das neue Vergaberecht in Schleswig-Holstein“                    Frau Sabine Tauber Geschäftsführerin der Auftragsberatungsstelle (ABST) Schleswig-Holstein \n\n\n\n      \n\n\n\n17:00 Uhr – Pause   \n\n\n\n17:15 Uhr – „Aktuelle Entscheidungen aus dem Vergaberecht“ \n\n\n\nca. 18:00/18:30 Uhr – Ende der Veranstaltung \n\n\n\n— \n\n\n\nIm Anschluss an die Veranstaltung freuen wir uns\, mit Ihnen bei etwas Käse und Wein wieder interessante Gespräche zu führen. \n\n\n\nWir freuen uns auf Ihr Kommen und möchten Sie bitten\, für die Aktualisierung unserer Adressdatei Ihre Kontaktdaten in Form einer Visitenkarte o.Ä. mitzubringen. \n\n\n\nMit freundlichen Grüßen \n\n\n\n \n\n\n\nProf. H.Henning Irmler Fachanwalt für VergaberechtFachanwalt für Bau- und Architektenrecht    \n\n\n\n \n\n\n\n                   \n\n\n\n \n\n\n\nTeilnahme / Kosten:\n\n\n\n \n\n\n\n\nAnzahl Teilnehmer*innen (max.): \n\n\n\n\nSehr gerne möchten wir Sie darauf hinweisen\, dass die Kapazität des Tagungsraums auf 25 Teilnehmende beschränkt ist\, weshalb wir Sie um vorherige und baldige Anmeldung bitten. \n\n\n\n \n\n\n\n\nTeilnahmebeitrag: kostenlos.\n\n\n\nAnmeldung:\n\n\n\n\nBitte melden Sie sich per E-Mail unter kanzlei@irmler.org an. Die Teilnahme ist kostenlos und nicht auf die Mitglieder der Regionalgruppe beschränkt. Gern können Sie die Einladung an weitere interessierte Personen weiterleiten. \n\n\n\n \n\n\n\n\n\n \n\n\n\n \n\n\n\n \n\n\n\nVeranstaltungsort:\n\n\n\n \n\n\n\nKanzlei irmler.rechtsanwälteMengstraße 3823552 LübeckDeutschland \n\n\n\n \n\n\n\n \n\n\n\n \n\n\n\nVeranstaltet von:\n\n\n\nRegionalgruppe Schleswig-Holstein des forum vergabe e.V.Kontakt: Rechtsanwalt Prof. Dr. H. Henning Irmler  |   T: +49 (0) 451 30 43 75 26   |   e: luebeck@irmler.org
URL:https://forum-vergabe.de/veranstaltung/treffen-der-regionalgruppe-schleswig-holstein-juni-2024-luebeck/
CATEGORIES:Regionalgruppen-Treffen
ATTACH;FMTTYPE=image/png:https://forum-vergabe.de/wp-content/uploads/2023/08/00_RG-Schleswig-Holstein-Website-e1708086670460.png
END:VEVENT
BEGIN:VEVENT
DTSTART;TZID=Europe/Berlin:20240619T000000
DTEND;TZID=Europe/Berlin:20240620T235959
DTSTAMP:20260422T041932
CREATED:20231106T112941Z
LAST-MODIFIED:20251215T102052Z
UID:10000222-1718755200-1718927999@forum-vergabe.de
SUMMARY:Basisschulung Vergaberecht - Juni 2024 (Webinar)
DESCRIPTION:Inhalt:\n\n\n\n\nWer nicht so häufig oder zum ersten Mal mit dem Vergaberecht zu tun hat\, dem stellen sich viele Fragen. Speziell für wenig erfahrene Anwender des Vergaberechts bieten wir eine einführende systematische und praxisgerechte Darstellung dessen\, was bei der Durchführung von Vergabeverfahren zu beachten ist.Die Schulung berücksichtigt das aktuelle Vergaberecht einschließlich der Unterschwellenvergabeordnung. Vorkenntnisse sind nicht erforderlich. \n\n\n\nIn zwei vollen Tagen beantworten wir in der Basisschulung alle Fragen zu der praktischen Handhabung von Vergaberecht und der Durchführung von Vergabeverfahren. Es werden alle wichtigen Bereiche des Vergaberechts dargestellt und die Fragen der Teilnehmer diskutiert. Praxisfälle dienen der Vertiefung. \n\n\n\nAls vertiefende Veranstaltung zur Basisschulung empfehlen wir unsere jährliche Veranstaltung „VergabeFIT Vergaberecht vertieft – aktuell – praxisgerecht“. \n\n\n\nBeginn/Ende: Die Schulung beginnt am beiden Tagen jeweils um 09.00 Uhr und endet ebenfalls an beiden Tagen jeweils um 17.00 Uhr. Pausen: am Vor- und Nachmittag eine viertelstündige Pause sowie eine einstündige Mittagspause \n\n\n\n \n\n\n\n\n\n\n\n\nThemenübersicht:\n\n\n\n\n \n\n\n\n\ndie vergaberechtlichen Regelwerke und ihre Anwendungsbereiche\n\n\n\nZiel des Vergaberechts\n\n\n\nGrundbegriffe wie “Öffentlicher Auftrag”\n\n\n\nAbgrenzung der Vertragsarten\n\n\n\nSchätzung des Auftragswertes\n\n\n\nWahl des Vergabeverfahrens\n\n\n\nAnforderungen an die Leistungsbeschreibung\n\n\n\nDurchführung des Vergabeverfahrens\n\n\n\nAufstellung der Eignungskriterien und Eignungsprüfung\n\n\n\nAufstellung der Wertungskriterien und Angebotswertung\n\n\n\nBeendigung des Vergabeverfahrens\n\n\n\nRechtsschutz\n\n\n\n\n \n\n\n\n\nVorbereitung / zusätzliche Informationen:\n\n\n\n\n \n\n\n\n\nFreiwillig: Damit wir die Schulung besser auf Ihre persönlichen Erwartungen ausrichten können\, bitte wir Sie\, diesen Fragebogen auszufüllen.\n\n\n\nFür die Veranstaltung: Die benötigten Gesetztestexte finden Sie hier https://forum-vergabe.de/themen/rechtsvorschriften/#Aktuelle-Vorschriften\n\n\n\n\n\n\n\n\n\nVortragende:\n\n\n\n\n \n\n\n\n\nRechtsanwalt Christoph Zinger   | Otting Zinger Rechtsanwälte PartG mbB \n\n\n\nChristoph Zinger ist Rechtsanwalt und Fachanwalt für Vergaberecht bei Otting Zinger Rechtsanwälte in Hanau. Er berät sowohl die öffentliche Hand als auch national und international tätige Unternehmen zu Fragen des Vergaberechts und des öffentlichen Wirtschaftsrechts. Herr Zinger ist Mitautor von Kommentaren und Handbüchern und veröffentlicht Beiträge in Fachzeitschriften. Zudem hält Christoph Zinger regelmäßig Vorträge zu vergaberechtlichen Themen. \n\n\n\n \n\n\n\n\n\nRechtsanwalt Dr. Volker Dobmann website | Dobmann Rechtsanwälte \n\n\n\nDr. Volker Dobmann ist seit 1996 zugelassen und als Fachanwalt für Vergaberecht tätig. Er berät sowohl die öffentliche Hand als auch Bieter bei der Vorbereitung und Durchführung von Vergabeverfahren sowie im Rahmen von Nachprüfungsverfahren. Er ist regelmäßiger Mitarbeiter der Zeitschrift „Vergaberecht“ und Autor einer Monographie zum Vergaberecht. Schließlich hält er Vorträge zum Bauvergaberecht\, zur Vergabe von Architekten- und Ingenieurleistungen sowie IT-Leistungen. \n\n\n\n\n\nProf. Dr. Mark von Wietersheim   |  forum vergabe e.V. \n\n\n\nProf. Dr. Mark von Wietersheim ist seit 2009 Geschäftsführer des forum vergabe e.V. tätig sowie seit 1996 in Berlin als Rechtsanwalt zugelassen.Er ist Honorarprofessor an der Hochschule Osnabrück und lehrt dort seit 2006 das private Baurecht sowie Bauvergaberecht.Prof. Dr. von Wietersheim ist Autor zahlreicher Bücher und Buchbeiträge\, u.a. ist er Herausgeber des Ingenstau/Korbion\, Kommentar zur VOB. \n\n\n\n\n \n\n\n\n \n\n\n\n \n\n\n\n\nÜbersicht der Termine / Veranstaltungsseiten:\n\n\n\n\n \n\n\n\n\n19.-20.06.2024 als Webinar (hier)\n\n\n\n23.-24.09.2024 als Webinar \n\n\n\n22.-23.10.2024 in Berlin (reine Präsenzveranstaltung)\n\n\n\n19.-20.11.2024 als Webinar\n\n\n\n\n \n\n\n\nTeilnahmebeiträge:\n\n\n\n(umsatzsteuerbefreit nach § 4 Nr. 22a UStG) \n\n\n\ninkl. Tagungsunterlageninkl. Fortbildungsnachweis zur Vorlage nach § 15 FAO \n\n\n\n€ 500 für Nicht-Mitglieder(1)€ 350 für Mitglieder des forum vergabe e.V. \n\n\n\n \n\n\n\n \n\n\n\n(1)Für Institutionen: Mit unserem kostenfreien Testservice nehmen Sie 3 Monate lang zu Mitgliederkonditionen an unseren Veranstaltungen teil und können alle Leistungen des forum vergabe e.V. nutzen. Die Testphase endet automatisch mit Ablauf der 3 Monate und bedarf keiner Kündigung. ( Testservice-Antrag) \n\n\n\n\n\n \n\n\n\n\nPDF-Version:\n\n\n\n\n– \n\n\n\n\n\n\n\n\nVeranstaltungsort:\n\n\n\n\n\n\n \n\n\n\n \n\n\n\nVeranstaltet von:\n\n\n\nforum vergabe e.V.Geschäftsstelle – Frau Eléonore UnserT: +49 (0) 30 23 60 80 60F: +49 (0) 30 23 60 80 621e: info@forum-vergabe.de
URL:https://forum-vergabe.de/veranstaltung/basisschulung-vergaberecht-juni-2024-webinar/
LOCATION:Online / Remote
CATEGORIES:Schulung
ATTACH;FMTTYPE=image/png:https://forum-vergabe.de/wp-content/uploads/2023/09/00_Basisschulungen-legal-e1699010886452.png
END:VEVENT
BEGIN:VEVENT
DTSTART;TZID=Europe/Berlin:20240621T090000
DTEND;TZID=Europe/Berlin:20240621T110000
DTSTAMP:20260422T041932
CREATED:20240221T120544Z
LAST-MODIFIED:20251215T100556Z
UID:10000235-1718960400-1718967600@forum-vergabe.de
SUMMARY:IT-Dienstleistungen erfolgreich beschaffen - Abgrenzung zu Werkverträgen und Arbeitnehmerüberlassung (ANÜ)
DESCRIPTION:Inhalt:\n\n\n\n\n \n\n\n\nGrundlegende Erfolgsfaktoren und Zukunftsfelder der IT-Vergabe im Fokus \n\n\n\nEs handelt sich hierbei um Teil B der vorangegangen fünfteiligen Veranstaltungsreihe\, in der verschiedene Aspekte und Besonderheiten der Beschaffung im IT-Bereich dargestellt werden. Diese Vergaben zeichnen sich oft durch eine besondere technische und wirtschaftliche Komplexität aus. \n\n\n\nAuch der zweite Teil der Veranstaltungsreihe wird maßgeblich von Herrn Dr. Moritz Philipp Koch\, IT.NRW – Information und Technik Nordrhein-Westfalen\, und Herrn Syndikusrechtsanwalt Robert Thiele\, Techniker Krankenkasse und Mitglied der AG EVB-IT des IT-Planungsrats gestaltet.  \n\n\n\nBei jedem Termin werden zusätzlich weitere Referent*innen ihre Expertise an die Anwesenden weitergeben.  \n\n\n\n \n\n\n\nThemenübersicht 21. Juni 2024:\n\n\n\nFolgende Themen stehen im Fokus: \n\n\n\n \n\n\n\n\nIT-Dienstleistungen mit EVB-IT erfolgreich beauftragen\n\n\n\nKein Erfolg beim Dienstvertrag – Wann ist ein Werkvertrag sinnvoll?\n\n\n\nDienstleistungen vs. Arbeitnehmerüberlassung (ANÜ) – eine wichtige Abgrenzung und wie sie gelingt!\n\n\n\n\n \n\n\n\nEine Veranstaltungsreihe mit: \n\n\n\n\nVincent Patan   |   Staat-Up e.V. & Berliner Wasserbetriebe AöR \n\n\n\nVincent Patan ist ehrenamtlicher Product Owner im Verein “Staat-Up”. Er implementiert den Start-Up-Beschaffungsindex im Auftrag des Kompetenzzentrum Innovative Beschaffung (KOINNO) bzw. dem BMWK. Im Hauptamt ist er Teamleiter im Einkauf der Berliner Wasserbetriebe AöR. \n\n\n\n\n\nDr. Julia Tews   |   IT.NRW – Information und Technik Nordrhein-Westfalen \n\n\n\nDr. Julia Tews ist Referentin im Bereich Sourcing (Vergabe/Vertragsmanagement/Einkauf u.a.) beim Landesbetrieb Information und Technik Nordrhein-Westfalen (IT.NRW) und leitet dort den Bereich der Beschaffung von IT-Dienstleistungen\, Leadbuyer und NON-IT. \n\n\n\n\n\nDr. Moritz Philipp Koch   |   IT.NRW – Information und Technik Nordrhein-Westfalen \n\n\n\nDr. Moritz Philipp Koch ist Leiter des Bereichs Sourcing (Vergabe/Vertragsmanagement/Lieferantenmanagement u.a.) beim Landesbetrieb Information und Technik Nordrhein-Westfalen (IT.NRW). Er ist Mitglied der AG EVB-IT des Bundesministeriums des Innern und für Heimat und Lehrbeauftragter (insb. der Hochschule für Polizei und öffentliche Verwaltung NRW). Er leitet zahlreiche Seminare zum Vergaberecht und ist Autor diverser Veröffentlichungen\, insbesondere „Vergaberecht im Zeitalter der Digitalisierung“ (Berliner Wissenschaftsverlag\, 2022). \n\n\n\n\n\nSyndikusanwalt Robert Thiele   |   Techniker Krankenkasse und Mitglied der AG EVB-IT des IT-Planungsrats \n\n\n\nRobert Thiele ist zur Zeit Referent im Bundesministerium des Inneren. Er befasst sich mit der Weiterentwicklung der EVB-IT und leitet eine Digitalisierungsprojekt. In der Techniker Krankenkasse berät er als Syndikusrechtsanwalt zum Vergabe- und Vertragsrecht und befasst sich mit der Digitalisierung von Einkaufsprozessen. Beim forum vergabe e.V. leitet er die Redaktion des Literaturbriefs und baute das Vergaberechtinformationssystems VERIS auf. Er ist Mitglied der EVB-IT Arbeitsgruppe und Autor im Beck’schen Online-Kommentar Vergaberecht. \n\n\n\n\n\n\n\n\n\nÜbersicht der Termine / Veranstaltungsseiten:\n\n\n\n\n \n\n\n\n\nB 1/4 am 26.04.2024\, 9.00-11.00 Uhr: Agile Leistungserbringung richtig ausschreiben \n\n\n\nB 2/4 am 24.05.2024\, 9.00-11.00 Uhr: Software-Beschaffungen im Fokus \n\n\n\nB 3/4 am 21.06.2024\, 9.00-11.00 Uhr: IT-Dienstleistungen erfolgreich beschaffen (hier)\n\n\n\nB 4/4 am 19.07.2024\, 9.00-11.00 Uhr: Barrierefreiheit bei IT-Beschaffungen\n\n\n\n\n\n\n\n\nTeilnahmebeiträge:\n\n\n\n(umsatzsteuerbefreit nach § 4 Nr. 22a UStG) \n\n\n\ninkl. Tagungsunterlageninkl. Fortbildungsnachweis zur Vorlage nach § 15 FAO \n\n\n\n \n\n\n\nMitglieder des forum vergabe e.V.Nichtmitglieder(1)pro Veranstaltung € 100 € 150  Gesamtpaket(4 Termine)€ 360€ 560\n\n\n\n(1) Für Institutionen: Mit unserem kostenfreien Testservice nehmen Sie 3 Monate lang zu Mitgliederkonditionen an unseren Veranstaltungen teil und können alle Leistungen des forum vergabe e.V. nutzen. Die Testphase endet automatisch mit Ablauf der 3 Monate und bedarf keiner Kündigung. ( Testservice-Antrag) \n\n\n\n \n\n\n\n\n\n \n\n\n\n\nPDF-Version:\n\n\n\n\n– \n\n\n\n \n\n\n\n\n\n\n\n\nVeranstaltungsort:\n\n\n\n\n\n\n \n\n\n\n \n\n\n\nVeranstaltet von:\n\n\n\nforum vergabe e.V.Geschäftsstelle – Frau Eléonore UnserT: +49 (0) 30 23 60 80 60F: +49 (0) 30 23 60 80 621e: info@forum-vergabe.de
URL:https://forum-vergabe.de/veranstaltung/it-dienstleistungen-erfolgreich-beschaffen-abgrenzung-zu-werkvertraegen-und-arbeitnehmerueberlassung-anue/
LOCATION:Online / Remote
CATEGORIES:Fort-/Weiterbildung,Schulung
ATTACH;FMTTYPE=image/png:https://forum-vergabe.de/wp-content/uploads/2024/02/00_Reihe_Brennpunkt-Teil-B-e1708512191112.png
END:VEVENT
BEGIN:VEVENT
DTSTART;TZID=Europe/Berlin:20240626T180000
DTEND;TZID=Europe/Berlin:20240626T180000
DTSTAMP:20260422T041932
CREATED:20240311T082918Z
LAST-MODIFIED:20251215T100542Z
UID:10000239-1719424800-1719424800@forum-vergabe.de
SUMMARY:Treffen der Regionalgruppe Südwest - Juni 2024
DESCRIPTION:Einladung:\n\n\n\n \n\n\n\nSehr geehrte Damen und Herren\, liebe Mitglieder\, \n\n\n\nzu unserer Sommersitzung 2024 der Regionalgruppe Südwest forum vergabe e.V. am Mittwoch\, den 26.06.2024\, um 18.00 Uhr laden wir Sie herzlich ein. \n\n\n\nGastgeber an diesem Abend ist das HFK-Vergabeteam um Dr. Jörg Stoye\,HFK Rechtsanwälte Heiermann Franke Knipp und Partner mbB\, Stephanstraße 3\, 60313 Frankfurt a. M. \n\n\n\nDie inhaltlichen Schwerpunkte der Sitzung entnehmen Sie bitte dem Abschnitt “Programm/Ablauf” oder der PDF-Anlage. Bitte melden Sie sich bis spätestens 18. Juni 2024 mit beiliegendem Formular an. \n\n\n\nWir hoffen\, dass möglichst viele Mitglieder der Regionalgruppe Südwest unserer Einladung folgen werden und verbleiben \n\n\n\nmit freundlichen Grüßen\, Rechtsanwalt Dr. Kai-Uwe Schneevogl (GÖRG Partnerschaft von Rechtsanwälten mbB)Dr. Andreas Ziegler (Kunz Rechtsanwälte) \n\n\n\n \n\n\n\nProgramm / Ablauf:\n\n\n\nTOP 1: Begrüßung durch den Gastgeber und die Leitung der RegionalgruppeDr. Kai-Uwe Schneevogl\, GÖRG Partnerschaft von Rechtsanwälten mbB\, FrankfurtDr. Andreas Ziegler\, KUNZ Rechtsanwälte\, MainzDr. Jörg Stoye\, HFK Rechtsanwälte Heiermann Franke Knipp und Partner mbB \n\n\n\nTOP 2: Aktueller Überblick über den Stand des Vergaberechts mit anschließender AusspracheProf. Dr. Mark von Wietersheim\, forum vergabe e.V.\, Geschäftsführer\, Berlin \n\n\n\nTOP 3: Auftragsänderungen nach § 132 GWBDr. Irene Lausen\, GÖRG Partnerschaft von Rechtsanwälten mbB \n\n\n\nTOP 4: Abgrenzung von Eignungskriterien und AusführungsbedingungenHendrik M. Kujawski\, HFK Rechtsanwälte Heiermann Franke Knipp und Partner mbB \n\n\n\n \n\n\n\nTeilnahme / Kosten:\n\n\n\nBitte melden Sie sich – bis zum 18. Juni 2024 spätestens – über das Formular (siehe PDF-Version) per E-Mail an.  \n\n\n\n \n\n\n\n\n\n \n\n\n\n \n\n\n\nVeranstaltungsort:\n\n\n\nHFK Rechtsanwälte Heiermann Franke Knipp und Partner mbBStephanstraße 360313 Frankfurt am Main \n\n\n\n \n\n\n\n \n\n\n\nVeranstaltet von: \n\n\n\n \n\n\n\nRegionalgruppe Südwest des forum vergabe e.V.Kontakt: Dr. Kai-Uwe Schneevogl (GÖRG Partnerschaft von Rechtsanwälten mbB)   |   e: kschneevogl@goerg.de
URL:https://forum-vergabe.de/veranstaltung/treffen-der-regionalgruppe-suedwest-juni-2024/
CATEGORIES:Regionalgruppen-Treffen
ATTACH;FMTTYPE=image/png:https://forum-vergabe.de/wp-content/uploads/2023/11/00_RG-Suedwest-Website-e1708087919151.png
END:VEVENT
END:VCALENDAR