BEGIN:VCALENDAR
VERSION:2.0
PRODID:-//forum vergabe - ECPv6.15.18//NONSGML v1.0//EN
CALSCALE:GREGORIAN
METHOD:PUBLISH
X-WR-CALNAME:forum vergabe
X-ORIGINAL-URL:https://forum-vergabe.de
X-WR-CALDESC:Veranstaltungen für forum vergabe
REFRESH-INTERVAL;VALUE=DURATION:PT1H
X-Robots-Tag:noindex
X-PUBLISHED-TTL:PT1H
BEGIN:VTIMEZONE
TZID:Europe/Berlin
BEGIN:DAYLIGHT
TZOFFSETFROM:+0100
TZOFFSETTO:+0200
TZNAME:CEST
DTSTART:20230326T010000
END:DAYLIGHT
BEGIN:STANDARD
TZOFFSETFROM:+0200
TZOFFSETTO:+0100
TZNAME:CET
DTSTART:20231029T010000
END:STANDARD
BEGIN:DAYLIGHT
TZOFFSETFROM:+0100
TZOFFSETTO:+0200
TZNAME:CEST
DTSTART:20240331T010000
END:DAYLIGHT
BEGIN:STANDARD
TZOFFSETFROM:+0200
TZOFFSETTO:+0100
TZNAME:CET
DTSTART:20241027T010000
END:STANDARD
BEGIN:DAYLIGHT
TZOFFSETFROM:+0100
TZOFFSETTO:+0200
TZNAME:CEST
DTSTART:20250330T010000
END:DAYLIGHT
BEGIN:STANDARD
TZOFFSETFROM:+0200
TZOFFSETTO:+0100
TZNAME:CET
DTSTART:20251026T010000
END:STANDARD
END:VTIMEZONE
BEGIN:VEVENT
DTSTART;TZID=Europe/Berlin:20240514T100000
DTEND;TZID=Europe/Berlin:20240514T120000
DTSTAMP:20260422T055522
CREATED:20240209T113642Z
LAST-MODIFIED:20251215T102225Z
UID:10000231-1715680800-1715688000@forum-vergabe.de
SUMMARY:Das nationale Lieferkettensorgfaltspflichtengesetz (LkSG) im Vergaberecht (Webinar)
DESCRIPTION:Inhalt:\n\n\n\n\nDas LkSG gilt seit dem 1. Januar 2024 für alle inländischen Unternehmen mit i.d.R. mind. 1.000 Beschäftigten. Es verpflichtet die betreffenden Unternehmen zur Beachtung diverser Sorgfaltspflichten entlang der Lieferkette. Zuständig für dessen Durchsetzung und Kontrolle ist das Bundesamt für Wirtschaft und Ausfuhrkontrolle (BAFA). Mit § 22 enthält das LkSG insbesondere eine Vorschrift des Vergaberechts\, die i.V.m. § 124 GWB einen Ausschlussgrund normiert. Das Webinar zeigt die vergaberechtlichen Aspekte sowie die aktuellen Entwicklungen in diesem jungen Rechtsbereich auf. \n\n\n\n \n\n\n\n\nThemenübersicht:\n\n\n\n\n \n\n\n\n\nRelevanz des LkSG\n\n\n\nAnwendbarkeit des LkSG für öffentliche Auftraggeber\n\n\n\nInhalt des LkSG\n\n\n\nLkSG und das Vergabeverfahren\n\n\n\nMögliche Rechtsfolgen\n\n\n\nAusblick\n\n\n\n\n \n\n\n\n\nVortragende:\n\n\n\n\n\nRechtsanwalt Dr. Oliver Jauch     |  GÖRG Partnerschaft von Rechtsanwälten mbB\, Hamburg \n\n\n\nDr. Oliver Jauch berät die öffentliche Hand sowie national und international tätige Unternehmen in sämtlichen Fragen des Öffentlichen Wirtschaftsrechts\, insbesondere dem Vergaberecht sowie dem Fördermittel- und Zuwendungsrecht.Er verfügt über besondere Erfahrungen bei der strategischen Planung und Begleitung von komplexen Beschaffungen in Vergabeverfahren\, insbesondere auf den Gebieten der Informationstechnologie\, des Hoch- und Tiefbaus\, der Wissenschaft und Forschung\, der Immobilienwirtschaft\, des Gesundheits- und Pflegewesens („Healthcare“) sowie bei Infrastrukturprojekten. Neben der Steuerung des gesamten Vergabeprozesses bildet Dr. Oliver Jauch auch die vertragsrechtliche Beratung mit ab. \n\n\n\n\n\nRechtsanwältin Freya Elisabeth Humbert\, LL.M. (UCT)     |  GÖRG Partnerschaft von Rechtsanwälten mbB\, Berlin \n\n\n\nFreya Elisabeth Humbert berät nationale und internationale Unternehmen sowie den öffentlichen Sektor in allen Fragen des öffentlichen Wirtschaftsrechts. Ihre Beratungsschwerpunkte liegen in den Bereichen des Energiewirtschafts- und Umweltrechts\, insbesondere in den Bereichen der Erneuerbaren Energien.Einen weiteren Tätigkeitsschwerpunkt bildet die rechtliche Beratung von Betreibern von Industriestandorten in umweltrechtlichen Fragen\, insbesondere zu Erlaubnis- oder Genehmigungsbelangen im Immissionsschutzrecht.Darüber hinaus berät Freya Elisabeth Humbert zur Integration der ökologischen\, sozialen und Governance-Faktoren (ESG) in das unternehmerische Handeln mit Schwerpunkten zu den Themen Lieferkette und Nachhaltigkeitsberichterstattung. \n\n\n\n\n \n\n\n\nTeilnahmebeiträge:\n\n\n\n(umsatzsteuerbefreit nach § 4 Nr. 22a UStG) \n\n\n\ninkl. Tagungsunterlageninkl. Fortbildungsnachweis zur Vorlage nach § 15 FAO€ 150 für Nichtmitglieder (1)€ 100 für Mitglieder des forum vergabe e.V.€ 50 für Immatrikulierte (Nachweis erforderlich) \n\n\n\n(1) Für Institutionen: Mit unserem kostenfreien Testservice nehmen Sie 3 Monate lang zu Mitgliederkonditionen an unseren Veranstaltungen teil und können alle Leistungen des forum vergabe e.V. nutzen. Die Testphase endet automatisch mit Ablauf der 3 Monate und bedarf keiner Kündigung. ( Testservice-Antrag) \n\n\n\n \n\n\n\n\n\n \n\n\n\n\nPDF-Version:\n\n\n\n\n– \n\n\n\n \n\n\n\n \n\n\n\n\nVeranstaltungsort:\n\n\n\n\n\n\n \n\n\n\nVeranstaltet von:\n\n\n\n\n\nAnsprechpartnerin: Frau Eléonore Unser
URL:https://forum-vergabe.de/veranstaltung/das-nationale-lieferkettensorgfaltspflichtengesetz-lksg-im-vergaberecht-webinar/
LOCATION:Online / Remote
ATTACH;FMTTYPE=image/png:https://forum-vergabe.de/wp-content/uploads/2024/02/Veranstaltungbild_20240514-LkSG-neu-e1707737289822.png
ORGANIZER;CN="forum vergabe e.V.":MAILTO:info@forum-vergabe.de
END:VEVENT
BEGIN:VEVENT
DTSTART;TZID=Europe/Berlin:20240524T090000
DTEND;TZID=Europe/Berlin:20240524T110000
DTSTAMP:20260422T055522
CREATED:20240221T114630Z
LAST-MODIFIED:20251215T102212Z
UID:10000234-1716541200-1716548400@forum-vergabe.de
SUMMARY:Software-Beschaffungen im Fokus: Software-Kauf\, Software Miete etc. - Quo vadis?
DESCRIPTION:Inhalt:\n\n\n\n\n \n\n\n\nGrundlegende Erfolgsfaktoren und Zukunftsfelder der IT-Vergabe im Fokus \n\n\n\nEs handelt sich hierbei um Teil B der vorangegangen fünfteiligen Veranstaltungsreihe\, in der verschiedene Aspekte und Besonderheiten der Beschaffung im IT-Bereich dargestellt werden. Diese Vergaben zeichnen sich oft durch eine besondere technische und wirtschaftliche Komplexität aus. \n\n\n\nAuch der zweite Teil der Veranstaltungsreihe wird maßgeblich von Herrn Dr. Moritz Philipp Koch\, IT.NRW – Information und Technik Nordrhein-Westfalen\, und Herrn Syndikusrechtsanwalt Robert Thiele\, Techniker Krankenkasse und Mitglied der AG EVB-IT des IT-Planungsrats gestaltet.  \n\n\n\nBei jedem Termin werden zusätzlich weitere Referent*innen ihre Expertise an die Anwesenden weitergeben.  \n\n\n\n \n\n\n\nThemenübersicht 24. Mai 2024:\n\n\n\nFolgende Themen stehen im Fokus: \n\n\n\n \n\n\n\n\nPassende EVB-IT Vertragsmuster für Software-Beschaffungen\n\n\n\nSoftware as a Service und Open Source Softwarelizenzen – Umgang mit den (neuen) Herausforderungen\n\n\n\nSoftware-Kauf oder Software-Miete – ein Praxisreport\n\n\n\n\n \n\n\n\nEine Veranstaltungsreihe mit: \n\n\n\n \n\n\n\n\nNancy Mehlkopp | IT.NRW – Information und Technik Nordrhein-Westfalen \n\n\n\nNancy Mehlkopp ist Referentin im Bereich Sourcing beim Landesbetrieb Information und Technik Nordrhein-Westfalen (IT.NRW). Sie ist verantwortlich für die Beschaffung von Software. In der vorherigen Position war sie tätig als Legal Director einer international agieren Digital-Agentur\, spezialisiert auf Softwareentwicklung. \n\n\n\n\n\nDr. Moritz Philipp Koch   |   IT.NRW – Information und Technik Nordrhein-Westfalen \n\n\n\nDr. Moritz Philipp Koch ist Leiter des Bereichs Sourcing (Vergabe/Vertragsmanagement/Lieferantenmanagement u.a.) beim Landesbetrieb Information und Technik Nordrhein-Westfalen (IT.NRW). Er ist Mitglied der AG EVB-IT des Bundesministeriums des Innern und für Heimat und Lehrbeauftragter (insb. der Hochschule für Polizei und öffentliche Verwaltung NRW). Er leitet zahlreiche Seminare zum Vergaberecht und ist Autor diverser Veröffentlichungen\, insbesondere „Vergaberecht im Zeitalter der Digitalisierung“ (Berliner Wissenschaftsverlag\, 2022). \n\n\n\n\n\nSyndikusanwalt Robert Thiele   |   Techniker Krankenkasse und Mitglied der AG EVB-IT des IT-Planungsrats \n\n\n\nRobert Thiele ist zur Zeit Referent im Bundesministerium des Inneren. Er befasst sich mit der Weiterentwicklung der EVB-IT und leitet eine Digitalisierungsprojekt. In der Techniker Krankenkasse berät er als Syndikusrechtsanwalt zum Vergabe- und Vertragsrecht und befasst sich mit der Digitalisierung von Einkaufsprozessen. Beim forum vergabe e.V. leitet er die Redaktion des Literaturbriefs und baute das Vergaberechtinformationssystems VERIS auf. Er ist Mitglied der EVB-IT Arbeitsgruppe und Autor im Beck’schen Online-Kommentar Vergaberecht. \n\n\n\n\n\n\n\n\n\nÜbersicht der Termine / Veranstaltungsseiten:\n\n\n\n\n \n\n\n\n\nB 1/4 am 26.04.2024\, 9.00-11.00 Uhr: Agile Leistungserbringung richtig ausschreiben \n\n\n\nB 2/4 am 24.05.2024\, 9.00-11.00 Uhr: Software-Beschaffungen im Fokus (hier)\n\n\n\nB 3/4 am 21.06.2024\, 9.00-11.00 Uhr: IT-Dienstleistungen erfolgreich beschaffen\n\n\n\nB 4/4 am 19.07.2024\, 9.00-11.00 Uhr: Barrierefreiheit bei IT-Beschaffungen\n\n\n\n\n\n\n\n\nTeilnahmebeiträge:\n\n\n\n(umsatzsteuerbefreit nach § 4 Nr. 22a UStG) \n\n\n\ninkl. Tagungsunterlageninkl. Fortbildungsnachweis zur Vorlage nach § 15 FAO \n\n\n\n \n\n\n\nMitglieder des forum vergabe e.V.Nichtmitglieder(1)pro Veranstaltung € 100 € 150  Gesamtpaket(4 Termine)€ 360€ 560\n\n\n\n(1) Für Institutionen: Mit unserem kostenfreien Testservice nehmen Sie 3 Monate lang zu Mitgliederkonditionen an unseren Veranstaltungen teil und können alle Leistungen des forum vergabe e.V. nutzen. Die Testphase endet automatisch mit Ablauf der 3 Monate und bedarf keiner Kündigung. ( Testservice-Antrag) \n\n\n\n \n\n\n\n\n\n \n\n\n\n\nPDF-Version:\n\n\n\n\n– \n\n\n\n\n\n\n\n\nVeranstaltungsort:\n\n\n\n\n\n\n \n\n\n\n \n\n\n\nVeranstaltet von:\n\n\n\nforum vergabe e.V.Geschäftsstelle – Frau Eléonore UnserT: +49 (0) 30 23 60 80 60F: +49 (0) 30 23 60 80 621e: info@forum-vergabe.de
URL:https://forum-vergabe.de/veranstaltung/software-beschaffungen-im-fokus-software-kauf-software-miete-etc-quo-vadis/
LOCATION:Online / Remote
CATEGORIES:Fort-/Weiterbildung,Schulung
ATTACH;FMTTYPE=image/png:https://forum-vergabe.de/wp-content/uploads/2024/02/00_Reihe_Brennpunkt-Teil-B-e1708512191112.png
END:VEVENT
BEGIN:VEVENT
DTSTART;TZID=Europe/Berlin:20240528T170000
DTEND;TZID=Europe/Berlin:20240528T180000
DTSTAMP:20260422T055522
CREATED:20240422T133110Z
LAST-MODIFIED:20251215T102202Z
UID:10000240-1716915600-1716919200@forum-vergabe.de
SUMMARY:Treffen der Regionalgruppe Ost - Mai 2024
DESCRIPTION:Einladung:\n\n\n\n \n\n\n\nLiebe MitgliederSehr geehrte Damen und Herren\,  \n\n\n\nhiermit laden wir Sie herzlich ein zum nächsten Treffen der Regionalgruppe Ost des forum vergabe e. V. am \n\n\n\nDienstag\, 28. Mai 2024\, um 17-18 UhrOrt: BIM Berliner Immobilienmanagement GmbH\, Alexanderstraße 3\, 10178 Berlin \n\n\n\nMit freundlichen Grüßen\, Prof. Dr. Susanne Mertens Rechtsanwältin und Fachanwältin für Bau- und Architektenrecht\, Informationstechnologierecht\, Vergaberecht \n\n\n\nSyndikusrechtsanwältin Cornelia Gabriel-GrothBIM Berliner Immobilienmanagement GmBH \n\n\n\nDr. Jan BrinkmannSiemens Mobility GmbH \n\n\n\nDr. Kai BonitzFlughafen Berlin Brandenburg GmbH \n\n\n\n \n\n\n\n \n\n\n\nProgramm / Ablauf:\n\n\n\n \n\n\n\nWir freuen uns auf Dr. Wolfram Krohn\, Dentons Europe (Germany)\, die sich bereit erklärt hat\, aus der Praxis zum Thema „Interims- und andere Dringlichkeitsvergaben – auch bei „hausgemachter“ Dringlichkeit?“ zu referieren. \n\n\n\n \n\n\n\nTeilnahme / Kosten:\n\n\n\n \n\n\n\nDie Veranstaltung ist kostenlos und in erster Linie an Mitglieder des forum vergabe e. V. gerichtet. Gern kann die Einladung auch an Personen weitergegeben werden\, die sich für das forum vergabe e. V. und dessen Arbeit interessieren. \n\n\n\n \n\n\n\n\n\n \n\n\n\n \n\n\n\nVeranstaltungsort:\n\n\n\nBIM Berliner Immobilienmanagement GmbHAlexanderstraße 310178 Berlin  \n\n\n\n \n\n\n\nVeranstaltet von: \n\n\n\n \n\n\n\nRegionalgruppe Ost des forum vergabe e.V.Kontakt: Cornelia Gabriel-Groth (BIM Berliner Immobilienmanagement GmbH) | e: cornelia.gabriel-groth@bim-berlin.de
URL:https://forum-vergabe.de/veranstaltung/treffen-der-regionalgruppe-ost-mai-2024/
CATEGORIES:Regionalgruppen-Treffen
ATTACH;FMTTYPE=image/png:https://forum-vergabe.de/wp-content/uploads/2023/09/00_RG-Ost-Website-e1708090054474.png
END:VEVENT
END:VCALENDAR