BEGIN:VCALENDAR
VERSION:2.0
PRODID:-//forum vergabe - ECPv6.15.18//NONSGML v1.0//EN
CALSCALE:GREGORIAN
METHOD:PUBLISH
X-ORIGINAL-URL:https://forum-vergabe.de
X-WR-CALDESC:Veranstaltungen für forum vergabe
REFRESH-INTERVAL;VALUE=DURATION:PT1H
X-Robots-Tag:noindex
X-PUBLISHED-TTL:PT1H
BEGIN:VTIMEZONE
TZID:Europe/Berlin
BEGIN:DAYLIGHT
TZOFFSETFROM:+0100
TZOFFSETTO:+0200
TZNAME:CEST
DTSTART:20230326T010000
END:DAYLIGHT
BEGIN:STANDARD
TZOFFSETFROM:+0200
TZOFFSETTO:+0100
TZNAME:CET
DTSTART:20231029T010000
END:STANDARD
BEGIN:DAYLIGHT
TZOFFSETFROM:+0100
TZOFFSETTO:+0200
TZNAME:CEST
DTSTART:20240331T010000
END:DAYLIGHT
BEGIN:STANDARD
TZOFFSETFROM:+0200
TZOFFSETTO:+0100
TZNAME:CET
DTSTART:20241027T010000
END:STANDARD
BEGIN:DAYLIGHT
TZOFFSETFROM:+0100
TZOFFSETTO:+0200
TZNAME:CEST
DTSTART:20250330T010000
END:DAYLIGHT
BEGIN:STANDARD
TZOFFSETFROM:+0200
TZOFFSETTO:+0100
TZNAME:CET
DTSTART:20251026T010000
END:STANDARD
END:VTIMEZONE
BEGIN:VEVENT
DTSTART;TZID=Europe/Berlin:20240305T000000
DTEND;TZID=Europe/Berlin:20240306T235959
DTSTAMP:20260424T165600
CREATED:20231106T112234Z
LAST-MODIFIED:20251215T100314Z
UID:10000219-1709596800-1709769599@forum-vergabe.de
SUMMARY:Basisschulung Vergaberecht - März 2024 (Berlin)
DESCRIPTION:Hinweis:\n\n\n\nTeilnehmer*innen (max.): 12 \n\n\n\nVeranstaltungsort: Geschäftsstelle forum vergabe e.V.\, Spichernstraße 15\, 10777 Berlin \n\n\n\n \n\n\n\n\nInhalt:\n\n\n\n\nWer nicht so häufig oder zum ersten Mal mit dem Vergaberecht zu tun hat\, dem stellen sich viele Fragen. Speziell für wenig erfahrene Anwender des Vergaberechts bieten wir eine einführende systematische und praxisgerechte Darstellung dessen\, was bei der Durchführung von Vergabeverfahren zu beachten ist.Die Schulung berücksichtigt das aktuelle Vergaberecht einschließlich der Unterschwellenvergabeordnung. Vorkenntnisse sind nicht erforderlich. \n\n\n\nIn zwei vollen Tagen beantworten wir in der Basisschulung alle Fragen zu der praktischen Handhabung von Vergaberecht und der Durchführung von Vergabeverfahren. Es werden alle wichtigen Bereiche des Vergaberechts dargestellt und die Fragen der Teilnehmer diskutiert. Praxisfälle dienen der Vertiefung. \n\n\n\nAls vertiefende Veranstaltung zur Basisschulung empfehlen wir unsere jährliche Veranstaltung „VergabeFIT Vergaberecht vertieft – aktuell – praxisgerecht“. Teilnehmer*innen der Basisschulung können vergünstigt an der Veranstaltung VergabeFIT vom 12. bis 14.06.2024 teilnehmen. Bei einer Teilnahme an der ganzen Veranstaltung entfällt der Tagungsbeitrag für einen Tag. \n\n\n\nBeginn/Ende: Die Schulung beginnt am beiden Tagen jeweils um 09.00 Uhr und endet ebenfalls an beiden Tagen jeweils um 17.00 Uhr. Pausen: am Vor- und Nachmittag eine viertelstündige Pause sowie eine einstündige Mittagspause \n\n\n\n \n\n\n\n\n\n\n\n\nThemenübersicht:\n\n\n\n\n \n\n\n\n\ndie vergaberechtlichen Regelwerke und ihre Anwendungsbereiche\n\n\n\nZiel des Vergaberechts\n\n\n\nGrundbegriffe wie “Öffentlicher Auftrag”\n\n\n\nAbgrenzung der Vertragsarten\n\n\n\nSchätzung des Auftragswertes\n\n\n\nWahl des Vergabeverfahrens\n\n\n\nAnforderungen an die Leistungsbeschreibung\n\n\n\nDurchführung des Vergabeverfahrens\n\n\n\nAufstellung der Eignungskriterien und Eignungsprüfung\n\n\n\nAufstellung der Wertungskriterien und Angebotswertung\n\n\n\nBeendigung des Vergabeverfahrens\n\n\n\nRechtsschutz\n\n\n\n\n \n\n\n\n\nVorbereitung / zusätzliche Informationen:\n\n\n\n\n \n\n\n\n\nFreiwillig: Damit wir die Schulung besser auf Ihre persönlichen Erwartungen ausrichten können\, bitte wir Sie\, diesen Fragebogen auszufüllen.\n\n\n\nFür die Veranstaltung: Die benötigten Gesetztestexte finden Sie hier https://forum-vergabe.de/themen/rechtsvorschriften/#Aktuelle-Vorschriften\n\n\n\n\n\n\n\n\n\nVortragende:\n\n\n\n\n \n\n\n\n\nRechtsanwalt Sebastian Schnitzler\, LL.M. (UK)   |   Deloitte Legal Rechtsanwaltsgesellschaft  \n\n\n\nSebastian Schnitzler ist Rechtsanwalt\, Fachanwalt für Vergaberecht und Mediator. Er leitet als Partner bei Deloitte Legal vom Hamburger Standort aus deren vergaberechtliche Praxis. Dabei widmet er sich mit seinem Team mit großer Passion und Leidenschaft vergaberechtlichen Fragestellungen aller Couleur. Sebastian hält regelmäßig Vorträge\, führt Seminare und Workshops durch und beteiligt sich durch Fachpublikationen und Autorenbeiträge in der Kommentarliteratur am wissenschaftlichen Diskurs. \n\n\n\n \n\n\n\n\n\nRechtsanwalt Dr. Henning Holz\, LL.M. website  |   Luther Rechtsanwaltsgesellschaft mbH  \n\n\n\nDr. Henning Holz studierte Rechtswissenschaften in Hannover\, absolvierte den interdisziplinären LL.M.-Studiengang Umweltrecht an der Universität Lüneburg und war zwei Jahre als wissenschaftlicher Mitarbeiter an der Universität Erfurt im Lehrgebiet für Zivil- und Wirtschaftsrecht tätig. Nach Abschluss seiner Promotion im Bereich des Europäischen Umweltrechts und des Referendariats ist er seit 2005 bei Luther am Standort Hannover im Bereich „Vergaberecht und öffentliches Wirtschaftsrecht“ beschäftigt. Seit 2017 ist er Fachanwalt für Vergaberecht. Dr. Henning Holz berät in allen Fragen des Vergaberechts\, auch mit Bezügen zu benachbarten Rechtsgebieten wie dem EU-Beihilferecht\, Haushaltsrecht\, Zuwendungsrecht oder dem öffentlichen Wirtschaftsrecht. Seit 2022 wird er bei Best Lawyers in der Rubrik “Public Law” empfohlen. \n\n\n\n\n\nProf. Dr. Mark von Wietersheim   |  forum vergabe e.V. \n\n\n\nProf. Dr. Mark von Wietersheim ist seit 2009 Geschäftsführer des forum vergabe e.V. tätig sowie seit 1996 in Berlin als Rechtsanwalt zugelassen.Er ist Honorarprofessor an der Hochschule Osnabrück und lehrt dort seit 2006 das private Baurecht sowie Bauvergaberecht.Prof. Dr. von Wietersheim ist Autor zahlreicher Bücher und Buchbeiträge\, u.a. ist er Herausgeber des Ingenstau/Korbion\, Kommentar zur VOB. \n\n\n\n\n \n\n\n\n \n\n\n\n \n\n\n\n\nÜbersicht der Termine / Veranstaltungsseiten:\n\n\n\n\n \n\n\n\n\n05.-06.02.2024 als Webinar \n\n\n\n05.-06.03.2024 in Berlin (hier)\n\n\n\n24.-25.04.2024 als Webinar \n\n\n\n07.-08.05.2024 als Webinar (abgesagt)\n\n\n\n19.-20.06.2024 als Webinar\n\n\n\n\n \n\n\n\nTeilnahmebeiträge:\n\n\n\n(umsatzsteuerbefreit nach § 4 Nr. 22a UStG) \n\n\n\ninkl. Tagungsunterlageninkl. Verpflegunginkl. Fortbildungsnachweis zur Vorlage nach § 15 FAO \n\n\n\n€ 600 für Nicht-Mitglieder(1)€ 450 für Mitglieder des forum vergabe e.V. \n\n\n\n \n\n\n\n \n\n\n\n(1)Für Institutionen: Mit unserem kostenfreien Testservice nehmen Sie 3 Monate lang zu Mitgliederkonditionen an unseren Veranstaltungen teil und können alle Leistungen des forum vergabe e.V. nutzen. Die Testphase endet automatisch mit Ablauf der 3 Monate und bedarf keiner Kündigung. ( Testservice-Antrag) \n\n\n\n\n\n \n\n\n\n\nPDF-Version:\n\n\n\n\n– \n\n\n\n\n\n\n\n\nVeranstaltungsort:\n\n\n\n\nGeschäftsstelle forum vergabe e.V. Spichernstraße 1510777 Berlin Deutschland \n\n\n\n \n\n\n\nVeranstaltet von:\n\n\n\nforum vergabe e.V.Geschäftsstelle – Frau Heike StenzelT: +49 (0) 30 23 60 80 60F: +49 (0) 30 23 60 80 621e: info@forum-vergabe.de
URL:https://forum-vergabe.de/veranstaltung/basisschulung-vergaberecht-maerz-2024-berlin/
CATEGORIES:Schulung
ATTACH;FMTTYPE=image/png:https://forum-vergabe.de/wp-content/uploads/2023/09/00_Basisschulungen-legal-e1699010886452.png
END:VEVENT
BEGIN:VEVENT
DTSTART;TZID=Europe/Berlin:20240314T090000
DTEND;TZID=Europe/Berlin:20240314T170000
DTSTAMP:20260424T165600
CREATED:20230803T104836Z
LAST-MODIFIED:20251215T100301Z
UID:10000193-1710406800-1710435600@forum-vergabe.de
SUMMARY:Vergaberechtliche Entscheidungen 2023 – EuGH\, nationale Gerichte\, Vergabekammern (Hannover)
DESCRIPTION:Inhalt:\n\n\n\n\n \n\n\n\nDie vergaberechtliche Rechtsprechung steht nicht still\, angestoßen von antragstellenden Unternehmen\, die einen Vergabefehler sehen und sich zur Wehr setzen wollen. Für die Allgemeinheit können sich aus dem Verfahren wertvolle Rückschlüsse auf die eigene Vergabepraxis ergeben. \n\n\n\nDie Entscheidungen geben öffentlichen Auftraggebern Hilfestellungen dazu\, welche Gestaltungsmöglichkeiten zulässig sind und welche nicht. Dabei geht es letztlich nicht nur um die oft berufene Rechtssicherheit\, sondern noch mehr um die viel wichtigere Prozesssicherheit für den Weg zu einer wirtschaftlichen Vergabe. \n\n\n\nDen Überblick über alle Entscheidungen zu behalten und die relevanten Entwicklungen zu identifizieren\, ist dem Anwender des Vergaberechts ohne großen Aufwand oft nicht möglich. \n\n\n\nFür diese Veranstaltung werten die Referenten Herr Jörg Wiedemann\, OLG Naumburg\, und Herr Bernhard Fett\, Staatsbetrieb Sächsische Informatik Dienste\, Dresden\, die vergaberechtlichen Entscheidungen des letzten Jahres aus. Sie ordnen die Entscheidungen in vorhandene und neue Trends und Meinungsbilder ein\, systematisch orientiert am Ablauf von Vergabeverfahren und von Vergabenachprüfungsverfahren. So können die Entscheidungen aufgegriffen und in zukünftigen Vergabeverfahren berücksichtigt werden. \n\n\n\nWir weisen darauf hin\, dass die Vorträge zu dieser Veranstaltung nicht folienbasiert gehalten werden.  \n\n\n\n \n\n\n\n \n\n\n\n \n\n\n\nProgramm / Ablauf:\n\n\n\n \n\n\n\n09:00 Uhr BegrüßungProf. Dr. Mark von Wietersheim Geschäftsführer des forum vergabe e.V. \n\n\n\n09:10 Uhr Entscheidungen der Vergabekammern\, Teil 1Bernhard Fett Staatsbetrieb Sächsische Informatik Dienste\, Dresden \n\n\n\n10:40 Uhr Kaffeepause \n\n\n\n11:00 Uhr Entscheidungen der Vergabekammern\, Teil 2Bernhard Fett Staatsbetrieb Sächsische Informatik Dienste\, Dresden \n\n\n\n12:30 Uhr Mittagspause \n\n\n\n 13:30 Uhr Entscheidungen von EuGH und nationalen Gerichten\, Teil 1Jörg Wiedemann Richter am OLG Naumburg \n\n\n\n15:00 Uhr Kaffeepause \n\n\n\n15:30 Uhr Entscheidungen von EuGH und nationalen Gerichten\, Teil 2Jörg WiedemannRichter am OLG Naumburg \n\n\n\n17:00 Uhr Ende der Veranstaltung \n\n\n\n \n\n\n\n\nVortragende:\n\n\n\n\n \n\n\n\n\nJörg Wiedemann | Richter am Oberlandesgericht Naumburg \n\n\n\n\nStudium an der Humboldt-Universität zu Berlin 1987 bis 1991\n\n\n\nReferendariat überwiegend in Münster 1991-1994\n\n\n\nseit 1994 in der Justiz des Landes Sachsen-Anhalt\n\n\n\nseit 1998 am Oberlandesgericht Naumburg tätig\n\n\n\nseit 1999 Zugehörigkeit zum Vergabesenat\, daneben langjährig jeweils u.a. zum Kartellsenat\, zu einem Zivilsenat mit Spezialzuweisung u.a. für Zivilsachen mit Zusammenhang zu einem Vergabeverfahren bzw. zur Energiewirtschaft; seit 2018 für Bau- und Architektensachen.\n\n\n\nseit 2001 Vortrags- und Seminartätigkeit im Vergaberecht\n\n\n\nFachaufsätze in ZfBR und Vergaberecht\, Mitautor von Röwekamp/Kus/Portz/Prieß\, GWB 5. Aufl. 2020\, Röwekamp/Kus/Marx/Portz/Prieß\, VgV\, 2. Aufl. 2022\, Röwekamp/Portz/Friton\, UVgO\, 2. Aufl. 2023\, und Byok/Jaeger\, Vergaberecht\, 4. Aufl. 2018\n\n\n\n\n\n\nBernhard Fett | Leitender Regierungsdirektor\, Staatsbetrieb Sächsische Informatik Dienste \n\n\n\n\nStudium der Rechtswissenschaft in Mannheim und MünsterAss. Jur.\n\n\n\n1996-2005 Vorsitzender des Vergabeüberwachungsausschusses und der 1. Vergabekammer des Freistaates Sachsen beim Regierungspräsidium/Landesdirektion in Leipzig;\n\n\n\n2006-2015 Zentrale Vergabestelle im Sächsischen Staatsministerium des Innern in Dresden;\n\n\n\nseit 2015 beim SID in Dresden\, jetzt Radebeul\n\n\n\nMitkommentator\, u.a. in Müller-Wrede VOL/A-Kommentar; Willenbruch/Wieddekind\, Vergaberecht Kompaktkommentar\, 1.-3. Aufl.; Beck Online-Kommentar GWB und VgV; Byok/Jaeger\, Vergaberecht\, 4. Aufl. 2018; Münchener Kommentar zum Europäischen und deutschen Wettbewerbsrecht\, Band 3: Vergaberecht I\, 2022 und Band 4: Vergaberecht II\, 2022.\n\n\n\nSeit 1998 Dozent für Vergaberecht an der Akademie für öffentliche Verwaltung\, nunmehrige Fachhochschule für öffentliche Verwaltung und Rechtspflege\, in Meißen.\n\n\n\n\n\n \n\n\n\n \n\n\n\n\nÜbersicht der Termine / Veranstaltungsseiten:\n\n\n\n\n \n\n\n\n\n29.02.2024 in Stuttgart \n\n\n\n14.03.2024 in Hannover\n\n\n\n21.03.2024 als Webinar\n\n\n\n\n \n\n\n\n \n\n\n\nTeilnahmebeiträge:\n\n\n\n(umsatzsteuerbefreit nach § 4 Nr. 22a UStG) \n\n\n\ninkl. Tagungsunterlageninkl. Verpflegunginkl. Fortbildungsnachweis zur Vorlage nach § 15 FAO \n\n\n\n \n\n\n\n \n\n\n\n€ 360 für Nicht-Mitglieder (1)€ 300 für Mitglieder des forum vergabe e.V.€   50 für Student*innen\, Referendare\, Promovierende \n\n\n\nFür Institutionen: Mit unserem kostenfreien Testservice nehmen Sie 3 Monate lang zu Mitgliederkonditionen an unseren Veranstaltungen teil und können alle Leistungen des forum vergabe e.V. nutzen. Die Testphase endet automatisch mit Ablauf der 3 Monate und bedarf keiner Kündigung. ( Testservice-Antrag) \n\n\n\n \n\n\n\n\n\n\n\n\n\n \n\n\n\n\nPDF-Version:\n\n\n\n\n– \n\n\n\n \n\n\n\n\nVeranstaltungsort:\n\n\n\n\nDouble Tree by HiltonHannover SchweizerhofHinüberstraße 630175 Niedersachsen \n\n\n\n\n\n\n\n\nVorbereitung / zusätzliche Informationen:\n\n\n\n\n \n\n\n\nFür die Übernachtung vom 13.-14.03.2024 hat das Tagungshotel ein Abrufkontingent eingerichtet. Sie erhalten 15 % Ermäßigung auf den Tagespreis.  \n\n\n\nZu buchen über diesen Link: https://tinyurl.com/Hannover2024 \n\n\n\n– \n\n\n\nNach Eingang der Anmeldung erhalten Sie eine Anmeldebestätigung und eine Rechnung. Bitte beachten Sie\, dass Ihre Anmeldung erst durch diese Bestätigung Gültigkeit erlangt. Es kann jederzeit ein Ersatzteilnehmer gestellt werden. Die Absage bedarf der Schriftform. \n\n\n\nBei Absagen nach dem 02.03.2024 wird der Tagungsbeitrag abzüglich eines Kostenbeitrages in Höhe von € 50\,- erstattet. Bei Absagen nach dem 22.03.2024 wird der Beitrag in voller Höhe fällig. \n\n\n\nÄnderungen des Programms sowie eine Absage bei zu geringer Teilnehmerzahl behalten wir uns vor. \n\n\n\n \n\n\n\n \n\n\n\nVeranstaltet von:\n\n\n\nforum vergabe e.V.Geschäftsstelle – Frau Heike StenzelT: +49 (0) 30 23 60 80 60F: +49 (0) 30 23 60 80 621e: info@forum-vergabe.de
URL:https://forum-vergabe.de/veranstaltung/vergaberechtliche-entscheidungen-2023-eugh-nationale-gerichte-vergabekammern-hannover/
ATTACH;FMTTYPE=image/jpeg:https://forum-vergabe.de/wp-content/uploads/2023/08/00_Vergaberechtliche-Entscheidungen-20xx-e1691059512206.jpg
END:VEVENT
BEGIN:VEVENT
DTSTART;TZID=Europe/Berlin:20240319T160000
DTEND;TZID=Europe/Berlin:20240319T183000
DTSTAMP:20260424T165600
CREATED:20230821T101709Z
LAST-MODIFIED:20251215T100244Z
UID:10000206-1710864000-1710873000@forum-vergabe.de
SUMMARY:NEUER TERMIN: Treffen der Regionalgruppe Schleswig-Holstein - Januar 2024 (Lübeck)
DESCRIPTION:Einladung:\n\n\n\n \n\n\n\nLiebe Mitglieder des forum vergabe e.V.\, \n\n\n\nliebe Gäste der Regionalgruppe Schleswig-Holstein\, \n\n\n\nsehr geehrte Damen und Herren\, \n\n\n\n \n\n\n\nnachdem wir Ende Januar erfolgreich die erste Veranstaltung der neugegründeten Regionalgruppe Schleswig-Holstein unter Beteiligung des Geschäftsführers des forum vergabe e.V.\, Herrn Prof. Dr. Mark von Wietersheim durchführen konnten\, freuen wir uns\, Sie unserer Veranstaltung im 2. Halbjahr herzlich  einladen zu dürfen. \n\n\n\nDienstag\, 19. März 2024 um 16:00 Uhrirmler.rechtsanwälte\, Mengstraße 38\, 23552 Lübeck \n\n\n\n \n\n\n\nProgramm / Ablauf:\n\n\n\n16:00 Uhr – Begrüßung  \n\n\n\n16:15 Uhr – „Konsequenzen der Streichung des § 3 Abs. 7 S. 2 VgV“                         Dr. Holger Matuschak Geschäftsführer und Justitiar der Hamburgischen Architektenkammer \n\n\n\n      \n\n\n\n17:00 Uhr – Pause   \n\n\n\n17:15 Uhr – „Wettbewerblicher Dialog statt Architektenwettbewerb – ein etwas polemischer Beitrag zum Diskussionsanstoß“ \n\n\n\nca. 18:00/18:30 Uhr – Ende der Veranstaltung \n\n\n\n— \n\n\n\nIm Anschluss an die Veranstaltung freuen wir uns\, mit Ihnen bei etwas Käse und Wein wieder interessante Gespräche zu führen. \n\n\n\nWir freuen uns auf Ihr Kommen und möchten Sie bitten\, für die Aktualisierung unserer Adressdatei Ihre Kontaktdaten in Form einer Visitenkarte o.Ä. mitzubringen. \n\n\n\nMit freundlichen Grüßen \n\n\n\n \n\n\n\nProf. H.Henning Irmler Fachanwalt für VergaberechtFachanwalt für Bau- und Architektenrecht    \n\n\n\n \n\n\n\n                   \n\n\n\n \n\n\n\nTeilnahme / Kosten:\n\n\n\n \n\n\n\n\nAnzahl Teilnehmer*innen (max.): \n\n\n\n\nSehr gerne möchten wir Sie darauf hinweisen\, dass die Kapazität des Tagungsraums auf 25 Teilnehmende beschränkt ist\, weshalb wir Sie um vorherige und baldige Anmeldung bitten. \n\n\n\n \n\n\n\n\nTeilnahmebeitrag: kostenlos.\n\n\n\n\nBitte melden Sie sich per E-Mail an. Die Teilnahme ist kostenlos und nicht auf die Mitglieder der Regionalgruppe beschränkt. Gern können Sie die Einladung an weitere interessierte Personen weiterleiten. \n\n\n\n \n\n\n\n\n\n \n\n\n\n \n\n\n\n \n\n\n\nVeranstaltungsort:\n\n\n\n \n\n\n\nKanzlei irmler.rechtsanwälteMengstraße 3823552 LübeckDeutschland \n\n\n\n \n\n\n\n \n\n\n\n \n\n\n\nVeranstaltet von:\n\n\n\nRegionalgruppe Schleswig-Holstein des forum vergabe e.V.Kontakt: Rechtsanwalt Prof. Dr. H. Henning Irmler  |   T: +49 (0) 451 30 43 75 26   |   e: luebeck@irmler.org
URL:https://forum-vergabe.de/veranstaltung/treffen-der-regionalgruppe-schleswig-holstein-oktober-2023/
CATEGORIES:Regionalgruppen-Treffen
ATTACH;FMTTYPE=image/png:https://forum-vergabe.de/wp-content/uploads/2023/08/00_RG-Schleswig-Holstein-Website-e1708086670460.png
END:VEVENT
BEGIN:VEVENT
DTSTART;TZID=Europe/Berlin:20240320T150000
DTEND;TZID=Europe/Berlin:20240320T163000
DTSTAMP:20260424T165600
CREATED:20240213T094825Z
LAST-MODIFIED:20251215T100414Z
UID:10000232-1710946800-1710952200@forum-vergabe.de
SUMMARY:KI im öffentlichen Einkauf Teil 1 - Gesprächskreis Digitale Transformation - März 2024 (online)
DESCRIPTION:KI im öffentlichen Einkauf – Teil 1: Grundlagen und Nutzungsmöglichkeiten\n\n\n\n\n\n\n\n\n\n\nInhalt:\n\n\n\n\nIn der mehrteiligen Veranstaltung „KI im öffentlichen Einkauf“ bietet der Gesprächskreis Digitale Transformation allen Teilnehmer*innen die Gelegenheit\, sich einen Überblick über die Grundlagen künstlicher Intelligenz (KI) bis hin zu ihrem möglichen Einsatz im öffentlichen Einkauf zu verschaffen. \n\n\n\nIm ersten Teil geht es um die Grundlagen und Nutzungsmöglichkeiten von KI. \n\n\n\nOrt: Meetup per Zoom \n\n\n\n \n\n\n\n#gerneperdu #mitbildundton \n\n\n\nIn diesem Gesprächskreis wollen wir in einer offenen Atmosphäre miteinander ins Gespräch kommen. Es würde uns daher freuen\, wenn Sie möglichst durchgehend mit Bild teilnehmen. Zudem laden wir Sie herzlich dazu ein\, sich jederzeit mit Wortmeldungen aktiv an dem Austausch zu beteiligen.  \n\n\n\n\nVortragende:\n\n\n\n\n \n\n\n\n \n\n\n\n\n\n Jörg Roskowetz  Director Solution Architect AI and Web3 Technology\, AMD\n\n\n\n\n\nRobert Thiele  Syndikusrechtsanwalt Techniker Krankenkasse und Mitglied der AG EVB-IT des IT-Planungsrats (Leiter des Gesprächskreises)\n\n\n\n\n\nFelix Zimmermann   Referatsleiter Bundesministerium des Inneren und Heimat\, Vorstandsmitglied forum vergabe e.V.(Leiter des Gesprächskreises)\n\n\n\n\n\n \n\n\n\nTeilnahmebeiträge:\n\n\n\nBeitrag: Kostenfrei. \n\n\n\nAnmeldung / Teilnahme: Als Mitglied des forum vergabe e.V. erhalten Sie eine persönliche Einladung. Nichtmitglieder können sich bei Interesse an dieser Veranstaltung gern an die Geschäftsstelle wenden. \n\n\n\nFortbildungsbescheinigung: Keine.    \n\n\n\n\n\n \n\n\n\n\nPDF-Version:\n\n\n\n\n–
URL:https://forum-vergabe.de/veranstaltung/treffen-des-gespraechskreises-digitale-transformation-maerz-2024-online/
LOCATION:Online / Remote
CATEGORIES:Gesprächskreis des forum vergabe
ATTACH;FMTTYPE=image/png:https://forum-vergabe.de/wp-content/uploads/2024/02/Veranstaltungsbild-GK-DiTra-_-KI-Reihe-e1707826660480.png
END:VEVENT
BEGIN:VEVENT
DTSTART;TZID=Europe/Berlin:20240321T090000
DTEND;TZID=Europe/Berlin:20240321T170000
DTSTAMP:20260424T165600
CREATED:20231016T150803Z
LAST-MODIFIED:20251215T100426Z
UID:10000216-1711011600-1711040400@forum-vergabe.de
SUMMARY:Vergaberechtliche Entscheidungen 2023 – EuGH\, nationale Gerichte\, Vergabekammern (Webinar)
DESCRIPTION:Inhalt:\n\n\n\n\n \n\n\n\nDie vergaberechtliche Rechtsprechung steht nicht still\, angestoßen von antragstellenden Unternehmen\, die einen Vergabefehler sehen und sich zur Wehr setzen wollen. Für die Allgemeinheit können sich aus dem Verfahren wertvolle Rückschlüsse auf die eigene Vergabepraxis ergeben. \n\n\n\nDie Entscheidungen geben öffentlichen Auftraggebern Hilfestellungen dazu\, welche Gestaltungsmöglichkeiten zulässig sind und welche nicht. Dabei geht es letztlich nicht nur um die oft berufene Rechtssicherheit\, sondern noch mehr um die viel wichtigere Prozesssicherheit für den Weg zu einer wirtschaftlichen Vergabe. \n\n\n\nDen Überblick über alle Entscheidungen zu behalten und die relevanten Entwicklungen zu identifizieren\, ist dem Anwender des Vergaberechts ohne großen Aufwand oft nicht möglich. \n\n\n\nFür diese Veranstaltung werten die Referenten Herr Jörg Wiedemann\, OLG Naumburg\, und Herr Bernhard Fett\, Staatsbetrieb Sächsische Informatik Dienste\, Dresden\, die vergaberechtlichen Entscheidungen des letzten Jahres aus. Sie ordnen die Entscheidungen in vorhandene und neue Trends und Meinungsbilder ein\, systematisch orientiert am Ablauf von Vergabeverfahren und von Vergabenachprüfungsverfahren. So können die Entscheidungen aufgegriffen und in zukünftigen Vergabeverfahren berücksichtigt werden. \n\n\n\nWir weisen darauf hin\, dass die Vorträge zu dieser Veranstaltung nicht folienbasiert gehalten werden.  \n\n\n\n \n\n\n\n \n\n\n\n \n\n\n\nProgramm / Ablauf:\n\n\n\n \n\n\n\n09:00 Uhr BegrüßungProf. Dr. Mark von Wietersheim Geschäftsführer des forum vergabe e.V. \n\n\n\n09:10 Uhr Entscheidungen der Vergabekammern\, Teil 1Bernhard Fett Staatsbetrieb Sächsische Informatik Dienste\, Dresden \n\n\n\n10:40 Uhr Kaffeepause \n\n\n\n11:00 Uhr Entscheidungen der Vergabekammern\, Teil 2Bernhard Fett Staatsbetrieb Sächsische Informatik Dienste\, Dresden \n\n\n\n12:30 Uhr Mittagspause \n\n\n\n 13:30 Uhr Entscheidungen von EuGH und nationalen Gerichten\, Teil 1Jörg Wiedemann Richter am OLG Naumburg \n\n\n\n15:00 Uhr Kaffeepause \n\n\n\n15:30 Uhr Entscheidungen von EuGH und nationalen Gerichten\, Teil 2Jörg WiedemannRichter am OLG Naumburg \n\n\n\n17:00 Uhr Ende der Veranstaltung \n\n\n\n \n\n\n\n\nVortragende:\n\n\n\n\n \n\n\n\n\nJörg Wiedemann | Richter am Oberlandesgericht Naumburg \n\n\n\n\nStudium an der Humboldt-Universität zu Berlin 1987 bis 1991\n\n\n\nReferendariat überwiegend in Münster 1991-1994\n\n\n\nseit 1994 in der Justiz des Landes Sachsen-Anhalt\n\n\n\nseit 1998 am Oberlandesgericht Naumburg tätig\n\n\n\nseit 1999 Zugehörigkeit zum Vergabesenat\, daneben langjährig jeweils u.a. zum Kartellsenat\, zu einem Zivilsenat mit Spezialzuweisung u.a. für Zivilsachen mit Zusammenhang zu einem Vergabeverfahren bzw. zur Energiewirtschaft; seit 2018 für Bau- und Architektensachen.\n\n\n\nseit 2001 Vortrags- und Seminartätigkeit im Vergaberecht\n\n\n\nFachaufsätze in ZfBR und Vergaberecht\, Mitautor von Röwekamp/Kus/Portz/Prieß\, GWB 5. Aufl. 2020\, Röwekamp/Kus/Marx/Portz/Prieß\, VgV\, 2. Aufl. 2022\, Röwekamp/Portz/Friton\, UVgO\, 2. Aufl. 2023\, und Byok/Jaeger\, Vergaberecht\, 4. Aufl. 2018\n\n\n\n\n\n\nBernhard Fett | Leitender Regierungsdirektor\, Staatsbetrieb Sächsische Informatik Dienste \n\n\n\n\nStudium der Rechtswissenschaft in Mannheim und MünsterAss. Jur.\n\n\n\n1996-2005 Vorsitzender des Vergabeüberwachungsausschusses und der 1. Vergabekammer des Freistaates Sachsen beim Regierungspräsidium/Landesdirektion in Leipzig;\n\n\n\n2006-2015 Zentrale Vergabestelle im Sächsischen Staatsministerium des Innern in Dresden;\n\n\n\nseit 2015 beim SID in Dresden\, jetzt Radebeul\n\n\n\nMitkommentator\, u.a. in Müller-Wrede VOL/A-Kommentar; Willenbruch/Wieddekind\, Vergaberecht Kompaktkommentar\, 1.-3. Aufl.; Beck Online-Kommentar GWB und VgV; Byok/Jaeger\, Vergaberecht\, 4. Aufl. 2018; Münchener Kommentar zum Europäischen und deutschen Wettbewerbsrecht\, Band 3: Vergaberecht I\, 2022 und Band 4: Vergaberecht II\, 2022.\n\n\n\nSeit 1998 Dozent für Vergaberecht an der Akademie für öffentliche Verwaltung\, nunmehrige Fachhochschule für öffentliche Verwaltung und Rechtspflege\, in Meißen.\n\n\n\n\n\n \n\n\n\n \n\n\n\n\nÜbersicht der Termine / Veranstaltungsseiten:\n\n\n\n\n \n\n\n\n\n29.02.2024 in Stuttgart \n\n\n\n14.03.2024 in Hannover\n\n\n\n21.03.2024 als Webinar\n\n\n\n\n \n\n\n\n \n\n\n\nTeilnahmebeiträge:\n\n\n\n(umsatzsteuerbefreit nach § 4 Nr. 22a UStG) \n\n\n\ninkl. Tagungsunterlageninkl. Verpflegunginkl. Fortbildungsnachweis zur Vorlage nach § 15 FAO \n\n\n\n \n\n\n\n \n\n\n\n€ 300 für Nicht-Mitglieder (1)€ 240 für Mitglieder des forum vergabe e.V.€   50 für Student*innen\, Referendare\, Promovierende \n\n\n\nFür Institutionen: Mit unserem kostenfreien Testservice nehmen Sie 3 Monate lang zu Mitgliederkonditionen an unseren Veranstaltungen teil und können alle Leistungen des forum vergabe e.V. nutzen. Die Testphase endet automatisch mit Ablauf der 3 Monate und bedarf keiner Kündigung. ( Testservice-Antrag) \n\n\n\n \n\n\n\n\n\n\n\n\n\n \n\n\n\n\nPDF-Version:\n\n\n\n\n– \n\n\n\n \n\n\n\n \n\n\n\n\nVeranstaltungsort:\n\n\n\n\n \n\n\n\n\n\n\n\n\n\n\nVorbereitung / zusätzliche Informationen:\n\n\n\n\nNach Eingang der Anmeldung erhalten Sie eine Anmeldebestätigung und eine Rechnung. Bitte beachten Sie\, dass Ihre Anmeldung erst durch diese Bestätigung Gültigkeit erlangt. Es kann jederzeit ein Ersatzteilnehmer gestellt werden. Die Absage bedarf der Schriftform. \n\n\n\nBei Absagen nach dem 14.03.2024 wird der Tagungsbeitrag abzüglich eines Kostenbeitrages in Höhe von € 50\,- erstattet. Bei Absagen nach dem 20.03.2024 wird der Beitrag in voller Höhe fällig. \n\n\n\nÄnderungen des Programms sowie eine Absage bei zu geringer Teilnehmerzahl behalten wir uns vor. \n\n\n\n \n\n\n\n \n\n\n\nVeranstaltet von:\n\n\n\nforum vergabe e.V.Geschäftsstelle – Frau Eléonore UnserT: +49 (0) 30 23 60 80 60F: +49 (0) 30 23 60 80 621e: info@forum-vergabe.de
URL:https://forum-vergabe.de/veranstaltung/vergaberechtliche-entscheidungen-2023-eugh-nationale-gerichte-vergabekammern-webinar/
LOCATION:Online / Remote
ATTACH;FMTTYPE=image/jpeg:https://forum-vergabe.de/wp-content/uploads/2023/08/00_Vergaberechtliche-Entscheidungen-20xx-e1691059512206.jpg
END:VEVENT
END:VCALENDAR