BEGIN:VCALENDAR
VERSION:2.0
PRODID:-//forum vergabe - ECPv6.15.18//NONSGML v1.0//EN
CALSCALE:GREGORIAN
METHOD:PUBLISH
X-ORIGINAL-URL:https://forum-vergabe.de
X-WR-CALDESC:Veranstaltungen für forum vergabe
REFRESH-INTERVAL;VALUE=DURATION:PT1H
X-Robots-Tag:noindex
X-PUBLISHED-TTL:PT1H
BEGIN:VTIMEZONE
TZID:Europe/Berlin
BEGIN:DAYLIGHT
TZOFFSETFROM:+0100
TZOFFSETTO:+0200
TZNAME:CEST
DTSTART:20230326T010000
END:DAYLIGHT
BEGIN:STANDARD
TZOFFSETFROM:+0200
TZOFFSETTO:+0100
TZNAME:CET
DTSTART:20231029T010000
END:STANDARD
BEGIN:DAYLIGHT
TZOFFSETFROM:+0100
TZOFFSETTO:+0200
TZNAME:CEST
DTSTART:20240331T010000
END:DAYLIGHT
BEGIN:STANDARD
TZOFFSETFROM:+0200
TZOFFSETTO:+0100
TZNAME:CET
DTSTART:20241027T010000
END:STANDARD
BEGIN:DAYLIGHT
TZOFFSETFROM:+0100
TZOFFSETTO:+0200
TZNAME:CEST
DTSTART:20250330T010000
END:DAYLIGHT
BEGIN:STANDARD
TZOFFSETFROM:+0200
TZOFFSETTO:+0100
TZNAME:CET
DTSTART:20251026T010000
END:STANDARD
END:VTIMEZONE
BEGIN:VEVENT
DTSTART;TZID=Europe/Berlin:20240205T000000
DTEND;TZID=Europe/Berlin:20240206T235959
DTSTAMP:20260424T165625
CREATED:20231106T105550Z
LAST-MODIFIED:20251215T100029Z
UID:10000218-1707091200-1707263999@forum-vergabe.de
SUMMARY:Basisschulung Vergaberecht - Februar 2024 (Webinar)
DESCRIPTION:Inhalt:\n\n\n\n\nWer nicht so häufig oder zum ersten Mal mit dem Vergaberecht zu tun hat\, dem stellen sich viele Fragen. Speziell für wenig erfahrene Anwender des Vergaberechts bieten wir eine einführende systematische und praxisgerechte Darstellung dessen\, was bei der Durchführung von Vergabeverfahren zu beachten ist.Die Schulung berücksichtigt das aktuelle Vergaberecht einschließlich der Unterschwellenvergabeordnung. Vorkenntnisse sind nicht erforderlich. \n\n\n\nIn zwei vollen Tagen beantworten wir in der Basisschulung alle Fragen zu der praktischen Handhabung von Vergaberecht und der Durchführung von Vergabeverfahren. Es werden alle wichtigen Bereiche des Vergaberechts dargestellt und die Fragen der Teilnehmer diskutiert. Praxisfälle dienen der Vertiefung. \n\n\n\nAls vertiefende Veranstaltung zur Basisschulung empfehlen wir unsere jährliche Veranstaltung „VergabeFIT Vergaberecht vertieft – aktuell – praxisgerecht“. Teilnehmer*innen der Basisschulung können vergünstigt an der Veranstaltung VergabeFIT vom 12. bis 14.06.2024 teilnehmen. Bei einer Teilnahme an der ganzen Veranstaltung entfällt der Tagungsbeitrag für einen Tag. \n\n\n\nBeginn/Ende: Die Schulung beginnt am beiden Tagen jeweils um 09.00 Uhr und endet ebenfalls an beiden Tagen jeweils um 17.00 Uhr. Pausen: am Vor- und Nachmittag eine viertelstündige Pause sowie eine einstündige Mittagspause \n\n\n\n \n\n\n\n\n\n\n\n\nThemenübersicht:\n\n\n\n\n \n\n\n\n\ndie vergaberechtlichen Regelwerke und ihre Anwendungsbereiche\n\n\n\nZiel des Vergaberechts\n\n\n\nGrundbegriffe wie “Öffentlicher Auftrag”\n\n\n\nAbgrenzung der Vertragsarten\n\n\n\nSchätzung des Auftragswertes\n\n\n\nWahl des Vergabeverfahrens\n\n\n\nAnforderungen an die Leistungsbeschreibung\n\n\n\nDurchführung des Vergabeverfahrens\n\n\n\nAufstellung der Eignungskriterien und Eignungsprüfung\n\n\n\nAufstellung der Wertungskriterien und Angebotswertung\n\n\n\nBeendigung des Vergabeverfahrens\n\n\n\nRechtsschutz\n\n\n\n\n \n\n\n\n\nVorbereitung / zusätzliche Informationen:\n\n\n\n\n \n\n\n\n\nFreiwillig: Damit wir die Schulung besser auf Ihre persönlichen Erwartungen ausrichten können\, bitte wir Sie\, diesen Fragebogen auszufüllen.\n\n\n\nFür die Veranstaltung: Die benötigten Gesetztestexte finden Sie hier https://forum-vergabe.de/themen/rechtsvorschriften/#Aktuelle-Vorschriften\n\n\n\n\n\n\n\n\n\nVortragende:\n\n\n\n\n \n\n\n\n\nRechtsanwalt Prof. Dr. Alexander Wichmann website |   W2K – Wurster Weiß Kupfer Rechtsanwälte Partnerschaft mbB \n\n\n\nHerr Prof. Dr. Alexander Wichmann ist Partner der Kanzlei W2K Wurster Weiß Kupfer\, Freiburg und seit über 23 Jahren im Vergaberecht tätig. Seine Doktorarbeit hat er bei Prof. Voßkuhle zum Vergaberecht geschrieben. Er war u.a. über 10 Jahre für die Deutsche Bahn AG im IT- und Kartellvergaberecht tätig. Herr Prof. Wichmann leitet regelmäßig Seminare im Vertrags- und Vergaberecht und ist Mitautor führender Vergaberechtskommentare. Im Jahr 2010 hat er einen Ruf als Professor für Wirtschafts- und Vertriebsrecht an der TH Aschaffenburg angenommen. \n\n\n\n\n\nRechtsanwalt Dr. Mathias Mantler   |     LUTZ | ABEL Rechtsanwalts PartG mbB \n\n\n\nDr. Mathias Mantler\, Rechtsanwalt und Fachanwalt für Vergaberecht\, Partner der LUTZ | ABEL Rechtsanwalts PartGmbB in München. Sein Tätigkeitsschwerpunkt liegt im Vergaberecht. Er ist ständiger Mitarbeiter der Zeitschrift „Vergaberecht“ und Referent für Seminare und Inhouse-Schulungen im Vergaberecht. Er berät öffentliche Auftraggeber und Unternehmen in allen Fragen des Vergaberechts. \n\n\n\n\n\nProf. Dr. Mark von Wietersheim   |  forum vergabe e.V. \n\n\n\nProf. Dr. Mark von Wietersheim ist seit 2009 Geschäftsführer des forum vergabe e.V. tätig sowie seit 1996 in Berlin als Rechtsanwalt zugelassen.Er ist Honorarprofessor an der Hochschule Osnabrück und lehrt dort seit 2006 das private Baurecht sowie Bauvergaberecht.Prof. Dr. von Wietersheim ist Autor zahlreicher Bücher und Buchbeiträge\, u.a. ist er Herausgeber des Ingenstau/Korbion\, Kommentar zur VOB. \n\n\n\n\n \n\n\n\n \n\n\n\n \n\n\n\n\nÜbersicht der Termine / Veranstaltungsseiten:\n\n\n\n\n \n\n\n\n\n05.-06.02.2024 als Webinar (hier)\n\n\n\n05.-06.03.2024 in Berlin\n\n\n\n24.-25.04.2024 als Webinar \n\n\n\n07.-08.05.2024 als Webinar (abgesagt)\n\n\n\n19.-20.06.2024 als Webinar\n\n\n\n\n \n\n\n\nTeilnahmebeiträge:\n\n\n\n(umsatzsteuerbefreit nach § 4 Nr. 22a UStG) \n\n\n\ninkl. Tagungsunterlageninkl. Fortbildungsnachweis zur Vorlage nach § 15 FAO \n\n\n\n€ 500 für Nicht-Mitglieder(1)€ 350 für Mitglieder des forum vergabe e.V. \n\n\n\n \n\n\n\n \n\n\n\n(1)Für Institutionen: Mit unserem kostenfreien Testservice nehmen Sie 3 Monate lang zu Mitgliederkonditionen an unseren Veranstaltungen teil und können alle Leistungen des forum vergabe e.V. nutzen. Die Testphase endet automatisch mit Ablauf der 3 Monate und bedarf keiner Kündigung. ( Testservice-Antrag) \n\n\n\n\n\n \n\n\n\n\nPDF-Version:\n\n\n\n\n– \n\n\n\n\n\n\n\n\nVeranstaltungsort:\n\n\n\n\n\n\n \n\n\n\n \n\n\n\nVeranstaltet von:\n\n\n\nforum vergabe e.V.Geschäftsstelle – Frau Eléonore UnserT: +49 (0) 30 23 60 80 60F: +49 (0) 30 23 60 80 621E: info@forum-vergabe.de
URL:https://forum-vergabe.de/veranstaltung/basisschulung-vergaberecht-februar-2024-webinar/
LOCATION:Online / Remote
CATEGORIES:Schulung
ATTACH;FMTTYPE=image/png:https://forum-vergabe.de/wp-content/uploads/2023/09/00_Basisschulungen-legal-e1699010886452.png
END:VEVENT
BEGIN:VEVENT
DTSTART;TZID=Europe/Berlin:20240214T000000
DTEND;TZID=Europe/Berlin:20240214T235959
DTSTAMP:20260424T165625
CREATED:20231114T070534Z
LAST-MODIFIED:20251215T100038Z
UID:10000223-1707868800-1707955199@forum-vergabe.de
SUMMARY:Treffen der Regionalgruppe Nord - Februar 2024 (Hamburg)
DESCRIPTION:Einladung:\n\n\n\n \n\n\n\nSehr geehrte Damen und Herren\, \n\n\n\nhiermit laden wir Sie zur Sitzung der „forum vergabe e.V. Regionalgruppe Nord“ ein. \n\n\n\nDie Sitzung wird in den Räumlichkeiten der Stadtreinigung Hamburg AöR im Konferenzraum Anton-Rée-Weg 1\, 5. OG stattfinden. Eine Einladung folgt gesondert. \n\n\n\nNeben dem gewohnten Tagesordnungspunkt „Aktuelles aus Hamburg“ wird sich die Veranstaltung nach gegenwärtiger Planung mit unterschiedlichen aktuellen vergaberechtlichen Themen auch aus der Perspektive der Stadtreinigung beschäftigen. Dazu ist ein praktischer Erfahrungsaustausch unter den Teilnehmern der Veranstaltung geplant. Die Teilnehmer können sehr gerne im Vorgriff der Veranstaltung per E-Mail an jscharf@goerg.de eigene Themenvorschläge unterbreiten\, die wir – sofern in den Zeitrahmen passend – sehr gerne aufgreifen. \n\n\n\n \n\n\n\nMit freundlichen Grüßen\, Ihr Organisationsteam \n\n\n\nBettina Maaser-Siemers / Heiko Höfler / Jan Scharf \n\n\n\n \n\n\n\nProgramm / Ablauf:\n\n\n\n \n\n\n\nFür die kommende Veranstaltung sind folgende Themen geplant: \n\n\n\n \n\n\n\n\nBegrüßung durch das Organisationsteam und die Stadtreinigung Hamburg AöR\n\n\n\nKurzvortrag: „Praktische Erfahrungen der SRH mit dem Vergaberecht“ von Kai Lorbitzki\, Stadtreinigung Hamburg AöR\n\n\n\n„Das Lieferkettensorgfaltspflichtengesetz (LkSG) im Vergabeverfahren“ von Dr. Jan Scharf und Dr. Oliver Jauch\, beide GÖRG Partnerschaft von Rechtsanwälten mbB\n\n\n\nAktuelles aus Hamburg von Bettina Maaser-Siemers\, Finanzbehörde\n\n\n\nPraktischer Erfahrungsaustausch\, Moderation von N.N:\n\n\n\nGet together mit kleinem Imbiss\n\n\n\n\n \n\n\n\nTeilnahme / Kosten:\n\n\n\n \n\n\n\n \n\n\n\n\n\n \n\n\n\n \n\n\n\nVeranstaltungsort:\n\n\n\nStadtreinigung Hamburg AöRAnton-Rée-Weg 120537 HamburgDeutschland \n\n\n\n \n\n\n\n \n\n\n\nVeranstaltet von: \n\n\n\nRegionalgruppe Nord des forum vergabe e.V.Kontakt: Rechtsanwalt Prof. Dr. Heiko Höfler (PwC Legal)   |   e: heiko.hoefler@pwc.com
URL:https://forum-vergabe.de/veranstaltung/treffen-der-regionalgruppe-nord-februar-2024-hamburg/
CATEGORIES:Regionalgruppen-Treffen
ATTACH;FMTTYPE=image/png:https://forum-vergabe.de/wp-content/uploads/2023/11/00_RG-Nord-Website-e1708087694850.png
END:VEVENT
BEGIN:VEVENT
DTSTART;TZID=Europe/Berlin:20240221T140000
DTEND;TZID=Europe/Berlin:20240221T173000
DTSTAMP:20260424T165625
CREATED:20230906T154255Z
LAST-MODIFIED:20251215T100402Z
UID:10000212-1708524000-1708536600@forum-vergabe.de
SUMMARY:Treffen des Gesprächskreises Vergaben im Bereich Sozialwesen – Februar 2024 (Berlin)
DESCRIPTION:Inhalt:\n\n\n\n \n\n\n\nZeitenwende auch im Vergaberecht?Berücksichtigung von Nachhaltigkeit bei Vergaben im Sozialwesen\n\n\n\nNachhaltigkeit ist zu Recht in aller Munde und auch im Vergaberecht angekommen. Aber auch in der Vergabepraxis? Und wenn nicht\, was braucht es dann dazu? Während Instrumente wie die Lebenszyklusbetrachtung schon länger Teil des vergaberechtlichen Instrumentenkastens sind\, sprießen nun auf allen Ebenen Leitfäden zu nachhaltiger Beschaffung mit Hilfestellungen und Pflichten. Was heißt das speziell für Vergaben im Sozialwesen? Steckt da die Nachhaltigkeit schon drin oder ist sie ein weiteres Ziel\, das es umzu-setzen gilt? Wir beleuchten Herausforderungen und Chancen nachhaltiger Beschaffung für soziale Auftraggeber und soziale Dienstleistungen. \n\n\n\nProgramm / Ablauf:\n\n\n\n14.00 Uhr BegrüßungRechtsanwältin Kirstin van de Sande Heuking Kühn Lüer Wojtek\, Düsseldorf \n\n\n\n14.10 Uhr Ausschreibung sozialer Dienstleistungen = sozial nachhaltige Ausschreibung? Stellschrauben für die nachhaltige Beschaffung sozialer DienstleistungenDr. Friederike Mußgnug Stellvertretende Leiterin\, Diakonie Deutschland e. V. \n\n\n\n15.00 Uhr Aus der Praxis: Nachhaltigkeit bei SozialvergabenClaus BirkichtBereichsleiter\, Bundesagentur für Arbeit (online) \n\n\n\n \n\n\n\n15.45 Uhr P a u s e \n\n\n\n16.00 Uhr Die AVV Klima – die unbekannte Größe im VergaberechtDr. Kristin StechemesserWissenschaftliche Mitarbeiterin\, Umweltbundesamt \n\n\n\n16.45 Uhr Diskussion und Erfahrungsaustausch mit den Referenten und Teilnehmern \n\n\n\n17.15 Uhr VerabschiedungDr. Eric ZimmermannDozent\, Hochschule der DGUV \n\n\n\n \n\n\n\n \n\n\n\n \n\n\n\nTeilnahme / Kosten:\n\n\n\nNutzen Sie die Gelegenheit\, in Berlin kostenfrei dabei zu sein.  \n\n\n\n \n\n\n\n\n\nODER über E-Mail an:  \n\n\n\n \n\n\n\nFrau Heike Stenzelforum vergabe e.V.E-Mail: info@forum-vergabe.de \n\n\n\n \n\n\n\n\nPDF-Version:\n\n\n\n\n– \n\n\n\n \n\n\n\nVeranstaltungsort:\n\n\n\n \n\n\n\nDiakonie Deutschland Evangelisches Werk für Diakonie und Entwicklung e.V.Caroline-Michaelis-Straße 110115 Berlin \n\n\n\n \n\n\n\nVeranstaltet von:\n\n\n\nGesprächskreis Vergaben im SozialwesenKontakt: Geschäftsstelle forum vergabe e.V.   |   T: +49 (0) 30 23 60 80 60   |   e: info@forum-vergabe.de
URL:https://forum-vergabe.de/veranstaltung/treffen-des-gespraechskreises-vergaben-im-bereich-sozialwesen-november-2023-berlin/
CATEGORIES:Gesprächskreis des forum vergabe
ATTACH;FMTTYPE=image/png:https://forum-vergabe.de/wp-content/uploads/2023/09/00_GK-Sozialwesen-mLogo-und-Schriftzug-legal-e1707220647498.png
END:VEVENT
BEGIN:VEVENT
DTSTART;TZID=Europe/Berlin:20240223T090000
DTEND;TZID=Europe/Berlin:20240223T110000
DTSTAMP:20260424T165625
CREATED:20230815T093825Z
LAST-MODIFIED:20251215T100341Z
UID:10000201-1708678800-1708686000@forum-vergabe.de
SUMMARY:Brennpunkt IT-Vergabe (5/5): IT-Vergabe-Special - Ihre Fragen - unsere Expertentipps
DESCRIPTION:Inhalt:\n\n\n\n\n \n\n\n\nGrundlegende Erfolgsfaktoren und Zukunftsfelder der IT-Vergabe im Fokus \n\n\n\n \n\n\n\nIn einer insgesamt fünfteiligen Veranstaltungsreihe werden verschiedene Aspekte und Besonderheiten der Beschaffung im IT-Bereich dargestellt. Diese Vergaben zeichnen sich oft durch eine besondere technische und wirtschaftliche Komplexität aus. \n\n\n\nDie Veranstaltungsreihe wird maßgeblich gestaltet von Herrn Dr. Moritz Philipp Koch\, IT.NRW – Information und Technik Nordrhein-Westfalen\, und Herrn Syndikusrechtsanwalt Robert Thiele\, Techniker Krankenkasse und Mitglied der AG EVB-IT des IT-Planungsrats. Weitere Referenten sind angefragt. \n\n\n\n \n\n\n\n \n\n\n\nThemenübersicht 23. Februar 2024:\n\n\n\nFolgende Themen stehen im Fokus: \n\n\n\n \n\n\n\n\nZusammenarbeit zwischen Fach- und Vergabebereichen als Erfolgsfaktor für Beschaffungen – Fokus: Erstellung der Leistungsbeschreibung als Herzstück des Vergabeverfahrens\n\n\n\nStart-Up Beschaffungsindex – Anlass & Einordnung in Start-Up-Strategie der Bundesregierung; Aktuelle Indexergebnisse – Entwicklung Beauftragungen an Start-Ups in den letzten Jahren\n\n\n\nExperimentierklausel Hamburg\, Ankündigung Baden-Württemberg\, Empfehlung IT-Planungsrat \n\n\n\nSie Fragen – Wir antworten (mit gemeinsamer Diskussion): Sie können gerne Ihre Fragen vorab einreichen und natürlich auch in der Veranstaltung stellen\n\n\n\n\n \n\n\n\n– Überblick über aktuellste Entwicklungen in der IT-Vergabe Wichtiges \n\n\n\n– Update: Aktuelle Rechtsprechung und Literatur  \n\n\n\n \n\n\n\n \n\n\n\n \n\n\n\nEine 5-teilige Veranstaltungsreihe mit: \n\n\n\n\nVincent Patan   |   Staat-Up e.V. & Berliner Wasserbetriebe AöR \n\n\n\nVincent Patan ist ehrenamtlicher Product Owner im Verein “Staat-Up”. Er implementiert den Start-Up-Beschaffungsindex im Auftrag des Kompetenzzentrum Innovative Beschaffung (KOINNO) bzw. dem BMWK. Im Hauptamt ist er Teamleiter im Einkauf der Berliner Wasserbetriebe AöR. \n\n\n\n\n\nElisabeth Bruhn   |   Statistisches Bundesamt \n\n\n\nElisabeth Bruhn ist als Referentin im Beschaffungsreferat des Statistischen Bundesamts tätig. Sie beschäftigt sich schwerpunktmäßig mit IT-Vergaben im Bereich der Registermodernisierung. \n\n\n\n\n\nRechtsanwalt Dr. Christian Teuber   |   Baker Tilly Rechtsanwaltsgesellschaft mbH; Mitglied im Vorstand der Regionalgruppe Nordrhein-Westfalen des forum vergabe e.V. \n\n\n\nHerr Dr. Teuber ist seit 2008 Rechtsanwalt und zudem Fachanwalt für Vergaberecht. Er verantwortet als (Senior-)Partner der Baker Tilly Rechtsanwaltsgesellschaft mbH standortübergreifend die Leitung des Bereichs Vergaberecht bei Baker Tilly Deutschland. Herr Dr. Teuber hat die Entwicklung des Vergaberechts in gut 25 Jahren wissenschaftlicher und anwaltlicher Berufstätigkeit kontinuierlich begleitet. Der Beratungsschwerpunkt von Herrn Dr. Teuber liegt in der Konzeption\, der Steuerung und der Durchführung öffentlicher Ausschreibungen. Darüber hinaus ist Herr Dr. Teuber auf die Begleitung von Mandanten in vergaberechtlichen Nachprüfungsverfahren spezialisiert. Herr Dr. Teuber ist Mitglied der Leitung der Regionalgruppe NRW des forum vergabe e. V. und Referenz auf verschiedensten vergaberechtlichen Fachveranstaltungen\, u. a. im Fachanwaltslehrgang Vergaberecht. \n\n\n\n\n\nDr. Moritz Philipp Koch   |   IT.NRW – Information und Technik Nordrhein-Westfalen \n\n\n\nDr. Moritz Philipp Koch ist Leiter des Bereichs Sourcing (Vergabe/Vertragsmanagement/Lieferantenmanagement u.a.) beim Landesbetrieb Information und Technik Nordrhein-Westfalen (IT.NRW). Er ist Mitglied der AG EVB-IT des Bundesministeriums des Innern und für Heimat und Lehrbeauftragter (insb. der Hochschule für Polizei und öffentliche Verwaltung NRW). Er leitet zahlreiche Seminare zum Vergaberecht und ist Autor diverser Veröffentlichungen\, insbesondere „Vergaberecht im Zeitalter der Digitalisierung“ (Berliner Wissenschaftsverlag\, 2022). \n\n\n\n\n\n\n\n\n\nÜbersicht der Termine / Veranstaltungsseiten:\n\n\n\n\n \n\n\n\n\n13.10.2023\, 9.00-11.00 Uhr: IT-Leistungsbeschreibungen erfolgreich erstellen \n\n\n\n\n\n23.11.2023\, 9.00-11.00 Uhr: Open-Source-Software erfolgreich beschaffen \n\n\n\n\n\n15.12.2023\, 9.00-11.00 Uhr: Nachhaltigkeitsaspekte bei IT-Vergaben \n\n\n\n\n\n19.01.2024\, 9.00-11.00 Uhr: Schnelle und effiziente Beschaffung von Cloud-Leistungen – Ein Update zum Jahresbeginn \n\n\n\n\n\n23.02.2024\, 9.00-11.00 Uhr: IT-Vergabe-Special – Ihre Fragen – unsere Expertentipps (hier)\n\n\n\n\n\n\n\n\nTeilnahmebeiträge:\n\n\n\n(umsatzsteuerbefreit nach § 4 Nr. 22a UStG) \n\n\n\ninkl. Tagungsunterlageninkl. Fortbildungsnachweis zur Vorlage nach § 15 FAO \n\n\n\n \n\n\n\nMitglieder des forum vergabe e.V.Nichtmitglieder(1)pro Veranstaltung € 100 € 150  Gesamtpaket(5 Termine)€ 450€ 700\n\n\n\n(1) Für Institutionen: Mit unserem kostenfreien Testservice nehmen Sie 3 Monate lang zu Mitgliederkonditionen an unseren Veranstaltungen teil und können alle Leistungen des forum vergabe e.V. nutzen. Die Testphase endet automatisch mit Ablauf der 3 Monate und bedarf keiner Kündigung. ( Testservice-Antrag) \n\n\n\n \n\n\n\n\n\n \n\n\n\n\nPDF-Version:\n\n\n\n\n– \n\n\n\n\nVeranstaltungsort:\n\n\n\n\n\n\n \n\n\n\n \n\n\n\nVeranstaltet von:\n\n\n\nforum vergabe e.V.Geschäftsstelle – Frau Eléonore UnserT: +49 (0) 30 23 60 80 60F: +49 (0) 30 23 60 80 621e: info@forum-vergabe.de
URL:https://forum-vergabe.de/veranstaltung/brennpunkt-it-vergabe-5-5-it-vergabe-special-ihre-fragen-unsere-expertentipps/
LOCATION:Online / Remote
CATEGORIES:Fort-/Weiterbildung,Schulung
ATTACH;FMTTYPE=image/png:https://forum-vergabe.de/wp-content/uploads/2023/08/Reihe_Digitales-Symbol-copyright-forum-vergabe-2023-e1694165295603.png
END:VEVENT
BEGIN:VEVENT
DTSTART;TZID=Europe/Berlin:20240229T090000
DTEND;TZID=Europe/Berlin:20240229T170000
DTSTAMP:20260424T165625
CREATED:20231016T150226Z
LAST-MODIFIED:20251215T100328Z
UID:10000215-1709197200-1709226000@forum-vergabe.de
SUMMARY:Vergaberechtliche Entscheidungen 2023 – EuGH\, nationale Gerichte\, Vergabekammern (Stuttgart)
DESCRIPTION:Inhalt:\n\n\n\n\n \n\n\n\nDie vergaberechtliche Rechtsprechung steht nicht still\, angestoßen von antragstellenden Unternehmen\, die einen Vergabefehler sehen und sich zur Wehr setzen wollen. Für die Allgemeinheit können sich aus dem Verfahren wertvolle Rückschlüsse auf die eigene Vergabepraxis ergeben. \n\n\n\nDie Entscheidungen geben öffentlichen Auftraggebern Hilfestellungen dazu\, welche Gestaltungsmöglichkeiten zulässig sind und welche nicht. Dabei geht es letztlich nicht nur um die oft berufene Rechtssicherheit\, sondern noch mehr um die viel wichtigere Prozesssicherheit für den Weg zu einer wirtschaftlichen Vergabe. \n\n\n\nDen Überblick über alle Entscheidungen zu behalten und die relevanten Entwicklungen zu identifizieren\, ist dem Anwender des Vergaberechts ohne großen Aufwand oft nicht möglich. \n\n\n\nFür diese Veranstaltung werten die Referenten Herr Jörg Wiedemann\, OLG Naumburg\, und Herr Bernhard Fett\, Staatsbetrieb Sächsische Informatik Dienste\, Dresden\, die vergaberechtlichen Entscheidungen des letzten Jahres aus. Sie ordnen die Entscheidungen in vorhandene und neue Trends und Meinungsbilder ein\, systematisch orientiert am Ablauf von Vergabeverfahren und von Vergabenachprüfungsverfahren. So können die Entscheidungen aufgegriffen und in zukünftigen Vergabeverfahren berücksichtigt werden. \n\n\n\nWir weisen darauf hin\, dass die Vorträge zu dieser Veranstaltung nicht folienbasiert gehalten werden.  \n\n\n\n \n\n\n\n \n\n\n\n \n\n\n\nProgramm / Ablauf:\n\n\n\n \n\n\n\n09:00 Uhr BegrüßungProf. Dr. Mark von Wietersheim Geschäftsführer des forum vergabe e.V. \n\n\n\n09:10 Uhr Entscheidungen der Vergabekammern\, Teil 1Bernhard Fett Staatsbetrieb Sächsische Informatik Dienste\, Dresden \n\n\n\n10:40 Uhr Kaffeepause \n\n\n\n11:00 Uhr Entscheidungen der Vergabekammern\, Teil 2Bernhard Fett Staatsbetrieb Sächsische Informatik Dienste\, Dresden \n\n\n\n12:30 Uhr Mittagspause \n\n\n\n 13:30 Uhr Entscheidungen von EuGH und nationalen Gerichten\, Teil 1Jörg Wiedemann Richter am OLG Naumburg \n\n\n\n15:00 Uhr Kaffeepause \n\n\n\n15:30 Uhr Entscheidungen von EuGH und nationalen Gerichten\, Teil 2Jörg WiedemannRichter am OLG Naumburg \n\n\n\n17:00 Uhr Ende der Veranstaltung \n\n\n\n \n\n\n\n\nVortragende:\n\n\n\n\n \n\n\n\n\nJörg Wiedemann | Richter am Oberlandesgericht Naumburg \n\n\n\n\nStudium an der Humboldt-Universität zu Berlin 1987 bis 1991\n\n\n\nReferendariat überwiegend in Münster 1991-1994\n\n\n\nseit 1994 in der Justiz des Landes Sachsen-Anhalt\n\n\n\nseit 1998 am Oberlandesgericht Naumburg tätig\n\n\n\nseit 1999 Zugehörigkeit zum Vergabesenat\, daneben langjährig jeweils u.a. zum\n\n\n\nKartellsenat\, zu einem Zivilsenat mit Spezialzuweisung u.a. für Zivilsachen mit Zusammenhang zu einem Vergabeverfahren bzw. zur Energiewirtschaft; seit 2018 für Bau- und Architektensachen.\n\n\n\nseit 2001 Vortrags- und Seminartätigkeit im Vergaberecht\n\n\n\nFachaufsätze in ZfBR und Vergaberecht\, Mitautor von Röwekamp/Kus/Portz/Prieß\, GWB 5. Aufl. 2020\, Röwekamp/Kus/Marx/Portz/Prieß\, VgV\, 2. Aufl. 2022\, Röwekamp/Portz/Friton\, UVgO\, 2. Aufl. 2023\, und Byok/Jaeger\, Vergaberecht\, 4. Aufl. 2018\n\n\n\n\n\n\nBernhard Fett | Leitender Regierungsdirektor\, Staatsbetrieb Sächsische Informatik Dienste \n\n\n\n\nStudium der Rechtswissenschaft in Mannheim und MünsterAss. Jur.\n\n\n\n1996-2005 Vorsitzender des Vergabeüberwachungsausschusses und der 1. Vergabekammer des Freistaates Sachsen beim Regierungspräsidium/Landesdirektion in Leipzig;\n\n\n\n2006-2015 Zentrale Vergabestelle im Sächsischen Staatsministerium des Innern in Dresden;\n\n\n\nseit 2015 beim SID in Dresden\, jetzt Radebeul\n\n\n\nMitkommentator\, u.a. in Müller-Wrede VOL/A-Kommentar; Willenbruch/Wieddekind\, Vergaberecht Kompaktkommentar\, 1.-3. Aufl.; Beck Online-Kommentar GWB und VgV; Byok/Jaeger\, Vergaberecht\, 4. Aufl. 2018; Münchener Kommentar zum Europäischen und deutschen Wettbewerbsrecht\, Band 3: Vergaberecht I\, 2022 und Band 4: Vergaberecht II\, 2022.\n\n\n\nSeit 1998 Dozent für Vergaberecht an der Akademie für öffentliche Verwaltung\, nunmehrige Fachhochschule für öffentliche Verwaltung und Rechtspflege\, in Meißen.\n\n\n\n\n\n \n\n\n\n \n\n\n\n\nÜbersicht der Termine / Veranstaltungsseiten:\n\n\n\n\n \n\n\n\n\n29.02.2024 in Stuttgart \n\n\n\n14.03.2024 in Hannover\n\n\n\n21.03.2024 als Webinar\n\n\n\n\n \n\n\n\n \n\n\n\nTeilnahmebeiträge:\n\n\n\n(umsatzsteuerbefreit nach § 4 Nr. 22a UStG) \n\n\n\ninkl. Tagungsunterlageninkl. Verpflegunginkl. Fortbildungsnachweis zur Vorlage nach § 15 FAO \n\n\n\n \n\n\n\n \n\n\n\n€ 360 für Nicht-Mitglieder (1)€ 300 für Mitglieder des forum vergabe e.V.€   50 für Student*innen\, Referendare\, Promovierende \n\n\n\nFür Institutionen: Mit unserem kostenfreien Testservice nehmen Sie 3 Monate lang zu Mitgliederkonditionen an unseren Veranstaltungen teil und können alle Leistungen des forum vergabe e.V. nutzen. Die Testphase endet automatisch mit Ablauf der 3 Monate und bedarf keiner Kündigung. ( Testservice-Antrag) \n\n\n\n \n\n\n\n\n\n\n\n\n\n \n\n\n\n\nPDF-Version:\n\n\n\n\n– \n\n\n\n \n\n\n\n \n\n\n\n\nVeranstaltungsort:\n\n\n\n\nIHK – Region StuttgartJägerstraße 3070174 StuttgartDeutschland \n\n\n\n \n\n\n\n\nVorbereitung / zusätzliche Informationen:\n\n\n\n\nNach Eingang der Anmeldung erhalten Sie eine Anmeldebestätigung und eine Rechnung. Bitte beachten Sie\, dass Ihre Anmeldung erst durch diese Bestätigung Gültigkeit erlangt. Es kann jederzeit ein Ersatzteilnehmer gestellt werden. Die Absage bedarf der Schriftform. \n\n\n\nBei Absagen nach dem 16.02.2024 wird der Tagungsbeitrag abzüglich eines Kostenbeitrages in Höhe von € 50\,- erstattet. Bei Absagen nach dem 08.03.2024 wird der Beitrag in voller Höhe fällig. \n\n\n\nÄnderungen des Programms sowie eine Absage bei zu geringer Teilnehmerzahl behalten wir uns vor. \n\n\n\n \n\n\n\n \n\n\n\nVeranstaltet von:\n\n\n\nforum vergabe e.V.Geschäftsstelle – Frau Heike StenzelT: +49 (0) 30 23 60 80 60F: +49 (0) 30 23 60 80 621e: info@forum-vergabe.de
URL:https://forum-vergabe.de/veranstaltung/vergaberechtliche-entscheidungen-2023-eugh-nationale-gerichte-vergabekammern-stuttgart/
ATTACH;FMTTYPE=image/jpeg:https://forum-vergabe.de/wp-content/uploads/2023/08/00_Vergaberechtliche-Entscheidungen-20xx-e1691059512206.jpg
END:VEVENT
END:VCALENDAR