BEGIN:VCALENDAR
VERSION:2.0
PRODID:-//forum vergabe - ECPv6.15.18//NONSGML v1.0//EN
CALSCALE:GREGORIAN
METHOD:PUBLISH
X-ORIGINAL-URL:https://forum-vergabe.de
X-WR-CALDESC:Veranstaltungen für forum vergabe
REFRESH-INTERVAL;VALUE=DURATION:PT1H
X-Robots-Tag:noindex
X-PUBLISHED-TTL:PT1H
BEGIN:VTIMEZONE
TZID:Europe/Berlin
BEGIN:DAYLIGHT
TZOFFSETFROM:+0100
TZOFFSETTO:+0200
TZNAME:CEST
DTSTART:20170326T010000
END:DAYLIGHT
BEGIN:STANDARD
TZOFFSETFROM:+0200
TZOFFSETTO:+0100
TZNAME:CET
DTSTART:20171029T010000
END:STANDARD
BEGIN:DAYLIGHT
TZOFFSETFROM:+0100
TZOFFSETTO:+0200
TZNAME:CEST
DTSTART:20180325T010000
END:DAYLIGHT
BEGIN:STANDARD
TZOFFSETFROM:+0200
TZOFFSETTO:+0100
TZNAME:CET
DTSTART:20181028T010000
END:STANDARD
BEGIN:DAYLIGHT
TZOFFSETFROM:+0100
TZOFFSETTO:+0200
TZNAME:CEST
DTSTART:20190331T010000
END:DAYLIGHT
BEGIN:STANDARD
TZOFFSETFROM:+0200
TZOFFSETTO:+0100
TZNAME:CET
DTSTART:20191027T010000
END:STANDARD
BEGIN:DAYLIGHT
TZOFFSETFROM:+0100
TZOFFSETTO:+0200
TZNAME:CEST
DTSTART:20200329T010000
END:DAYLIGHT
BEGIN:STANDARD
TZOFFSETFROM:+0200
TZOFFSETTO:+0100
TZNAME:CET
DTSTART:20201025T010000
END:STANDARD
BEGIN:DAYLIGHT
TZOFFSETFROM:+0100
TZOFFSETTO:+0200
TZNAME:CEST
DTSTART:20210328T010000
END:DAYLIGHT
BEGIN:STANDARD
TZOFFSETFROM:+0200
TZOFFSETTO:+0100
TZNAME:CET
DTSTART:20211031T010000
END:STANDARD
BEGIN:DAYLIGHT
TZOFFSETFROM:+0100
TZOFFSETTO:+0200
TZNAME:CEST
DTSTART:20220327T010000
END:DAYLIGHT
BEGIN:STANDARD
TZOFFSETFROM:+0200
TZOFFSETTO:+0100
TZNAME:CET
DTSTART:20221030T010000
END:STANDARD
BEGIN:DAYLIGHT
TZOFFSETFROM:+0100
TZOFFSETTO:+0200
TZNAME:CEST
DTSTART:20230326T010000
END:DAYLIGHT
BEGIN:STANDARD
TZOFFSETFROM:+0200
TZOFFSETTO:+0100
TZNAME:CET
DTSTART:20231029T010000
END:STANDARD
END:VTIMEZONE
BEGIN:VEVENT
DTSTART;TZID=Europe/Berlin:20221129T180000
DTEND;TZID=Europe/Berlin:20221129T200000
DTSTAMP:20260425T234528
CREATED:20221021T072149Z
LAST-MODIFIED:20251215T094846Z
UID:10000060-1669744800-1669752000@forum-vergabe.de
SUMMARY:Treffen der Regionalgruppe Südwest - November 2022 (Frankfurt am Main)
DESCRIPTION:Sehr geehrte Damen und Herren\, \n\n\n\nnach zweieinhalb Jahren Corona melden wir uns jetzt wieder. Unsere Herbstsitzung 2022 der Regionalgruppe Südwest forum vergabe e.V. findet statt am \n\n\n\n29. November 2022\, um 18:00 Uhr. \n\n\n\nGastgeber an diesem Abend wird Herr Rechtsanwalt Dr. Kai-Uwe Schneevogl sein\, und zwar bei der \n\n\n\nGÖRG Partnerschaft von Rechtsanwälten 4bB\,Ulmenstraße 300 60325 Frankfurt am Main \n\n\n\nDie Einladung mit Tagesordnung\, sowie das Anmeldeformular und die Anfahrtsskizze finden Sie weiter unten auf dieser Seite. \n\n\n\nMit freundlichen Grüßen\,  \n\n\n\nDr. Hans von Gehlen\, RechtsanwaltDr. Kai-Uwe Schneevogl\, RechtsanwaltDr. Sandra Sang M.B.L.T.\, Rechtsanwältin
URL:https://forum-vergabe.de/veranstaltung/save-the-date-treffen-der-regionalgruppe-suedwest/
LOCATION:GÖRG Partnerschaft von Rechtsanwälten mbB\, Ulmenstraße 30\, Frankfurt am Main\, 60325\, Deutschland
CATEGORIES:Regionalgruppen-Treffen
ATTACH;FMTTYPE=image/png:https://forum-vergabe.de/wp-content/uploads/2023/11/00_RG-Suedwest-Website-e1708087919151.png
END:VEVENT
BEGIN:VEVENT
DTSTART;TZID=Europe/Berlin:20190912T180000
DTEND;TZID=Europe/Berlin:20190912T193000
DTSTAMP:20260425T234528
CREATED:20230125T092845Z
LAST-MODIFIED:20251215T093343Z
UID:10000130-1568311200-1568316600@forum-vergabe.de
SUMMARY:Treffen der Regionalgruppe Südwest - September 2019 (Frankfurt am Main)
DESCRIPTION:Das nächste Treffen der Regionalgruppe Südwest findet am 12.09.2019 in Frankfurt am Main statt. Gastgeber ist die Kanzlei GÖHMANN. Herr Rechtsanwalt Dr. Martin Kraushaar\, Architektenkammer Hessen\, Wiesbaden wird auf die Entscheidung des EuGH zur Europarechtswidrigkeit der HOAI und die sich heraus ergebenden Konsequenzen eingehen. Herr Rechtsanwalt Dr. Wiland Tresselt\, GÖHMANN Rechtsanwälte Abogados Advokat Steuerberater Partnerschaft mbB\, wird Aktuelles zur E-Vergabe berichten. Frau Rechtsanwältin Dr. Sandra Sang M.B.L.T.\, Deutsche Bahn AG\, wird zu dem vergaberechtlich richtigen Umgang mit Vertragsänderungen vortragen.Die Regionalgruppe Südwest wird geleitet von Herrn Rechtsanwalt Dr. Horn\, Görg\, Frau Dr. Sang\, Deutsche Bahn AG\, und Herrn Rechtsanwalt Dr. von Gehlen\, Beiten Burkhardt.
URL:https://forum-vergabe.de/veranstaltung/treffen-der-regionalgruppe-suedwest-september-2019-frankfurt-am-main/
CATEGORIES:Regionalgruppen-Treffen
ATTACH;FMTTYPE=image/png:https://forum-vergabe.de/wp-content/uploads/2023/11/00_RG-Suedwest-Website-e1708087919151.png
END:VEVENT
BEGIN:VEVENT
DTSTART;TZID=Europe/Berlin:20190314T180000
DTEND;TZID=Europe/Berlin:20190314T193000
DTSTAMP:20260425T234528
CREATED:20230125T140005Z
LAST-MODIFIED:20240828T093517Z
UID:10000144-1552586400-1552591800@forum-vergabe.de
SUMMARY:Treffen der Regionalgruppe Südwest - März 2019 (Frankfurt am Main)
DESCRIPTION:Das nächste Treffen der Regionalgruppe Südwest findet am 14.03.2019 um 18.00 Uhr in Frankfurt a.M. statt. Gastgeber ist die Kanzlei Allen & Overy. \n\n\n\nHerr Rechtsanwalt Christopher Theis\, Beiten Burkhardt\, wird zum Thema „Querschnittsbereich Beihilfenrecht zum Vergaberecht“ vortragen. Herr Rechtsanwalt Dr. Udo Olgemöller\, Allen & Overy\, wird auf „Staatliche Verteilungsentscheidung jenseits des Vergaberechts“ eingehen. Frau Dr. Irene Lausen\, Hessisches Ministerium für Wirtschaft\, Verkehr und Landesentwicklung\, stellt „Vergaberechtliche Entwicklungen zum Vergaberecht in Hessen“ vor. \n\n\n\nDie Regionalgruppe Südwest wird geleitet von Herrn Rechtsanwalt Dr. Horn (GÖRG)\, Frau Dr. Sang (Deutsche Bahn AG) und Herrn Rechtsanwalt Dr. von Gehlen (Beiten Burkhardt).
URL:https://forum-vergabe.de/veranstaltung/treffen-der-regionalgruppe-suedwest-maerz-2019-frankfurt-am-main/
CATEGORIES:Regionalgruppen-Treffen
ATTACH;FMTTYPE=image/png:https://forum-vergabe.de/wp-content/uploads/2023/11/00_RG-Suedwest-Website-e1708087919151.png
END:VEVENT
BEGIN:VEVENT
DTSTART;TZID=Europe/Berlin:20180315T180000
DTEND;TZID=Europe/Berlin:20180315T193000
DTSTAMP:20260425T234528
CREATED:20230126T160609Z
LAST-MODIFIED:20251215T092930Z
UID:10000156-1521136800-1521142200@forum-vergabe.de
SUMMARY:Treffen der Regionalgruppe Südwest - März 2018 (Frankfurt am Main)
DESCRIPTION:Das nächste Treffen der Regionalgruppe Südwest findet am 15.03.2018 ab 18:00 Uhr in Frankfurt am Main statt. Gastgeber ist die Deutsche Bahn AG. \n\n\n\nNach einer Begrüßung durch den Gastgeber wird Herr Rechtsanwalt Prof. Wolfgang Trautner\, HEUSSEN Rechtsanwälte (angefragt)\, einen aktuellen Überblick über den Stand des Vergaberechts geben. Zur „Vergabe von öffentlichen Personenverkehrsleistungen nach der VO Nr. 1370/2007 – Neuerungen nach der Novellierung“\, wird Herr Rechtsanwalt Dr. Benjamin Linke\, Deutsche Bahn AG\, referieren. Herr Hermann Summa\, OLG Koblenz\, nimmt sich dem Thema „Die Konzessionen im Sinne des Vergaberechts“ an. \n\n\n\nDie Regionalgruppe Südwest wird geleitet von Herrn Dr. Hans von Gehlen\, Beiten Burkhardt Rechtsanwaltsgesellschaft mbH; Herrn Dr. Lutz Horn\, GÖRG Partnerschaft von Rechtsanwälten mbB und Frau Dr. Sandra Sang M.B.L.T.\, Deutsche Bahn AG.
URL:https://forum-vergabe.de/veranstaltung/treffen-der-regionalgruppe-suedwest-maerz-2018-frankfurt-am-main/
CATEGORIES:Regionalgruppen-Treffen
ATTACH;FMTTYPE=image/png:https://forum-vergabe.de/wp-content/uploads/2023/11/00_RG-Suedwest-Website-e1708087919151.png
END:VEVENT
END:VCALENDAR