BEGIN:VCALENDAR
VERSION:2.0
PRODID:-//forum vergabe - ECPv6.15.18//NONSGML v1.0//EN
CALSCALE:GREGORIAN
METHOD:PUBLISH
X-ORIGINAL-URL:https://forum-vergabe.de
X-WR-CALDESC:Veranstaltungen für forum vergabe
REFRESH-INTERVAL;VALUE=DURATION:PT1H
X-Robots-Tag:noindex
X-PUBLISHED-TTL:PT1H
BEGIN:VTIMEZONE
TZID:Europe/Berlin
BEGIN:DAYLIGHT
TZOFFSETFROM:+0100
TZOFFSETTO:+0200
TZNAME:CEST
DTSTART:20210328T010000
END:DAYLIGHT
BEGIN:STANDARD
TZOFFSETFROM:+0200
TZOFFSETTO:+0100
TZNAME:CET
DTSTART:20211031T010000
END:STANDARD
BEGIN:DAYLIGHT
TZOFFSETFROM:+0100
TZOFFSETTO:+0200
TZNAME:CEST
DTSTART:20220327T010000
END:DAYLIGHT
BEGIN:STANDARD
TZOFFSETFROM:+0200
TZOFFSETTO:+0100
TZNAME:CET
DTSTART:20221030T010000
END:STANDARD
BEGIN:DAYLIGHT
TZOFFSETFROM:+0100
TZOFFSETTO:+0200
TZNAME:CEST
DTSTART:20230326T010000
END:DAYLIGHT
BEGIN:STANDARD
TZOFFSETFROM:+0200
TZOFFSETTO:+0100
TZNAME:CET
DTSTART:20231029T010000
END:STANDARD
BEGIN:DAYLIGHT
TZOFFSETFROM:+0100
TZOFFSETTO:+0200
TZNAME:CEST
DTSTART:20240331T010000
END:DAYLIGHT
BEGIN:STANDARD
TZOFFSETFROM:+0200
TZOFFSETTO:+0100
TZNAME:CET
DTSTART:20241027T010000
END:STANDARD
BEGIN:DAYLIGHT
TZOFFSETFROM:+0100
TZOFFSETTO:+0200
TZNAME:CEST
DTSTART:20250330T010000
END:DAYLIGHT
BEGIN:STANDARD
TZOFFSETFROM:+0200
TZOFFSETTO:+0100
TZNAME:CET
DTSTART:20251026T010000
END:STANDARD
END:VTIMEZONE
BEGIN:VEVENT
DTSTART;TZID=Europe/Berlin:20240125T160000
DTEND;TZID=Europe/Berlin:20240125T173000
DTSTAMP:20260423T081159
CREATED:20231213T112438Z
LAST-MODIFIED:20251215T100016Z
UID:10000228-1706198400-1706203800@forum-vergabe.de
SUMMARY:Treffen des Gesprächskreises Digitale Transformation (online)
DESCRIPTION:Öffentlicher Einkauf in der Digitalen Transformation: Welche Kompetenzen braucht es und wie können diese aufgebaut werden?\n\n\n\n\n\n\nInhalt:\n\n\n\n\nDie Beschaffungsstellen nehmen als Einkaufsdienstleister eine wichtige Rolle bei der digitalen Transformation der öffentlichen Verwaltung ein. Eine erfolgreiche Beschaffung im Digitalsektor scheint inzwischen ohne tiefgehendes fachliches Know-How der Beschaffenden kaum erreichbar zu sein. Wir diskutieren\, welche fachliche Kompetenz im Beschaffungsprozess erfoderlich sind und wie diese zusammenwirken können. \n\n\n\nUnter der Leitung von Herrn Felix Zimmermann\, BMI\, und Herrn Robert Thiele\, TK\, und in offener Atmosphäre verbindet dieser Gesprächskreis die Akteure mit neuen Formaten und Methoden\, und gibt Raum für den Praxisdialog. \n\n\n\nOrt: Meetup per Zoom \n\n\n\n\nVortragende:\n\n\n\n\nWir freuen uns auf die Mitwirkung von Frau Juliane Lange\, Abteilungsleiterin Zentralstelle IT-Beschaffung im Beschaffungsamt des BMI. \n\n\n\n \n\n\n\nLeitung des Gesprächkreises Digitale Transformation : \n\n\n\n \n\n\n\n\nFelix Zimmermann Referatsleiter Bundesministerium des Inneren und Heimat\, Vorstandsmitglied forum vergabe e.V.\n\n\n\nRobert ThieleSyndikusanwalt Techniker Krankenkasse\, Mitglied der AG EVB-IT des BMI\n\n\n\n\n \n\n\n\nTeilnahmebeiträge:\n\n\n\nBeitrag: Kostenfrei. \n\n\n\nAnmeldung / Teilnahme: Als Mitglied des forum vergabe e.V. erhalten Sie eine persönliche Einladung. Nichtmitglieder können sich bei Interesse an dieser Veranstaltung gern an die Geschäftsstelle wenden. \n\n\n\n \n\n\n\n\n\nFortbildungsbescheinigung: Keine.    \n\n\n\n\nPDF-Version:\n\n\n\n\n–
URL:https://forum-vergabe.de/veranstaltung/treffen-des-gespraechskreises-digitale-transformation-online/
LOCATION:Online / Remote
CATEGORIES:Gesprächskreis des forum vergabe
ATTACH;FMTTYPE=image/png:https://forum-vergabe.de/wp-content/uploads/2023/12/00_GK-Digitale-Transformation-mLogo-und-Schriftzug-legal-e1707216707553.png
ORGANIZER;CN="Gespr%C3%A4chskreis Digitale Transformation - Gesch%C3%A4ftsstelle forum vergabe e.V.":MAILTO:info@forum-vergabe.de
END:VEVENT
BEGIN:VEVENT
DTSTART;TZID=Europe/Berlin:20230427T150000
DTEND;TZID=Europe/Berlin:20230427T163000
DTSTAMP:20260423T081159
CREATED:20230406T050607Z
LAST-MODIFIED:20240828T101743Z
UID:10000180-1682607600-1682613000@forum-vergabe.de
SUMMARY:"Vorhang auf für eForms – was bringt’s dem öffentlichen Einkauf?" - Gesprächskreis Digitale Transformation (Zoom)
DESCRIPTION:Noch in diesem Jahr wird mit eForms eine neue Datenarchitektur im öffentlichen Einkauf eingeführt. Derzeit erfolgen Bekanntmachungen noch über eine Vielzahl von Vergabeplattformen\, die i.d.R. nicht interoperabel sind. Wird Open Data mit eForms zum Erfolgsfaktor für den öffentlichen Einkauf oder haben wir es mit einem weiteren bürokratischen Hemmnis zu tun? \n\n\n\nLassen Sie uns das Thema gemeinsam diskutieren mit: \n\n\n\n \n\n\n\n\nSimone TerbrackReferentin im BMWK\n\n\n\nAnna DopatkaLeitung Koordinierungsstelle für IT-Standards (KoSIT)\n\n\n\nMarc Christopher Schmidt Policy Officer and E-Procurement Expert\, DG Grow\, EU Kommission\n\n\n\nChristian BaltesVorstand Administration Intelligence (AI)\n\n\n\nManuel KilianFounder/CEO GovMind\n\n\n\n\n \n\n\n\nOrt: über Zoom (Die Einwahldaten werden Ihnen nach Ihrer Anmeldung von der Geschäftsstelle zugesendet) \n\n\n\nTeilnahmebeitrag: Kostenfrei. \n\n\n\nFortbildungsbescheinigung: Keine.   \n\n\n\nLeitung des Gesprächkreises Digitale Transformation : \n\n\n\n \n\n\n\n\nFelix ZimmmermannBundesministerium des Innern und für Heimat\, Leiter AG DGI5 “Öffentliches Auftragswesen\, Digitalisierung des öffentlichen Einkaufs”;Vorstandsmitglied des forum vergabe e.V.\n\n\n\nRobert ThieleTechniker Krankenkasse\, Rechtsanwalt (Syndikusanwalt); Mitglied der Arbeitsgemeinschaft EVB-IT des IT-Planungsrats s IT-Planungsrats\n\n\n\n\nWir freuen uns auf Ihre Teilnahme!
URL:https://forum-vergabe.de/veranstaltung/vorhang-auf-fuer-eforms-was-bringts-dem-oeffentlichen-einkauf-gespraechskreis-digitale-transformation-meetup/
LOCATION:Online / Remote
CATEGORIES:Gesprächskreis des forum vergabe
ATTACH;FMTTYPE=image/png:https://forum-vergabe.de/wp-content/uploads/2023/12/00_GK-Digitale-Transformation-mLogo-und-Schriftzug-legal-e1707216707553.png
ORGANIZER;CN="Gespr%C3%A4chskreis Digitale Transformation - Gesch%C3%A4ftsstelle forum vergabe e.V.":MAILTO:info@forum-vergabe.de
END:VEVENT
BEGIN:VEVENT
DTSTART;TZID=Europe/Berlin:20220908T160000
DTEND;TZID=Europe/Berlin:20220908T173000
DTSTAMP:20260423T081159
CREATED:20220825T071419Z
LAST-MODIFIED:20240828T093955Z
UID:10000044-1662652800-1662658200@forum-vergabe.de
SUMMARY:Cloud-Einkauf für die Verwaltung nur noch ohne Drittstaaten-Bezug? - Gesprächskreis Digitale Transformation (meetup)
DESCRIPTION:Die Entscheidung der VK Baden-Württemberg vom 13.07.2022 (Az. 1 VK 23/22) als Bremse der digitalen Transformation oder Beginn einer überfälligen Klärung? \n\n\n\n\n\nOrt: über Zoom (Die Einladung mit den Einwahldaten ist an die Mitglieder [Hauptansprechpartner*innen] versendet worden) . \n\n\n\nSelten erregt ein Vergabekammerbeschluss so viel mediale Aufmerksamkeit wie dieser. Gemeinsam mit betroffenen Stakeholdern und Ihnen möchten wir die Entscheidung und ihre ihre Auswirkungen auf den öffentlichen Einkauf\, die Digitalwirtschaft sowie die digitale Transformation der Verwaltung diskutieren. Wir freuen uns auf Sie und auf: \n\n\n\n \n\n\n\n\nStephan SchuldtGRUENDELPARTNER\, Rechtsanwalt und Vertreter der Antragsstellerin\n\n\n\nSven Oliver Petersen LDI Landesbeauftragte für Datenschutz und Informationsfreihet NRW\, Referent\n\n\n\n Jeniffer SchultzZentralstelle IT-Beschaffung im Beschaffungsamt des BMI\, Referatsleiterin\n\n\n\nCornelius KopkeGoogle\, Legal Counsel\, Rechtsanwalt (Syndikusanwalt)\n\n\n\nWerner HöllriglOracle\, Technology Cloud Business Execution Leader EMEA North East\n\n\n\n\nAnmeldung / Teilnahme: Als Mitglied des forum vergabe e.V. erhalten Sie eine persönliche Einladung. Nichtmitglieder können sich bei Interesse an dieser Veranstaltung gern an die Geschäftsstelle wenden. \n\n\n\nEine Anmeldung ist nicht notwendig. Mit dem in der Einladung mitgeteilten Zoom-Link können Sie der Veranstaltung direkt beitreten.  \n\n\n\nTeilnahmebeitrag: Kostenlos. \n\n\n\nFortbildungsbescheinigung: Keine.    \n\n\n\nLeitung des Gesprächkreises Digitale Transformation : \n\n\n\n\n\n \n\n\n\n\n\n\nFelix Zimmmermann Referatsleiter Bundesministerium des Inneren und Heimat\, Vorstandsmitglied forum vergabe e.V.\n\n\n\nRobert ThieleSyndikusanwalt Techniker Krankenkasse\, Mitglied der AG EVB-IT des BMI\n\n\n\n\nWir freuen uns auf Ihre Teilnahme!
URL:https://forum-vergabe.de/veranstaltung/cloud-nur-noch-ohne-drittstaatbezug-gespraechskreis-digitale-transformation/
CATEGORIES:Gesprächskreis des forum vergabe
ATTACH;FMTTYPE=image/png:https://forum-vergabe.de/wp-content/uploads/2023/12/00_GK-Digitale-Transformation-mLogo-und-Schriftzug-legal-e1707216707553.png
ORGANIZER;CN="Gespr%C3%A4chskreis Digitale Transformation - Gesch%C3%A4ftsstelle forum vergabe e.V.":MAILTO:info@forum-vergabe.de
END:VEVENT
END:VCALENDAR